{"text_format":"1","workbook":"xlsx","n_sheets":5,"sheets":["①初期設定","②年間カレンダー","③固定残業代試算","注意事項","マスター"],"not_rendered":{"charts":0,"images":1,"macros":1,"external_links":1,"defined_names":4,"comments":1,"pivot_tables":0},"unopened":[],"bounds":{"document_bytes":16777216,"sheet_cells":100000,"rows_first":2000,"rows_last":500,"rows_between":2000,"halvings":0,"cell_chars":16384,"cell_head_chars":4096},"cells_cut":0,"cells_raw":0,"read":"whole","date_system":"1900"}

{"sheet":"①初期設定","index":0,"n_rows":34,"n_cols":19,"rows_kept":34,"cut":false,"hidden":false,"merged":[[3,3,3,6],[10,3,10,4],[22,10,22,11],[14,18,14,29],[18,18,18,29]]}
[]
[null,null,null,null,null,null,null,null,null,null,null,null,null,"【参考】"]
[null,null,"１．事業所の種類",null,null,null,null,null,null,null,null,null,null,null,{"$f":"C3","v":"１．事業所の種類"}]
[null,null,null,"一般",null,null,null,null,null,null,null,null,null,null,null,"特例措置対象事業場とは、次に掲げる業種に該当する常時10人未満の労働者を使用する事業場をいいます。"]
[null,null,null,null,null,null,null,null,null,null,null,null,null,null,null,"商業",null,"卸売業、小売業、理美容業、倉庫業、その他の商業"]
[null,null,null,null,null,null,null,null,null,null,null,null,null,null,null,"映画・演劇業",null,"映画の映写、演劇、その他興業の事業"]
[null,null,null,null,null,null,null,null,null,null,null,null,null,null,null,"保健衛生業",null,"病院、診療所、社会福祉施設、浴場業、その他の保健衛生業"]
[null,null,null,null,null,null,null,null,null,null,null,null,null,null,null,"接客娯楽業",null,"旅館、飲食店、ゴルフ場、公園・遊園地、その他の接客娯楽業"]
[]
[null,null,"２．変形労働時間制",null,null,null,null,null,null,null,null,null,null,null,{"$f":"C10","v":"２．変形労働時間制"}]
[null,null,null,"適用なし",null,null,{"$f":"IF($D$11=\"１年変形\",\"連続労働日数などのチェック機能はありませんのでご注意ください。\",\"\")","v":""},null,null,null,null,null,null,null,null,"適用なし",null,"・原則：１日８時間、１週４０時間（特例措置対象事業場は１週４４時間）"]
[null,null,null,null,null,null,null,null,null,null,null,null,null,null,null,"１カ月変形",null,"・１カ月の１週平均労働時間が４０時間以内（特例措置対象事業場は１週平均労働時間が４４時間以内）"]
[null,null,null,null,null,null,null,null,null,null,null,null,null,null,null,null,null,"・各週、各日の始業、終業時刻が定められていれば、特定の日の勤務時間に制限はありません。"]
[null,null,null,null,null,null,null,null,null,null,null,null,null,null,null,null,null,"・その他の要件はこちらをご覧ください。"]
[null,null,null,null,null,null,null,null,null,null,null,null,null,null,null,null,null,null,"http://www.synergistic.co.jp/１カ月単位の変形労働時間制/"]
[null,null,null,null,null,null,null,null,null,null,null,null,null,null,null,"１年変形",null,"・対象期間の１週平均労働時間が４０時間以内（※特例措置対象事業場も同様）"]
[null,null,null,null,null,null,null,null,null,null,null,null,null,null,null,null,null,"・１日の労働時間の限度は１０時間、１週間の労働時間の限度は５２時間です。"]
[null,null,null,null,null,null,null,null,null,null,null,null,null,null,null,null,null,"・その他の要件はこちらをご覧ください。"]
[null,null,null,null,null,null,null,null,null,null,null,null,null,null,null,null,null,null,"http://www.synergistic.co.jp/１年単位の変形労働時間制/"]
[null,null,null,null,null,null,null,null,null,null,null,null,null,null,null,"※ １カ月単位や１年単位の変形労働時間制の導入をお考えの場合は、弊社までご相談ください。"]
[]
[null,null,"３．開始年月日と週の起算日の入力",null,null,null,"（2021/12/31始まりまで対応）",null,null,null,null,null,null,null,{"$f":"C22","v":"３．開始年月日と週の起算日の入力"}]
[null,null,null,2021,"年",1,"月",1,"日","日","曜日始まり",null,null,null,null,"・賃金計算期間の初日からなど、任意の日から開始可能です。"]
[null,null,null,null,null,null,null,null,null,null,null,null,null,null,null,"・特段の定めが無い場合、週の起算日は日曜日になります。"]
[null,null,null,null,null,null,null,null,null,null,null,null,null,null,null,"・日曜日以外に週の起算日を設定するメリットがある事業場もあります。"]
[null,null,null,null,null,null,null,null,null,null,null,null,null,null,null,"・週の起算日を変更すると、それに合わせて次の４．所定労働時間の入力セルが変化しますのでご注意ください。"]
[]
[null,null,"４．所定労働時間の入力",null,null,null,null,null,null,null,null,null,null,null,{"$f":"C28","v":"４．所定労働時間の入力"}]
[null,null,null,{"$f":"IF(VLOOKUP($J$23,②年間カレンダー!$AM$21:$AN$27,2,FALSE)=1,\"日\",IF(VLOOKUP($J$23,②年間カレンダー!$AM$21:$AN$27,2,FALSE)=2,\"月\",IF(VLOOKUP($J$23,②年間カレンダー!$AM$21:$AN$27,2,FALSE)=3,\"火\",IF(VLOOKUP($J$23,②年間カレンダー!$AM$21:$AN$27,2,FALSE)=4,\"水\",IF(VLOOKUP($J$23,②年間カレンダー!$AM$21:$AN$27,2,FALSE)=5,\"木\",IF(VLOOKUP($J$23,②年間カレンダー!$AM$21:$AN$27,2,FALSE)=6,\"金\",\"土\"))))))","v":"日"},{"$f":"VLOOKUP(VLOOKUP(②年間カレンダー!D$7,②年間カレンダー!$AM$21:$AN$27,2,FALSE)+1,②年間カレンダー!$AN$21:$AO$34,2,FALSE)","v":"月"},{"$f":"VLOOKUP(VLOOKUP(②年間カレンダー!E$7,②年間カレンダー!$AM$21:$AN$27,2,FALSE)+1,②年間カレンダー!$AN$21:$AO$34,2,FALSE)","v":"火"},{"$f":"VLOOKUP(VLOOKUP(②年間カレンダー!F$7,②年間カレンダー!$AM$21:$AN$27,2,FALSE)+1,②年間カレンダー!$AN$21:$AO$34,2,FALSE)","v":"水"},{"$f":"VLOOKUP(VLOOKUP(②年間カレンダー!G$7,②年間カレンダー!$AM$21:$AN$27,2,FALSE)+1,②年間カレンダー!$AN$21:$AO$34,2,FALSE)","v":"木"},{"$f":"VLOOKUP(VLOOKUP(②年間カレンダー!H$7,②年間カレンダー!$AM$21:$AN$27,2,FALSE)+1,②年間カレンダー!$AN$21:$AO$34,2,FALSE)","v":"金"},{"$f":"VLOOKUP(VLOOKUP(②年間カレンダー!I$7,②年間カレンダー!$AM$21:$AN$27,2,FALSE)+1,②年間カレンダー!$AN$21:$AO$34,2,FALSE)","v":"土"},null,null,null,null,null,"・水曜休診のクリニックや土曜日半日出勤など、各曜日ごとに所定労働時間の設定が可能です。"]
[null,null,null,0.33333333333333331,0.33333333333333331,0.33333333333333331,0.33333333333333331,0.33333333333333331,0.33333333333333331,0.33333333333333331]
[null,null,null,{"$f":"IF($D$11=\"１年変形\",IF(D30*24>10,\"10時間超\",\"\"),IF($D$11=\"適用なし\",IF(D30*24>8,\"8時間超\",\"\"),\"\"))","v":""},{"$f":"IF($D$11=\"１年変形\",IF(E30*24>10,\"10時間超\",\"\"),IF($D$11=\"適用なし\",IF(E30*24>8,\"8時間超\",\"\"),\"\"))","v":""},{"$f":"IF($D$11=\"１年変形\",IF(F30*24>10,\"10時間超\",\"\"),IF($D$11=\"適用なし\",IF(F30*24>8,\"8時間超\",\"\"),\"\"))","v":""},"","","",""]
[null,null,{"$f":"IF($D$11=\"適用なし\",\"５．前年最終週の所定労働時間\",\"\")","v":"５．前年最終週の所定労働時間"},null,null,null,null,null,null,null,null,null,null,null,{"$f":"IF($D$11=\"適用なし\",\"５．前年最終週の所定労働時間\",\"\")","v":"５．前年最終週の所定労働時間"}]
[null,null,null,{"$f":"IF($D$11=\"適用なし\",IF(VLOOKUP($J$23,②年間カレンダー!$AM$21:$AN$27,2,FALSE)=1,\"日\",IF(VLOOKUP($J$23,②年間カレンダー!$AM$21:$AN$27,2,FALSE)=2,\"月\",IF(VLOOKUP($J$23,②年間カレンダー!$AM$21:$AN$27,2,FALSE)=3,\"火\",IF(VLOOKUP($J$23,②年間カレンダー!$AM$21:$AN$27,2,FALSE)=4,\"水\",IF(VLOOKUP($J$23,②年間カレンダー!$AM$21:$AN$27,2,FALSE)=5,\"木\",IF(VLOOKUP($J$23,②年間カレンダー!$AM$21:$AN$27,2,FALSE)=6,\"金\",\"土\")))))),\"\")","v":"日"},{"$f":"IF($D$11=\"適用なし\",VLOOKUP(VLOOKUP(②年間カレンダー!D$7,②年間カレンダー!$AM$21:$AN$27,2,FALSE)+1,②年間カレンダー!$AN$21:$AO$34,2,FALSE),\"\")","v":"月"},{"$f":"IF($D$11=\"適用なし\",VLOOKUP(VLOOKUP(②年間カレンダー!E$7,②年間カレンダー!$AM$21:$AN$27,2,FALSE)+1,②年間カレンダー!$AN$21:$AO$34,2,FALSE),\"\")","v":"火"},{"$f":"IF($D$11=\"適用なし\",VLOOKUP(VLOOKUP(②年間カレンダー!F$7,②年間カレンダー!$AM$21:$AN$27,2,FALSE)+1,②年間カレンダー!$AN$21:$AO$34,2,FALSE),\"\")","v":"水"},{"$f":"IF($D$11=\"適用なし\",VLOOKUP(VLOOKUP(②年間カレンダー!G$7,②年間カレンダー!$AM$21:$AN$27,2,FALSE)+1,②年間カレンダー!$AN$21:$AO$34,2,FALSE),\"\")","v":"木"},{"$f":"IF($D$11=\"適用なし\",VLOOKUP(VLOOKUP(②年間カレンダー!H$7,②年間カレンダー!$AM$21:$AN$27,2,FALSE)+1,②年間カレンダー!$AN$21:$AO$34,2,FALSE),\"\")","v":"金"},{"$f":"IF($D$11=\"適用なし\",VLOOKUP(VLOOKUP(②年間カレンダー!I$7,②年間カレンダー!$AM$21:$AN$27,2,FALSE)+1,②年間カレンダー!$AN$21:$AO$34,2,FALSE),\"\")","v":"土"},{"$f":"IF($D$11=\"適用なし\",\"合計\",\"\")","v":"合計"},null,null,null,null,{"$f":"IF($D$11=\"適用なし\",\"・開始月の第１週が週の途中から始まる場合、週所定労働時間が法定労働時間を超過していないかをチェックするための入力欄です。\",\"\")","v":"・開始月の第１週が週の途中から始まる場合、週所定労働時間が法定労働時間を超過していないかをチェックするための入力欄です。"}]
[null,null,null,null,null,null,null,null,null,null,{"$f":"IF($D$11=\"適用なし\",SUM(D34:J34),\"\")","v":0}]

{"sheet":"②年間カレンダー","index":1,"n_rows":888888,"n_cols":42,"rows_kept":4500,"cut":true,"hidden":false,"merged":[[14,22,14,23],[14,34,14,35],[23,10,23,11],[23,22,23,23],[23,34,23,35],[5,10,5,11],[5,22,5,23],[5,34,5,35],[45,4,45,7],[45,8,45,9],[44,4,44,7],[44,8,44,9],[43,4,43,7],[43,8,43,9],[43,34,43,35],[43,16,43,19],[43,22,43,23],[32,10,32,11],[32,22,32,23],[32,34,32,35],[14,10,14,11],[46,34,46,35],[44,16,44,19],[95,27,95,33],[44,34,44,35],[44,22,44,23],[113,27,113,33],[86,27,86,33],[104,27,104,33],[95,3,95,9],[113,3,113,9],[95,15,95,21],[113,15,113,21],[86,3,86,9],[104,3,104,9],[86,15,86,21],[104,15,104,21]],"bounds":{"rows_first":2000,"rows_last":500,"rows_between":2000,"halvings":0}}
[]
[null,null,"５．所定労働日数と所定休日数の決定"]
[null,null,null,"※カレンダ上ーの「会社の休日」と「数字の入っていないセル」をダブルクリックし、法定休日は濃いオレンジ色、法定休日以外は薄いオレンジ色にしてください。"]
[null,null,null,"　セルをダブルクリックすると、薄いオレンジ色→濃いオレンジ色→白色を繰り返します。特に「数字の入っていないセル」を見落としやすいです。",null,null,null,null,null,null,null,null,null,null,null,null,null,null,null,null,null,null,null,null,null,null,null,null,null,null,null,null,null,"↑　クリックすると弊社ホームページが開きます。"]
[null,null,null,null,null,null,null,null,null,null,null,null,"年間カレンダー",null,null,null,null,null,null,null,{"$f":"\"（\"&①初期設定!$D$23&\"年／\"&TEXT(DATE(①初期設定!$D$23,①初期設定!$F$23,①初期設定!$H$23),\"ggge年m月d日\")&\"始まり）\"","v":"（2021年／令和3年1月1日始まり）"}]
[null,null,null,{"$f":"①初期設定!$F$23","v":1},{"$f":"IF(F6=\"\",\"\",\"～\")","v":""},{"$f":"IF(①初期設定!$H$23=1,\"\",IF(D6=12,D6-11,D6+1))","v":""},null,null,null,null,{"$f":"IF(①初期設定!$D$11=\"１カ月変形\",IF(①初期設定!$D$4=\"一般\",ROUNDDOWN(40*L12/7,1),ROUNDDOWN(44*L12/7,1)),\"\")","v":""},null,null,null,null,{"$f":"IF(①初期設定!$H$23=1,IF(D6=12,1,D6+1),F6)","v":2},{"$f":"IF(R6=\"\",\"\",\"～\")","v":""},{"$f":"IF(①初期設定!$H$23=1,\"\",IF(P6=12,P6-11,P6+1))","v":""},null,null,null,null,{"$f":"IF(①初期設定!$D$11=\"１カ月変形\",IF(①初期設定!$D$4=\"一般\",ROUNDDOWN(40*X12/7,1),ROUNDDOWN(44*X12/7,1)),\"\")","v":""},null,null,null,null,{"$f":"IF(①初期設定!$H$23=1,IF(P6=12,1,P6+1),R6)","v":3},{"$f":"IF(AD6=\"\",\"\",\"～\")","v":""},{"$f":"IF(①初期設定!$H$23=1,\"\",IF(AB6=12,AB6-11,AB6+1))","v":""},null,null,null,null,{"$f":"IF(①初期設定!$D$11=\"１カ月変形\",IF(①初期設定!$D$4=\"一般\",ROUNDDOWN(40*AJ12/7,1),ROUNDDOWN(44*AJ12/7,1)),\"\")","v":""}]
[null,null,null,{"$f":"①初期設定!$D$29","v":"日"},{"$f":"①初期設定!$E$29","v":"月"},{"$f":"①初期設定!$F$29","v":"火"},{"$f":"①初期設定!$G$29","v":"水"},{"$f":"①初期設定!$H$29","v":"木"},{"$f":"①初期設定!$I$29","v":"金"},{"$f":"①初期設定!$J$29","v":"土"},"週所定","所定労働日数",null,null,null,{"$f":"①初期設定!$D$29","v":"日"},{"$f":"①初期設定!$E$29","v":"月"},{"$f":"①初期設定!$F$29","v":"火"},{"$f":"①初期設定!$G$29","v":"水"},{"$f":"①初期設定!$H$29","v":"木"},{"$f":"①初期設定!$I$29","v":"金"},{"$f":"①初期設定!$J$29","v":"土"},"週所定","所定労働日数",null,null,null,{"$f":"①初期設定!$D$29","v":"日"},{"$f":"①初期設定!$E$29","v":"月"},{"$f":"①初期設定!$F$29","v":"火"},{"$f":"①初期設定!$G$29","v":"水"},{"$f":"①初期設定!$H$29","v":"木"},{"$f":"①初期設定!$I$29","v":"金"},{"$f":"①初期設定!$J$29","v":"土"},"週所定","所定労働日数"]
[null,null,null,{"$f":"①初期設定!$D$30","v":0.33333333333333331},{"$f":"①初期設定!$E$30","v":0.33333333333333331},{"$f":"①初期設定!$F$30","v":0.33333333333333331},{"$f":"①初期設定!$G$30","v":0.33333333333333331},{"$f":"①初期設定!$H$30","v":0.33333333333333331},{"$f":"①初期設定!$I$30","v":0.33333333333333331},{"$f":"①初期設定!$J$30","v":0.33333333333333331},"労働Ｈ",{"$f":"COUNTIF(D89:J94,1)","v":42},{"$f":"IF(①初期設定!$D$11=\"１年変形\",IF(OR(D8*24>10,E8*24>10,F8*24>10,G8*24>10,H8*24>10,I8*24>10,J8*24>10),\"10時間超\",\"\"),IF(①初期設定!$D$11=\"適用なし\",IF(OR(D8*24>8,E8*24>8,F8*24>8,G8*24>8,H8*24>8,I8*24>8,J8*24>8),\"8時間超\",\"\"),\"\"))","v":""},null,null,{"$f":"①初期設定!$D$30","v":0.33333333333333331},{"$f":"①初期設定!$E$30","v":0.33333333333333331},{"$f":"①初期設定!$F$30","v":0.33333333333333331},{"$f":"①初期設定!$G$30","v":0.33333333333333331},{"$f":"①初期設定!$H$30","v":0.33333333333333331},{"$f":"①初期設定!$I$30","v":0.33333333333333331},{"$f":"①初期設定!$J$30","v":0.33333333333333331},"労働Ｈ",{"$f":"COUNTIF(P89:V94,1)","v":42},{"$f":"IF(①初期設定!$D$11=\"１年変形\",IF(OR(P8*24>10,Q8*24>10,R8*24>10,S8*24>10,T8*24>10,U8*24>10,V8*24>10),\"10時間超\",\"\"),IF(①初期設定!$D$11=\"適用なし\",IF(OR(P8*24>8,Q8*24>8,R8*24>8,S8*24>8,T8*24>8,U8*24>8,V8*24>8),\"8時間超\",\"\"),\"\"))","v":""},null,null,{"$f":"①初期設定!$D$30","v":0.33333333333333331},{"$f":"①初期設定!$E$30","v":0.33333333333333331},{"$f":"①初期設定!$F$30","v":0.33333333333333331},{"$f":"①初期設定!$G$30","v":0.33333333333333331},{"$f":"①初期設定!$H$30","v":0.33333333333333331},{"$f":"①初期設定!$I$30","v":0.33333333333333331},{"$f":"①初期設定!$J$30","v":0.33333333333333331},"労働Ｈ",{"$f":"COUNTIF(AB89:AH94,1)","v":42},{"$f":"IF(①初期設定!$D$11=\"１年変形\",IF(OR(AB8*24>10,AC8*24>10,AD8*24>10,AE8*24>10,AF8*24>10,AG8*24>10,AH8*24>10),\"10時間超\",\"\"),IF(①初期設定!$D$11=\"適用なし\",IF(OR(AB8*24>8,AC8*24>8,AD8*24>8,AE8*24>8,AF8*24>8,AG8*24>8,AH8*24>8),\"8時間超\",\"\"),\"\"))","v":""},null,{"$f":"IF(AN8=12,①初期設定!$D$23,①初期設定!$D$23+COUNTIF($AN8:AN$8,12))","v":2021},{"$f":"D6","v":1}]
[null,null,null,{"$f":"($J9-7+COLUMN(A9))*(COLUMN(B9)>WEEKDAY(DATE($AM8,$AN8,①初期設定!$H$23+(VLOOKUP(①初期設定!$J$23,$AM$21:$AN$27,2,FALSE)+VLOOKUP(①初期設定!$J$23,$AO$21:$AP$27,2,FALSE)))))","v":"00:00:00"},{"$f":"($J9-7+COLUMN(B9))*(COLUMN(C9)>WEEKDAY(DATE($AM8,$AN8,①初期設定!$H$23+(VLOOKUP(①初期設定!$J$23,$AM$21:$AN$27,2,FALSE)+VLOOKUP(①初期設定!$J$23,$AO$21:$AP$27,2,FALSE)))))","v":"00:00:00"},{"$f":"($J9-7+COLUMN(C9))*(COLUMN(D9)>WEEKDAY(DATE($AM8,$AN8,①初期設定!$H$23+(VLOOKUP(①初期設定!$J$23,$AM$21:$AN$27,2,FALSE)+VLOOKUP(①初期設定!$J$23,$AO$21:$AP$27,2,FALSE)))))","v":"00:00:00"},{"$f":"($J9-7+COLUMN(D9))*(COLUMN(E9)>WEEKDAY(DATE($AM8,$AN8,①初期設定!$H$23+(VLOOKUP(①初期設定!$J$23,$AM$21:$AN$27,2,FALSE)+VLOOKUP(①初期設定!$J$23,$AO$21:$AP$27,2,FALSE)))))","v":"00:00:00"},{"$f":"($J9-7+COLUMN(E9))*(COLUMN(F9)>WEEKDAY(DATE($AM8,$AN8,①初期設定!$H$23+(VLOOKUP(①初期設定!$J$23,$AM$21:$AN$27,2,FALSE)+VLOOKUP(①初期設定!$J$23,$AO$21:$AP$27,2,FALSE)))))","v":"00:00:00"},{"$f":"($J9-7+COLUMN(F9))*(COLUMN(G9)>WEEKDAY(DATE($AM8,$AN8,①初期設定!$H$23+(VLOOKUP(①初期設定!$J$23,$AM$21:$AN$27,2,FALSE)+VLOOKUP(①初期設定!$J$23,$AO$21:$AP$27,2,FALSE)))))","v":"2021-01-01"},{"$f":"DATE($AM8,$AN8,①初期設定!$H$23+7-WEEKDAY(DATE($AM8,$AN8,①初期設定!$H$23+(VLOOKUP(①初期設定!$J$23,$AM$21:$AN$27,2,FALSE)+VLOOKUP(①初期設定!$J$23,$AO$21:$AP$27,2,FALSE)))))","v":"2021-01-02"},{"$f":"(D89*D$8+E89*E$8+F89*F$8+G89*G$8+H89*H$8+I89*I$8+J89*J$8)*24","v":55.999999999999993},"所定休日数",{"$f":"IF(①初期設定!$D$11=\"適用なし\",IF(①初期設定!$D$4=\"一般\",IF(K9+IF(①初期設定!K34=\"\",0,①初期設定!K34*24)>40,\"週40時間超\",\"\"),IF(K9+IF(①初期設定!K34=\"\",0,①初期設定!K34*24)>44,\"週44時間超\",\"\")),IF(①初期設定!$D$11=\"１年変形\",IF(K9>52,\"週52時間超\",\"\"),\"\"))","v":"週40時間超"},null,null,{"$f":"($V9-7+COLUMN(M9)-12)*(COLUMN(N9)-12>WEEKDAY(DATE($AM9,$AN9,①初期設定!$H$23+(VLOOKUP(①初期設定!$J$23,$AM$21:$AN$27,2,FALSE)+VLOOKUP(①初期設定!$J$23,$AO$21:$AP$27,2,FALSE)))))","v":"00:00:00"},{"$f":"($V9-7+COLUMN(N9)-12)*(COLUMN(O9)-12>WEEKDAY(DATE($AM9,$AN9,①初期設定!$H$23+(VLOOKUP(①初期設定!$J$23,$AM$21:$AN$27,2,FALSE)+VLOOKUP(①初期設定!$J$23,$AO$21:$AP$27,2,FALSE)))))","v":"2021-02-01"},{"$f":"($V9-7+COLUMN(O9)-12)*(COLUMN(P9)-12>WEEKDAY(DATE($AM9,$AN9,①初期設定!$H$23+(VLOOKUP(①初期設定!$J$23,$AM$21:$AN$27,2,FALSE)+VLOOKUP(①初期設定!$J$23,$AO$21:$AP$27,2,FALSE)))))","v":"2021-02-02"},{"$f":"($V9-7+COLUMN(P9)-12)*(COLUMN(Q9)-12>WEEKDAY(DATE($AM9,$AN9,①初期設定!$H$23+(VLOOKUP(①初期設定!$J$23,$AM$21:$AN$27,2,FALSE)+VLOOKUP(①初期設定!$J$23,$AO$21:$AP$27,2,FALSE)))))","v":"2021-02-03"},{"$f":"($V9-7+COLUMN(Q9)-12)*(COLUMN(R9)-12>WEEKDAY(DATE($AM9,$AN9,①初期設定!$H$23+(VLOOKUP(①初期設定!$J$23,$AM$21:$AN$27,2,FALSE)+VLOOKUP(①初期設定!$J$23,$AO$21:$AP$27,2,FALSE)))))","v":"2021-02-04"},{"$f":"($V9-7+COLUMN(R9)-12)*(COLUMN(S9)-12>WEEKDAY(DATE($AM9,$AN9,①初期設定!$H$23+(VLOOKUP(①初期設定!$J$23,$AM$21:$AN$27,2,FALSE)+VLOOKUP(①初期設定!$J$23,$AO$21:$AP$27,2,FALSE)))))","v":"2021-02-05"},{"$f":"DATE($AM9,$AN9,①初期設定!$H$23+7-WEEKDAY(DATE($AM9,$AN9,①初期設定!$H$23+(VLOOKUP(①初期設定!$J$23,$AM$21:$AN$27,2,FALSE)+VLOOKUP(①初期設定!$J$23,$AO$21:$AP$27,2,FALSE)))))","v":"2021-02-06"},{"$f":"(P89*P$8+Q89*Q$8+R89*R$8+S89*S$8+T89*T$8+U89*U$8+V89*V$8)*24","v":55.999999999999993},"所定休日数",{"$f":"IF(①初期設定!$D$11=\"適用なし\",IF(①初期設定!$D$4=\"一般\",IF(W9+IF(J13=0,K13,K14)>40,\"週40時間超\",\"\"),IF(W9+IF(J13=0,K13,K14)>44,\"週44時間超\",\"\")),IF(①初期設定!$D$11=\"１年変形\",IF(W9>52,\"週52時間超\",\"\"),\"\"))","v":"週40時間超"},null,null,{"$f":"($AH9-7+COLUMN(Y9)-24)*(COLUMN(Z9)-24>WEEKDAY(DATE($AM10,$AN10,①初期設定!$H$23+(VLOOKUP(①初期設定!$J$23,$AM$21:$AN$27,2,FALSE)+VLOOKUP(①初期設定!$J$23,$AO$21:$AP$27,2,FALSE)))))","v":"00:00:00"},{"$f":"($AH9-7+COLUMN(Z9)-24)*(COLUMN(AA9)-24>WEEKDAY(DATE($AM10,$AN10,①初期設定!$H$23+(VLOOKUP(①初期設定!$J$23,$AM$21:$AN$27,2,FALSE)+VLOOKUP(①初期設定!$J$23,$AO$21:$AP$27,2,FALSE)))))","v":"2021-03-01"},{"$f":"($AH9-7+COLUMN(AA9)-24)*(COLUMN(AB9)-24>WEEKDAY(DATE($AM10,$AN10,①初期設定!$H$23+(VLOOKUP(①初期設定!$J$23,$AM$21:$AN$27,2,FALSE)+VLOOKUP(①初期設定!$J$23,$AO$21:$AP$27,2,FALSE)))))","v":"2021-03-02"},{"$f":"($AH9-7+COLUMN(AB9)-24)*(COLUMN(AC9)-24>WEEKDAY(DATE($AM10,$AN10,①初期設定!$H$23+(VLOOKUP(①初期設定!$J$23,$AM$21:$AN$27,2,FALSE)+VLOOKUP(①初期設定!$J$23,$AO$21:$AP$27,2,FALSE)))))","v":"2021-03-03"},{"$f":"($AH9-7+COLUMN(AC9)-24)*(COLUMN(AD9)-24>WEEKDAY(DATE($AM10,$AN10,①初期設定!$H$23+(VLOOKUP(①初期設定!$J$23,$AM$21:$AN$27,2,FALSE)+VLOOKUP(①初期設定!$J$23,$AO$21:$AP$27,2,FALSE)))))","v":"2021-03-04"},{"$f":"($AH9-7+COLUMN(AD9)-24)*(COLUMN(AE9)-24>WEEKDAY(DATE($AM10,$AN10,①初期設定!$H$23+(VLOOKUP(①初期設定!$J$23,$AM$21:$AN$27,2,FALSE)+VLOOKUP(①初期設定!$J$23,$AO$21:$AP$27,2,FALSE)))))","v":"2021-03-05"},{"$f":"DATE($AM10,$AN10,①初期設定!$H$23+7-WEEKDAY(DATE($AM10,$AN10,①初期設定!$H$23+(VLOOKUP(①初期設定!$J$23,$AM$21:$AN$27,2,FALSE)+VLOOKUP(①初期設定!$J$23,$AO$21:$AP$27,2,FALSE)))))","v":"2021-03-06"},{"$f":"(AB89*AB$8+AC89*AC$8+AD89*AD$8+AE89*AE$8+AF89*AF$8+AG89*AG$8+AH89*AH$8)*24","v":55.999999999999993},"所定休日数",{"$f":"IF(①初期設定!$D$11=\"適用なし\",IF(①初期設定!$D$4=\"一般\",IF(AI9+IF(V13=0,W13,W14)>40,\"週40時間超\",\"\"),IF(AI9+IF(V13=0,W13,W14)>44,\"週44時間超\",\"\")),IF(①初期設定!$D$11=\"１年変形\",IF(AI9>52,\"週52時間超\",\"\"),\"\"))","v":"週40時間超"},null,{"$f":"IF(AN9=12,①初期設定!$D$23,①初期設定!$D$23+COUNTIF($AN$8:AN9,12))","v":2021},{"$f":"P6","v":2}]
[null,null,null,{"$f":"J9+1","v":"2021-01-03"},{"$f":"D10+1","v":"2021-01-04"},{"$f":"E10+1","v":"2021-01-05"},"2021-01-06",{"$f":"G10+1","v":"2021-01-07"},"2021-01-08",{"$f":"I10+1","v":"2021-01-09"},55.999999999999993,{"$f":"L12-L8","v":-11},{"$f":"IF(①初期設定!$D$11=\"１年変形\",IF(K10>52,\"週52時間超\",\"\"),\"\")","v":""},null,null,{"$f":"V9+1","v":"2021-02-07"},{"$f":"P10+1","v":"2021-02-08"},{"$f":"Q10+1","v":"2021-02-09"},{"$f":"R10+1","v":"2021-02-10"},{"$f":"S10+1","v":"2021-02-11"},{"$f":"T10+1","v":"2021-02-12"},{"$f":"U10+1","v":"2021-02-13"},55.999999999999993,{"$f":"X12-X8","v":-14},{"$f":"IF(①初期設定!$D$11=\"１年変形\",IF(W10>52,\"週52時間超\",\"\"),\"\")","v":""},null,null,{"$f":"AH9+1","v":"2021-03-07"},{"$f":"AB10+1","v":"2021-03-08"},{"$f":"AC10+1","v":"2021-03-09"},{"$f":"AD10+1","v":"2021-03-10"},{"$f":"AE10+1","v":"2021-03-11"},{"$f":"AF10+1","v":"2021-03-12"},{"$f":"AG10+1","v":"2021-03-13"},55.999999999999993,{"$f":"AJ12-AJ8","v":-11},{"$f":"IF(①初期設定!$D$11=\"１年変形\",IF(AI10>52,\"週52時間超\",\"\"),\"\")","v":""},null,{"$f":"IF(AN10=12,①初期設定!$D$23,①初期設定!$D$23+COUNTIF($AN$8:AN10,12))","v":2021},{"$f":"AB6","v":3}]
[null,null,null,{"$f":"IF(D10,IF(D10+7>DATE($AM8,$AN8+1,①初期設定!$H$23-1),0,(D10+7)),0)","v":"2021-01-10"},{"$f":"IF(E10,IF(E10+7>DATE($AM8,$AN8+1,①初期設定!$H$23-1),0,(E10+7)),0)","v":"2021-01-11"},{"$f":"IF(F10,IF(F10+7>DATE($AM8,$AN8+1,①初期設定!$H$23-1),0,(F10+7)),0)","v":"2021-01-12"},{"$f":"IF(G10,IF(G10+7>DATE($AM8,$AN8+1,①初期設定!$H$23-1),0,(G10+7)),0)","v":"2021-01-13"},{"$f":"IF(H10,IF(H10+7>DATE($AM8,$AN8+1,①初期設定!$H$23-1),0,(H10+7)),0)","v":"2021-01-14"},{"$f":"IF(I10,IF(I10+7>DATE($AM8,$AN8+1,①初期設定!$H$23-1),0,(I10+7)),0)","v":"2021-01-15"},{"$f":"IF(J10,IF(J10+7>DATE($AM8,$AN8+1,①初期設定!$H$23-1),0,(J10+7)),0)","v":"2021-01-16"},55.999999999999993,"暦日数",{"$f":"IF(①初期設定!$D$11=\"１年変形\",IF(K11>52,\"週52時間超\",\"\"),\"\")","v":""},null,null,{"$f":"IF(P10,IF(P10+7>DATE($AM9,$AN9+1,①初期設定!$H$23-1),0,(P10+7)),0)","v":"2021-02-14"},{"$f":"IF(Q10,IF(Q10+7>DATE($AM9,$AN9+1,①初期設定!$H$23-1),0,(Q10+7)),0)","v":"2021-02-15"},{"$f":"IF(R10,IF(R10+7>DATE($AM9,$AN9+1,①初期設定!$H$23-1),0,(R10+7)),0)","v":"2021-02-16"},{"$f":"IF(S10,IF(S10+7>DATE($AM9,$AN9+1,①初期設定!$H$23-1),0,(S10+7)),0)","v":"2021-02-17"},{"$f":"IF(T10,IF(T10+7>DATE($AM9,$AN9+1,①初期設定!$H$23-1),0,(T10+7)),0)","v":"2021-02-18"},{"$f":"IF(U10,IF(U10+7>DATE($AM9,$AN9+1,①初期設定!$H$23-1),0,(U10+7)),0)","v":"2021-02-19"},{"$f":"IF(V10,IF(V10+7>DATE($AM9,$AN9+1,①初期設定!$H$23-1),0,(V10+7)),0)","v":"2021-02-20"},55.999999999999993,"暦日数",{"$f":"IF(①初期設定!$D$11=\"１年変形\",IF(W11>52,\"週52時間超\",\"\"),\"\")","v":""},null,null,{"$f":"IF(AB10,IF(AB10+7>DATE($AM10,$AN10+1,①初期設定!$H$23-1),0,(AB10+7)),0)","v":"2021-03-14"},{"$f":"IF(AC10,IF(AC10+7>DATE($AM10,$AN10+1,①初期設定!$H$23-1),0,(AC10+7)),0)","v":"2021-03-15"},{"$f":"IF(AD10,IF(AD10+7>DATE($AM10,$AN10+1,①初期設定!$H$23-1),0,(AD10+7)),0)","v":"2021-03-16"},{"$f":"IF(AE10,IF(AE10+7>DATE($AM10,$AN10+1,①初期設定!$H$23-1),0,(AE10+7)),0)","v":"2021-03-17"},{"$f":"IF(AF10,IF(AF10+7>DATE($AM10,$AN10+1,①初期設定!$H$23-1),0,(AF10+7)),0)","v":"2021-03-18"},{"$f":"IF(AG10,IF(AG10+7>DATE($AM10,$AN10+1,①初期設定!$H$23-1),0,(AG10+7)),0)","v":"2021-03-19"},{"$f":"IF(AH10,IF(AH10+7>DATE($AM10,$AN10+1,①初期設定!$H$23-1),0,(AH10+7)),0)","v":"2021-03-20"},55.999999999999993,"暦日数",{"$f":"IF(①初期設定!$D$11=\"１年変形\",IF(AI11>52,\"週52時間超\",\"\"),\"\")","v":""},null,{"$f":"IF(AN11=12,①初期設定!$D$23,①初期設定!$D$23+COUNTIF($AN$8:AN11,12))","v":2021},{"$f":"D15","v":4}]
[null,null,null,{"$f":"IF(D11,IF(D11+7>DATE($AM8,$AN8+1,①初期設定!$H$23-1),0,(D11+7)),0)","v":"2021-01-17"},{"$f":"IF(E11,IF(E11+7>DATE($AM8,$AN8+1,①初期設定!$H$23-1),0,(E11+7)),0)","v":"2021-01-18"},{"$f":"IF(F11,IF(F11+7>DATE($AM8,$AN8+1,①初期設定!$H$23-1),0,(F11+7)),0)","v":"2021-01-19"},{"$f":"IF(G11,IF(G11+7>DATE($AM8,$AN8+1,①初期設定!$H$23-1),0,(G11+7)),0)","v":"2021-01-20"},{"$f":"IF(H11,IF(H11+7>DATE($AM8,$AN8+1,①初期設定!$H$23-1),0,(H11+7)),0)","v":"2021-01-21"},{"$f":"IF(I11,IF(I11+7>DATE($AM8,$AN8+1,①初期設定!$H$23-1),0,(I11+7)),0)","v":"2021-01-22"},{"$f":"IF(J11,IF(J11+7>DATE($AM8,$AN8+1,①初期設定!$H$23-1),0,(J11+7)),0)","v":"2021-01-23"},55.999999999999993,{"$f":"COUNTIF(D9:J14,\"<>0\")","v":31},{"$f":"IF(①初期設定!$D$11=\"１年変形\",IF(K12>52,\"週52時間超\",\"\"),\"\")","v":""},null,null,{"$f":"IF(P11,IF(P11+7>DATE($AM9,$AN9+1,①初期設定!$H$23-1),0,(P11+7)),0)","v":"2021-02-21"},{"$f":"IF(Q11,IF(Q11+7>DATE($AM9,$AN9+1,①初期設定!$H$23-1),0,(Q11+7)),0)","v":"2021-02-22"},{"$f":"IF(R11,IF(R11+7>DATE($AM9,$AN9+1,①初期設定!$H$23-1),0,(R11+7)),0)","v":"2021-02-23"},{"$f":"IF(S11,IF(S11+7>DATE($AM9,$AN9+1,①初期設定!$H$23-1),0,(S11+7)),0)","v":"2021-02-24"},{"$f":"IF(T11,IF(T11+7>DATE($AM9,$AN9+1,①初期設定!$H$23-1),0,(T11+7)),0)","v":"2021-02-25"},{"$f":"IF(U11,IF(U11+7>DATE($AM9,$AN9+1,①初期設定!$H$23-1),0,(U11+7)),0)","v":"2021-02-26"},{"$f":"IF(V11,IF(V11+7>DATE($AM9,$AN9+1,①初期設定!$H$23-1),0,(V11+7)),0)","v":"2021-02-27"},55.999999999999993,{"$f":"COUNTIF(P9:V14,\"<>0\")","v":28},{"$f":"IF(①初期設定!$D$11=\"１年変形\",IF(W12>52,\"週52時間超\",\"\"),\"\")","v":""},null,null,{"$f":"IF(AB11,IF(AB11+7>DATE($AM10,$AN10+1,①初期設定!$H$23-1),0,(AB11+7)),0)","v":"2021-03-21"},{"$f":"IF(AC11,IF(AC11+7>DATE($AM10,$AN10+1,①初期設定!$H$23-1),0,(AC11+7)),0)","v":"2021-03-22"},{"$f":"IF(AD11,IF(AD11+7>DATE($AM10,$AN10+1,①初期設定!$H$23-1),0,(AD11+7)),0)","v":"2021-03-23"},{"$f":"IF(AE11,IF(AE11+7>DATE($AM10,$AN10+1,①初期設定!$H$23-1),0,(AE11+7)),0)","v":"2021-03-24"},{"$f":"IF(AF11,IF(AF11+7>DATE($AM10,$AN10+1,①初期設定!$H$23-1),0,(AF11+7)),0)","v":"2021-03-25"},{"$f":"IF(AG11,IF(AG11+7>DATE($AM10,$AN10+1,①初期設定!$H$23-1),0,(AG11+7)),0)","v":"2021-03-26"},{"$f":"IF(AH11,IF(AH11+7>DATE($AM10,$AN10+1,①初期設定!$H$23-1),0,(AH11+7)),0)","v":"2021-03-27"},55.999999999999993,{"$f":"COUNTIF(AB9:AH14,\"<>0\")","v":31},{"$f":"IF(①初期設定!$D$11=\"１年変形\",IF(AI12>52,\"週52時間超\",\"\"),\"\")","v":""},null,{"$f":"IF(AN12=12,①初期設定!$D$23,①初期設定!$D$23+COUNTIF($AN$8:AN12,12))","v":2021},{"$f":"P15","v":5}]
[null,null,null,{"$f":"IF(D12,IF(D12+7>DATE($AM8,$AN8+1,①初期設定!$H$23-1),0,(D12+7)),0)","v":"2021-01-24"},{"$f":"IF(E12,IF(E12+7>DATE($AM8,$AN8+1,①初期設定!$H$23-1),0,(E12+7)),0)","v":"2021-01-25"},{"$f":"IF(F12,IF(F12+7>DATE($AM8,$AN8+1,①初期設定!$H$23-1),0,(F12+7)),0)","v":"2021-01-26"},{"$f":"IF(G12,IF(G12+7>DATE($AM8,$AN8+1,①初期設定!$H$23-1),0,(G12+7)),0)","v":"2021-01-27"},{"$f":"IF(H12,IF(H12+7>DATE($AM8,$AN8+1,①初期設定!$H$23-1),0,(H12+7)),0)","v":"2021-01-28"},{"$f":"IF(I12,IF(I12+7>DATE($AM8,$AN8+1,①初期設定!$H$23-1),0,(I12+7)),0)","v":"2021-01-29"},{"$f":"IF(J12,IF(J12+7>DATE($AM8,$AN8+1,①初期設定!$H$23-1),0,(J12+7)),0)","v":"2021-01-30"},55.999999999999993,"月所定労働時間",{"$f":"IF(①初期設定!$D$11=\"１カ月変形\",IF(L14>K6,\"総枠超え\",\"\"),IF(①初期設定!$D$11=\"１年変形\",IF(K13>52,\"週52時間超\",\"\"),\"\"))","v":""},null,null,{"$f":"IF(P12,IF(P12+7>DATE($AM9,$AN9+1,①初期設定!$H$23-1),0,(P12+7)),0)","v":"2021-02-28"},{"$f":"IF(Q12,IF(Q12+7>DATE($AM9,$AN9+1,①初期設定!$H$23-1),0,(Q12+7)),0)","v":"00:00:00"},{"$f":"IF(R12,IF(R12+7>DATE($AM9,$AN9+1,①初期設定!$H$23-1),0,(R12+7)),0)","v":"00:00:00"},{"$f":"IF(S12,IF(S12+7>DATE($AM9,$AN9+1,①初期設定!$H$23-1),0,(S12+7)),0)","v":"00:00:00"},{"$f":"IF(T12,IF(T12+7>DATE($AM9,$AN9+1,①初期設定!$H$23-1),0,(T12+7)),0)","v":"00:00:00"},{"$f":"IF(U12,IF(U12+7>DATE($AM9,$AN9+1,①初期設定!$H$23-1),0,(U12+7)),0)","v":"00:00:00"},{"$f":"IF(V12,IF(V12+7>DATE($AM9,$AN9+1,①初期設定!$H$23-1),0,(V12+7)),0)","v":"00:00:00"},55.999999999999993,"月所定労働時間",{"$f":"IF(①初期設定!$D$11=\"１カ月変形\",IF(X14>W6,\"総枠超え\",\"\"),IF(①初期設定!$D$11=\"１年変形\",IF(W13>52,\"週52時間超\",\"\"),\"\"))","v":""},null,null,{"$f":"IF(AB12,IF(AB12+7>DATE($AM10,$AN10+1,①初期設定!$H$23-1),0,(AB12+7)),0)","v":"2021-03-28"},{"$f":"IF(AC12,IF(AC12+7>DATE($AM10,$AN10+1,①初期設定!$H$23-1),0,(AC12+7)),0)","v":"2021-03-29"},{"$f":"IF(AD12,IF(AD12+7>DATE($AM10,$AN10+1,①初期設定!$H$23-1),0,(AD12+7)),0)","v":"2021-03-30"},{"$f":"IF(AE12,IF(AE12+7>DATE($AM10,$AN10+1,①初期設定!$H$23-1),0,(AE12+7)),0)","v":"2021-03-31"},{"$f":"IF(AF12,IF(AF12+7>DATE($AM10,$AN10+1,①初期設定!$H$23-1),0,(AF12+7)),0)","v":"00:00:00"},{"$f":"IF(AG12,IF(AG12+7>DATE($AM10,$AN10+1,①初期設定!$H$23-1),0,(AG12+7)),0)","v":"00:00:00"},{"$f":"IF(AH12,IF(AH12+7>DATE($AM10,$AN10+1,①初期設定!$H$23-1),0,(AH12+7)),0)","v":"00:00:00"},55.999999999999993,"月所定労働時間",{"$f":"IF(①初期設定!$D$11=\"１カ月変形\",IF(AJ14>AI6,\"総枠超え\",\"\"),IF(①初期設定!$D$11=\"１年変形\",IF(AI13>52,\"週52時間超\",\"\"),\"\"))","v":""},null,{"$f":"IF(AN13=12,①初期設定!$D$23,①初期設定!$D$23+COUNTIF($AN$8:AN13,12))","v":2021},{"$f":"AB15","v":6}]
[null,null,null,{"$f":"IF(D13,IF(D13+7>DATE($AM8,$AN8+1,①初期設定!$H$23-1),0,(D13+7)),0)","v":"2021-01-31"},{"$f":"IF(E13,IF(E13+7>DATE($AM8,$AN8+1,①初期設定!$H$23-1),0,(E13+7)),0)","v":"00:00:00"},{"$f":"IF(F13,IF(F13+7>DATE($AM8,$AN8+1,①初期設定!$H$23-1),0,(F13+7)),0)","v":"00:00:00"},{"$f":"IF(G13,IF(G13+7>DATE($AM8,$AN8+1,①初期設定!$H$23-1),0,(G13+7)),0)","v":"00:00:00"},{"$f":"IF(H13,IF(H13+7>DATE($AM8,$AN8+1,①初期設定!$H$23-1),0,(H13+7)),0)","v":"00:00:00"},{"$f":"IF(I13,IF(I13+7>DATE($AM8,$AN8+1,①初期設定!$H$23-1),0,(I13+7)),0)","v":"00:00:00"},{"$f":"IF(J13,IF(J13+7>DATE($AM8,$AN8+1,①初期設定!$H$23-1),0,(J13+7)),0)","v":"00:00:00"},55.999999999999993,{"$f":"SUM(K9:K14)","v":335.99999999999994},{"$f":"IF(①初期設定!$D$11=\"１カ月変形\",IF(L14-K6>0,L14-K6,0),IF(①初期設定!$D$11=\"１年変形\",IF(K14>52,\"週52時間超\",\"\"),\"\"))","v":""},null,null,{"$f":"IF(P13,IF(P13+7>DATE($AM9,$AN9+1,①初期設定!$H$23-1),0,(P13+7)),0)","v":"00:00:00"},{"$f":"IF(Q13,IF(Q13+7>DATE($AM9,$AN9+1,①初期設定!$H$23-1),0,(Q13+7)),0)","v":"00:00:00"},{"$f":"IF(R13,IF(R13+7>DATE($AM9,$AN9+1,①初期設定!$H$23-1),0,(R13+7)),0)","v":"00:00:00"},{"$f":"IF(S13,IF(S13+7>DATE($AM9,$AN9+1,①初期設定!$H$23-1),0,(S13+7)),0)","v":"00:00:00"},{"$f":"IF(T13,IF(T13+7>DATE($AM9,$AN9+1,①初期設定!$H$23-1),0,(T13+7)),0)","v":"00:00:00"},{"$f":"IF(U13,IF(U13+7>DATE($AM9,$AN9+1,①初期設定!$H$23-1),0,(U13+7)),0)","v":"00:00:00"},{"$f":"IF(V13,IF(V13+7>DATE($AM9,$AN9+1,①初期設定!$H$23-1),0,(V13+7)),0)","v":"00:00:00"},55.999999999999993,{"$f":"SUM(W9:W14)","v":335.99999999999994},{"$f":"IF(①初期設定!$D$11=\"１カ月変形\",IF(X14-W6>0,X14-W6,0),IF(①初期設定!$D$11=\"１年変形\",IF(W14>52,\"週52時間超\",\"\"),\"\"))","v":""},null,null,{"$f":"IF(AB13,IF(AB13+7>DATE($AM10,$AN10+1,①初期設定!$H$23-1),0,(AB13+7)),0)","v":"00:00:00"},{"$f":"IF(AC13,IF(AC13+7>DATE($AM10,$AN10+1,①初期設定!$H$23-1),0,(AC13+7)),0)","v":"00:00:00"},{"$f":"IF(AD13,IF(AD13+7>DATE($AM10,$AN10+1,①初期設定!$H$23-1),0,(AD13+7)),0)","v":"00:00:00"},{"$f":"IF(AE13,IF(AE13+7>DATE($AM10,$AN10+1,①初期設定!$H$23-1),0,(AE13+7)),0)","v":"00:00:00"},{"$f":"IF(AF13,IF(AF13+7>DATE($AM10,$AN10+1,①初期設定!$H$23-1),0,(AF13+7)),0)","v":"00:00:00"},{"$f":"IF(AG13,IF(AG13+7>DATE($AM10,$AN10+1,①初期設定!$H$23-1),0,(AG13+7)),0)","v":"00:00:00"},{"$f":"IF(AH13,IF(AH13+7>DATE($AM10,$AN10+1,①初期設定!$H$23-1),0,(AH13+7)),0)","v":"00:00:00"},55.999999999999993,{"$f":"SUM(AI9:AI14)","v":335.99999999999994},{"$f":"IF(①初期設定!$D$11=\"１カ月変形\",IF(AJ14-AI6>0,AJ14-AI6,0),IF(①初期設定!$D$11=\"１年変形\",IF(AI14>52,\"週52時間超\",\"\"),\"\"))","v":""},null,{"$f":"IF(AN14=12,①初期設定!$D$23,①初期設定!$D$23+COUNTIF($AN$8:AN14,12))","v":2021},{"$f":"D24","v":7}]
[null,null,null,{"$f":"IF(①初期設定!$H$23=1,IF(AB6=12,1,AB6+1),AD6)","v":4},{"$f":"IF(F15=\"\",\"\",\"～\")","v":""},{"$f":"IF(①初期設定!$H$23=1,\"\",IF(D15=12,D15-11,D15+1))","v":""},null,null,null,null,{"$f":"IF(①初期設定!$D$11=\"１カ月変形\",IF(①初期設定!$D$4=\"一般\",ROUNDDOWN(40*L21/7,1),ROUNDDOWN(44*L21/7,1)),\"\")","v":""},null,null,null,null,{"$f":"IF(①初期設定!$H$23=1,IF(D15=12,1,D15+1),F15)","v":5},{"$f":"IF(R15=\"\",\"\",\"～\")","v":""},{"$f":"IF(①初期設定!$H$23=1,\"\",IF(P15=12,P15-11,P15+1))","v":""},null,null,null,null,{"$f":"IF(①初期設定!$D$11=\"１カ月変形\",IF(①初期設定!$D$4=\"一般\",ROUNDDOWN(40*X21/7,1),ROUNDDOWN(44*X21/7,1)),\"\")","v":""},null,null,null,null,{"$f":"IF(①初期設定!$H$23=1,IF(P15=12,1,P15+1),R15)","v":6},{"$f":"IF(AD15=\"\",\"\",\"～\")","v":""},{"$f":"IF(①初期設定!$H$23=1,\"\",IF(AB15=12,AB15-11,AB15+1))","v":""},null,null,null,null,{"$f":"IF(①初期設定!$D$11=\"１カ月変形\",IF(①初期設定!$D$4=\"一般\",ROUNDDOWN(40*AJ21/7,1),ROUNDDOWN(44*AJ21/7,1)),\"\")","v":""},null,null,null,{"$f":"IF(AN15=12,①初期設定!$D$23,①初期設定!$D$23+COUNTIF($AN$8:AN15,12))","v":2021},{"$f":"P24","v":8}]
[null,null,null,{"$f":"①初期設定!$D$29","v":"日"},{"$f":"①初期設定!$E$29","v":"月"},{"$f":"①初期設定!$F$29","v":"火"},{"$f":"①初期設定!$G$29","v":"水"},{"$f":"①初期設定!$H$29","v":"木"},{"$f":"①初期設定!$I$29","v":"金"},{"$f":"①初期設定!$J$29","v":"土"},"週所定","所定労働日数",null,null,null,{"$f":"①初期設定!$D$29","v":"日"},{"$f":"①初期設定!$E$29","v":"月"},{"$f":"①初期設定!$F$29","v":"火"},{"$f":"①初期設定!$G$29","v":"水"},{"$f":"①初期設定!$H$29","v":"木"},{"$f":"①初期設定!$I$29","v":"金"},{"$f":"①初期設定!$J$29","v":"土"},"週所定","所定労働日数",null,null,null,{"$f":"①初期設定!$D$29","v":"日"},{"$f":"①初期設定!$E$29","v":"月"},{"$f":"①初期設定!$F$29","v":"火"},{"$f":"①初期設定!$G$29","v":"水"},{"$f":"①初期設定!$H$29","v":"木"},{"$f":"①初期設定!$I$29","v":"金"},{"$f":"①初期設定!$J$29","v":"土"},"週所定","所定労働日数",null,null,{"$f":"IF(AN16=12,①初期設定!$D$23,①初期設定!$D$23+COUNTIF($AN$8:AN16,12))","v":2021},{"$f":"AB24","v":9}]
[null,null,null,{"$f":"①初期設定!$D$30","v":0.33333333333333331},{"$f":"①初期設定!$E$30","v":0.33333333333333331},{"$f":"①初期設定!$F$30","v":0.33333333333333331},{"$f":"①初期設定!$G$30","v":0.33333333333333331},{"$f":"①初期設定!$H$30","v":0.33333333333333331},{"$f":"①初期設定!$I$30","v":0.33333333333333331},{"$f":"①初期設定!$J$30","v":0.33333333333333331},"労働Ｈ",{"$f":"COUNTIF(D98:J103,1)","v":42},{"$f":"IF(①初期設定!$D$11=\"１年変形\",IF(OR(D17*24>10,E17*24>10,F17*24>10,G17*24>10,H17*24>10,I17*24>10,J17*24>10),\"10時間超\",\"\"),IF(①初期設定!$D$11=\"適用なし\",IF(OR(D17*24>8,E17*24>8,F17*24>8,G17*24>8,H17*24>8,I17*24>8,J17*24>8),\"8時間超\",\"\"),\"\"))","v":""},null,null,{"$f":"①初期設定!$D$30","v":0.33333333333333331},{"$f":"①初期設定!$E$30","v":0.33333333333333331},{"$f":"①初期設定!$F$30","v":0.33333333333333331},{"$f":"①初期設定!$G$30","v":0.33333333333333331},{"$f":"①初期設定!$H$30","v":0.33333333333333331},{"$f":"①初期設定!$I$30","v":0.33333333333333331},{"$f":"①初期設定!$J$30","v":0.33333333333333331},"労働Ｈ",{"$f":"COUNTIF(P98:V103,1)","v":42},{"$f":"IF(①初期設定!$D$11=\"１年変形\",IF(OR(P17*24>10,Q17*24>10,R17*24>10,S17*24>10,T17*24>10,U17*24>10,V17*24>10),\"10時間超\",\"\"),IF(①初期設定!$D$11=\"適用なし\",IF(OR(P17*24>8,Q17*24>8,R17*24>8,S17*24>8,T17*24>8,U17*24>8,V17*24>8),\"8時間超\",\"\"),\"\"))","v":""},null,null,{"$f":"①初期設定!$D$30","v":0.33333333333333331},{"$f":"①初期設定!$E$30","v":0.33333333333333331},{"$f":"①初期設定!$F$30","v":0.33333333333333331},{"$f":"①初期設定!$G$30","v":0.33333333333333331},{"$f":"①初期設定!$H$30","v":0.33333333333333331},{"$f":"①初期設定!$I$30","v":0.33333333333333331},{"$f":"①初期設定!$J$30","v":0.33333333333333331},"労働Ｈ",{"$f":"COUNTIF(AB98:AH103,1)","v":42},{"$f":"IF(①初期設定!$D$11=\"１年変形\",IF(OR(AB17*24>10,AC17*24>10,AD17*24>10,AE17*24>10,AF17*24>10,AG17*24>10,AH17*24>10),\"10時間超\",\"\"),IF(①初期設定!$D$11=\"適用なし\",IF(OR(AB17*24>8,AC17*24>8,AD17*24>8,AE17*24>8,AF17*24>8,AG17*24>8,AH17*24>8),\"8時間超\",\"\"),\"\"))","v":""},null,{"$f":"IF(AN17=12,①初期設定!$D$23,①初期設定!$D$23+COUNTIF($AN$8:AN17,12))","v":2021},{"$f":"D33","v":10}]
[null,null,null,{"$f":"($J18-7+COLUMN(A18))*(COLUMN(B18)>WEEKDAY(DATE($AM11,$AN11,①初期設定!$H$23+(VLOOKUP(①初期設定!$J$23,$AM$21:$AN$27,2,FALSE)+VLOOKUP(①初期設定!$J$23,$AO$21:$AP$27,2,FALSE)))))","v":"00:00:00"},{"$f":"($J18-7+COLUMN(B18))*(COLUMN(C18)>WEEKDAY(DATE($AM11,$AN11,①初期設定!$H$23+(VLOOKUP(①初期設定!$J$23,$AM$21:$AN$27,2,FALSE)+VLOOKUP(①初期設定!$J$23,$AO$21:$AP$27,2,FALSE)))))","v":"00:00:00"},{"$f":"($J18-7+COLUMN(C18))*(COLUMN(D18)>WEEKDAY(DATE($AM11,$AN11,①初期設定!$H$23+(VLOOKUP(①初期設定!$J$23,$AM$21:$AN$27,2,FALSE)+VLOOKUP(①初期設定!$J$23,$AO$21:$AP$27,2,FALSE)))))","v":"00:00:00"},{"$f":"($J18-7+COLUMN(D18))*(COLUMN(E18)>WEEKDAY(DATE($AM11,$AN11,①初期設定!$H$23+(VLOOKUP(①初期設定!$J$23,$AM$21:$AN$27,2,FALSE)+VLOOKUP(①初期設定!$J$23,$AO$21:$AP$27,2,FALSE)))))","v":"00:00:00"},{"$f":"($J18-7+COLUMN(E18))*(COLUMN(F18)>WEEKDAY(DATE($AM11,$AN11,①初期設定!$H$23+(VLOOKUP(①初期設定!$J$23,$AM$21:$AN$27,2,FALSE)+VLOOKUP(①初期設定!$J$23,$AO$21:$AP$27,2,FALSE)))))","v":"2021-04-01"},{"$f":"($J18-7+COLUMN(F18))*(COLUMN(G18)>WEEKDAY(DATE($AM11,$AN11,①初期設定!$H$23+(VLOOKUP(①初期設定!$J$23,$AM$21:$AN$27,2,FALSE)+VLOOKUP(①初期設定!$J$23,$AO$21:$AP$27,2,FALSE)))))","v":"2021-04-02"},{"$f":"DATE($AM11,$AN11,①初期設定!$H$23+7-WEEKDAY(DATE($AM11,$AN11,①初期設定!$H$23+(VLOOKUP(①初期設定!$J$23,$AM$21:$AN$27,2,FALSE)+VLOOKUP(①初期設定!$J$23,$AO$21:$AP$27,2,FALSE)))))","v":"2021-04-03"},{"$f":"(D98*D$17+E98*E$17+F98*F$17+G98*G$17+H98*H$17+I98*I$17+J98*J$17)*24","v":55.999999999999993},"所定休日数",{"$f":"IF(①初期設定!$D$11=\"適用なし\",IF(①初期設定!$D$4=\"一般\",IF(K18+IF(AH13=0,AI13,AI14)>40,\"週40時間超\",\"\"),IF(K18+IF(AH13=0,AI13,AI14)>44,\"週44時間超\",\"\")),IF(①初期設定!$D$11=\"１年変形\",IF(K18>52,\"週52時間超\",\"\"),\"\"))","v":"週40時間超"},null,null,{"$f":"($V18-7+COLUMN(M18)-12)*(COLUMN(N18)-12>WEEKDAY(DATE($AM12,$AN12,①初期設定!$H$23+(VLOOKUP(①初期設定!$J$23,$AM$21:$AN$27,2,FALSE)+VLOOKUP(①初期設定!$J$23,$AO$21:$AP$27,2,FALSE)))))","v":"00:00:00"},{"$f":"($V18-7+COLUMN(N18)-12)*(COLUMN(O18)-12>WEEKDAY(DATE($AM12,$AN12,①初期設定!$H$23+(VLOOKUP(①初期設定!$J$23,$AM$21:$AN$27,2,FALSE)+VLOOKUP(①初期設定!$J$23,$AO$21:$AP$27,2,FALSE)))))","v":"00:00:00"},{"$f":"($V18-7+COLUMN(O18)-12)*(COLUMN(P18)-12>WEEKDAY(DATE($AM12,$AN12,①初期設定!$H$23+(VLOOKUP(①初期設定!$J$23,$AM$21:$AN$27,2,FALSE)+VLOOKUP(①初期設定!$J$23,$AO$21:$AP$27,2,FALSE)))))","v":"00:00:00"},{"$f":"($V18-7+COLUMN(P18)-12)*(COLUMN(Q18)-12>WEEKDAY(DATE($AM12,$AN12,①初期設定!$H$23+(VLOOKUP(①初期設定!$J$23,$AM$21:$AN$27,2,FALSE)+VLOOKUP(①初期設定!$J$23,$AO$21:$AP$27,2,FALSE)))))","v":"00:00:00"},{"$f":"($V18-7+COLUMN(Q18)-12)*(COLUMN(R18)-12>WEEKDAY(DATE($AM12,$AN12,①初期設定!$H$23+(VLOOKUP(①初期設定!$J$23,$AM$21:$AN$27,2,FALSE)+VLOOKUP(①初期設定!$J$23,$AO$21:$AP$27,2,FALSE)))))","v":"00:00:00"},{"$f":"($V18-7+COLUMN(R18)-12)*(COLUMN(S18)-12>WEEKDAY(DATE($AM12,$AN12,①初期設定!$H$23+(VLOOKUP(①初期設定!$J$23,$AM$21:$AN$27,2,FALSE)+VLOOKUP(①初期設定!$J$23,$AO$21:$AP$27,2,FALSE)))))","v":"00:00:00"},{"$f":"DATE($AM12,$AN12,①初期設定!$H$23+7-WEEKDAY(DATE($AM12,$AN12,①初期設定!$H$23+(VLOOKUP(①初期設定!$J$23,$AM$21:$AN$27,2,FALSE)+VLOOKUP(①初期設定!$J$23,$AO$21:$AP$27,2,FALSE)))))","v":"2021-05-01"},{"$f":"(P98*P$17+Q98*Q$17+R98*R$17+S98*S$17+T98*T$17+U98*U$17+V98*V$17)*24","v":55.999999999999993},"所定休日数",{"$f":"IF(①初期設定!$D$11=\"適用なし\",IF(①初期設定!$D$4=\"一般\",IF(W18+IF(J22=0,K22,K23)>40,\"週40時間超\",\"\"),IF(W18+IF(J22=0,K22,K23)>44,\"週44時間超\",\"\")),IF(①初期設定!$D$11=\"１年変形\",IF(W18>52,\"週52時間超\",\"\"),\"\"))","v":"週40時間超"},null,null,{"$f":"($AH18-7+COLUMN(Y18)-24)*(COLUMN(Z18)-24>WEEKDAY(DATE($AM13,$AN13,①初期設定!$H$23+(VLOOKUP(①初期設定!$J$23,$AM$21:$AN$27,2,FALSE)+VLOOKUP(①初期設定!$J$23,$AO$21:$AP$27,2,FALSE)))))","v":"00:00:00"},{"$f":"($AH18-7+COLUMN(Z18)-24)*(COLUMN(AA18)-24>WEEKDAY(DATE($AM13,$AN13,①初期設定!$H$23+(VLOOKUP(①初期設定!$J$23,$AM$21:$AN$27,2,FALSE)+VLOOKUP(①初期設定!$J$23,$AO$21:$AP$27,2,FALSE)))))","v":"00:00:00"},{"$f":"($AH18-7+COLUMN(AA18)-24)*(COLUMN(AB18)-24>WEEKDAY(DATE($AM13,$AN13,①初期設定!$H$23+(VLOOKUP(①初期設定!$J$23,$AM$21:$AN$27,2,FALSE)+VLOOKUP(①初期設定!$J$23,$AO$21:$AP$27,2,FALSE)))))","v":"2021-06-01"},{"$f":"($AH18-7+COLUMN(AB18)-24)*(COLUMN(AC18)-24>WEEKDAY(DATE($AM13,$AN13,①初期設定!$H$23+(VLOOKUP(①初期設定!$J$23,$AM$21:$AN$27,2,FALSE)+VLOOKUP(①初期設定!$J$23,$AO$21:$AP$27,2,FALSE)))))","v":"2021-06-02"},{"$f":"($AH18-7+COLUMN(AC18)-24)*(COLUMN(AD18)-24>WEEKDAY(DATE($AM13,$AN13,①初期設定!$H$23+(VLOOKUP(①初期設定!$J$23,$AM$21:$AN$27,2,FALSE)+VLOOKUP(①初期設定!$J$23,$AO$21:$AP$27,2,FALSE)))))","v":"2021-06-03"},{"$f":"($AH18-7+COLUMN(AD18)-24)*(COLUMN(AE18)-24>WEEKDAY(DATE($AM13,$AN13,①初期設定!$H$23+(VLOOKUP(①初期設定!$J$23,$AM$21:$AN$27,2,FALSE)+VLOOKUP(①初期設定!$J$23,$AO$21:$AP$27,2,FALSE)))))","v":"2021-06-04"},{"$f":"DATE($AM13,$AN13,①初期設定!$H$23+7-WEEKDAY(DATE($AM13,$AN13,①初期設定!$H$23+(VLOOKUP(①初期設定!$J$23,$AM$21:$AN$27,2,FALSE)+VLOOKUP(①初期設定!$J$23,$AO$21:$AP$27,2,FALSE)))))","v":"2021-06-05"},{"$f":"(AB98*AB$17+AC98*AC$17+AD98*AD$17+AE98*AE$17+AF98*AF$17+AG98*AG$17+AH98*AH$17)*24","v":55.999999999999993},"所定休日数",{"$f":"IF(①初期設定!$D$11=\"適用なし\",IF(①初期設定!$D$4=\"一般\",IF(AI18+IF(V22=0,W22,W23)>40,\"週40時間超\",\"\"),IF(AI18+IF(V22=0,W22,W23)>44,\"週44時間超\",\"\")),IF(①初期設定!$D$11=\"１年変形\",IF(AI18>52,\"週52時間超\",\"\"),\"\"))","v":"週40時間超"},null,{"$f":"IF(AN18=12,①初期設定!$D$23,①初期設定!$D$23+COUNTIF($AN$8:AN18,12))","v":2021},{"$f":"P33","v":11}]
[null,null,null,{"$f":"J18+1","v":"2021-04-04"},{"$f":"D19+1","v":"2021-04-05"},{"$f":"E19+1","v":"2021-04-06"},{"$f":"F19+1","v":"2021-04-07"},{"$f":"G19+1","v":"2021-04-08"},{"$f":"H19+1","v":"2021-04-09"},{"$f":"I19+1","v":"2021-04-10"},{"$f":"(D99*D$17+E99*E$17+F99*F$17+G99*G$17+H99*H$17+I99*I$17+J99*J$17)*24","v":55.999999999999993},{"$f":"L21-L17","v":-12},{"$f":"IF(①初期設定!$D$11=\"１年変形\",IF(K19>52,\"週52時間超\",\"\"),\"\")","v":""},null,null,{"$f":"V18+1","v":"2021-05-02"},{"$f":"P19+1","v":"2021-05-03"},{"$f":"Q19+1","v":"2021-05-04"},{"$f":"R19+1","v":"2021-05-05"},{"$f":"S19+1","v":"2021-05-06"},{"$f":"T19+1","v":"2021-05-07"},{"$f":"U19+1","v":"2021-05-08"},{"$f":"(P99*P$17+Q99*Q$17+R99*R$17+S99*S$17+T99*T$17+U99*U$17+V99*V$17)*24","v":55.999999999999993},{"$f":"X21-X17","v":-11},{"$f":"IF(①初期設定!$D$11=\"１年変形\",IF(W19>52,\"週52時間超\",\"\"),\"\")","v":""},null,null,{"$f":"AH18+1","v":"2021-06-06"},{"$f":"AB19+1","v":"2021-06-07"},{"$f":"AC19+1","v":"2021-06-08"},{"$f":"AD19+1","v":"2021-06-09"},{"$f":"AE19+1","v":"2021-06-10"},{"$f":"AF19+1","v":"2021-06-11"},{"$f":"AG19+1","v":"2021-06-12"},{"$f":"(AB99*AB$17+AC99*AC$17+AD99*AD$17+AE99*AE$17+AF99*AF$17+AG99*AG$17+AH99*AH$17)*24","v":55.999999999999993},{"$f":"AJ21-AJ17","v":-12},{"$f":"IF(①初期設定!$D$11=\"１年変形\",IF(AI19>52,\"週52時間超\",\"\"),\"\")","v":""},null,{"$f":"IF(AN19=12,①初期設定!$D$23,①初期設定!$D$23+COUNTIF($AN$8:AN19,12))","v":2021},{"$f":"AB33","v":12}]
[null,null,null,{"$f":"IF(D19,IF(D19+7>DATE($AM11,$AN11+1,①初期設定!$H$23-1),0,(D19+7)),0)","v":"2021-04-11"},{"$f":"IF(E19,IF(E19+7>DATE($AM11,$AN11+1,①初期設定!$H$23-1),0,(E19+7)),0)","v":"2021-04-12"},{"$f":"IF(F19,IF(F19+7>DATE($AM11,$AN11+1,①初期設定!$H$23-1),0,(F19+7)),0)","v":"2021-04-13"},{"$f":"IF(G19,IF(G19+7>DATE($AM11,$AN11+1,①初期設定!$H$23-1),0,(G19+7)),0)","v":"2021-04-14"},{"$f":"IF(H19,IF(H19+7>DATE($AM11,$AN11+1,①初期設定!$H$23-1),0,(H19+7)),0)","v":"2021-04-15"},{"$f":"IF(I19,IF(I19+7>DATE($AM11,$AN11+1,①初期設定!$H$23-1),0,(I19+7)),0)","v":"2021-04-16"},{"$f":"IF(J19,IF(J19+7>DATE($AM11,$AN11+1,①初期設定!$H$23-1),0,(J19+7)),0)","v":"2021-04-17"},55.999999999999993,"暦日数",{"$f":"IF(①初期設定!$D$11=\"１年変形\",IF(K20>52,\"週52時間超\",\"\"),\"\")","v":""},null,null,{"$f":"IF(P19,IF(P19+7>DATE($AM12,$AN12+1,①初期設定!$H$23-1),0,(P19+7)),0)","v":"2021-05-09"},{"$f":"IF(Q19,IF(Q19+7>DATE($AM12,$AN12+1,①初期設定!$H$23-1),0,(Q19+7)),0)","v":"2021-05-10"},{"$f":"IF(R19,IF(R19+7>DATE($AM12,$AN12+1,①初期設定!$H$23-1),0,(R19+7)),0)","v":"2021-05-11"},{"$f":"IF(S19,IF(S19+7>DATE($AM12,$AN12+1,①初期設定!$H$23-1),0,(S19+7)),0)","v":"2021-05-12"},{"$f":"IF(T19,IF(T19+7>DATE($AM12,$AN12+1,①初期設定!$H$23-1),0,(T19+7)),0)","v":"2021-05-13"},{"$f":"IF(U19,IF(U19+7>DATE($AM12,$AN12+1,①初期設定!$H$23-1),0,(U19+7)),0)","v":"2021-05-14"},{"$f":"IF(V19,IF(V19+7>DATE($AM12,$AN12+1,①初期設定!$H$23-1),0,(V19+7)),0)","v":"2021-05-15"},55.999999999999993,"暦日数",{"$f":"IF(①初期設定!$D$11=\"１年変形\",IF(W20>52,\"週52時間超\",\"\"),\"\")","v":""},null,null,{"$f":"IF(AB19,IF(AB19+7>DATE($AM13,$AN13+1,①初期設定!$H$23-1),0,(AB19+7)),0)","v":"2021-06-13"},{"$f":"IF(AC19,IF(AC19+7>DATE($AM13,$AN13+1,①初期設定!$H$23-1),0,(AC19+7)),0)","v":"2021-06-14"},{"$f":"IF(AD19,IF(AD19+7>DATE($AM13,$AN13+1,①初期設定!$H$23-1),0,(AD19+7)),0)","v":"2021-06-15"},{"$f":"IF(AE19,IF(AE19+7>DATE($AM13,$AN13+1,①初期設定!$H$23-1),0,(AE19+7)),0)","v":"2021-06-16"},{"$f":"IF(AF19,IF(AF19+7>DATE($AM13,$AN13+1,①初期設定!$H$23-1),0,(AF19+7)),0)","v":"2021-06-17"},{"$f":"IF(AG19,IF(AG19+7>DATE($AM13,$AN13+1,①初期設定!$H$23-1),0,(AG19+7)),0)","v":"2021-06-18"},{"$f":"IF(AH19,IF(AH19+7>DATE($AM13,$AN13+1,①初期設定!$H$23-1),0,(AH19+7)),0)","v":"2021-06-19"},55.999999999999993,"暦日数",{"$f":"IF(①初期設定!$D$11=\"１年変形\",IF(AI20>52,\"週52時間超\",\"\"),\"\")","v":""}]
[null,null,null,{"$f":"IF(D20,IF(D20+7>DATE($AM11,$AN11+1,①初期設定!$H$23-1),0,(D20+7)),0)","v":"2021-04-18"},{"$f":"IF(E20,IF(E20+7>DATE($AM11,$AN11+1,①初期設定!$H$23-1),0,(E20+7)),0)","v":"2021-04-19"},{"$f":"IF(F20,IF(F20+7>DATE($AM11,$AN11+1,①初期設定!$H$23-1),0,(F20+7)),0)","v":"2021-04-20"},{"$f":"IF(G20,IF(G20+7>DATE($AM11,$AN11+1,①初期設定!$H$23-1),0,(G20+7)),0)","v":"2021-04-21"},{"$f":"IF(H20,IF(H20+7>DATE($AM11,$AN11+1,①初期設定!$H$23-1),0,(H20+7)),0)","v":"2021-04-22"},{"$f":"IF(I20,IF(I20+7>DATE($AM11,$AN11+1,①初期設定!$H$23-1),0,(I20+7)),0)","v":"2021-04-23"},{"$f":"IF(J20,IF(J20+7>DATE($AM11,$AN11+1,①初期設定!$H$23-1),0,(J20+7)),0)","v":"2021-04-24"},55.999999999999993,{"$f":"COUNTIF(D18:J23,\"<>0\")","v":30},{"$f":"IF(①初期設定!$D$11=\"１年変形\",IF(K21>52,\"週52時間超\",\"\"),\"\")","v":""},null,null,{"$f":"IF(P20,IF(P20+7>DATE($AM12,$AN12+1,①初期設定!$H$23-1),0,(P20+7)),0)","v":"2021-05-16"},{"$f":"IF(Q20,IF(Q20+7>DATE($AM12,$AN12+1,①初期設定!$H$23-1),0,(Q20+7)),0)","v":"2021-05-17"},{"$f":"IF(R20,IF(R20+7>DATE($AM12,$AN12+1,①初期設定!$H$23-1),0,(R20+7)),0)","v":"2021-05-18"},{"$f":"IF(S20,IF(S20+7>DATE($AM12,$AN12+1,①初期設定!$H$23-1),0,(S20+7)),0)","v":"2021-05-19"},{"$f":"IF(T20,IF(T20+7>DATE($AM12,$AN12+1,①初期設定!$H$23-1),0,(T20+7)),0)","v":"2021-05-20"},{"$f":"IF(U20,IF(U20+7>DATE($AM12,$AN12+1,①初期設定!$H$23-1),0,(U20+7)),0)","v":"2021-05-21"},{"$f":"IF(V20,IF(V20+7>DATE($AM12,$AN12+1,①初期設定!$H$23-1),0,(V20+7)),0)","v":"2021-05-22"},55.999999999999993,{"$f":"COUNTIF(P18:V23,\"<>0\")","v":31},{"$f":"IF(①初期設定!$D$11=\"１年変形\",IF(W21>52,\"週52時間超\",\"\"),\"\")","v":""},null,null,{"$f":"IF(AB20,IF(AB20+7>DATE($AM13,$AN13+1,①初期設定!$H$23-1),0,(AB20+7)),0)","v":"2021-06-20"},{"$f":"IF(AC20,IF(AC20+7>DATE($AM13,$AN13+1,①初期設定!$H$23-1),0,(AC20+7)),0)","v":"2021-06-21"},{"$f":"IF(AD20,IF(AD20+7>DATE($AM13,$AN13+1,①初期設定!$H$23-1),0,(AD20+7)),0)","v":"2021-06-22"},{"$f":"IF(AE20,IF(AE20+7>DATE($AM13,$AN13+1,①初期設定!$H$23-1),0,(AE20+7)),0)","v":"2021-06-23"},{"$f":"IF(AF20,IF(AF20+7>DATE($AM13,$AN13+1,①初期設定!$H$23-1),0,(AF20+7)),0)","v":"2021-06-24"},{"$f":"IF(AG20,IF(AG20+7>DATE($AM13,$AN13+1,①初期設定!$H$23-1),0,(AG20+7)),0)","v":"2021-06-25"},{"$f":"IF(AH20,IF(AH20+7>DATE($AM13,$AN13+1,①初期設定!$H$23-1),0,(AH20+7)),0)","v":"2021-06-26"},55.999999999999993,{"$f":"COUNTIF(AB18:AH23,\"<>0\")","v":30},{"$f":"IF(①初期設定!$D$11=\"１年変形\",IF(AI21>52,\"週52時間超\",\"\"),\"\")","v":""},null,"日",1,"日",-1]
[null,null,null,{"$f":"IF(D21,IF(D21+7>DATE($AM11,$AN11+1,①初期設定!$H$23-1),0,(D21+7)),0)","v":"2021-04-25"},{"$f":"IF(E21,IF(E21+7>DATE($AM11,$AN11+1,①初期設定!$H$23-1),0,(E21+7)),0)","v":"2021-04-26"},{"$f":"IF(F21,IF(F21+7>DATE($AM11,$AN11+1,①初期設定!$H$23-1),0,(F21+7)),0)","v":"2021-04-27"},{"$f":"IF(G21,IF(G21+7>DATE($AM11,$AN11+1,①初期設定!$H$23-1),0,(G21+7)),0)","v":"2021-04-28"},{"$f":"IF(H21,IF(H21+7>DATE($AM11,$AN11+1,①初期設定!$H$23-1),0,(H21+7)),0)","v":"2021-04-29"},{"$f":"IF(I21,IF(I21+7>DATE($AM11,$AN11+1,①初期設定!$H$23-1),0,(I21+7)),0)","v":"2021-04-30"},{"$f":"IF(J21,IF(J21+7>DATE($AM11,$AN11+1,①初期設定!$H$23-1),0,(J21+7)),0)","v":"00:00:00"},55.999999999999993,"月所定労働時間",{"$f":"IF(①初期設定!$D$11=\"１カ月変形\",IF(L23>K15,\"総枠超え\",\"\"),IF(①初期設定!$D$11=\"１年変形\",IF(K22>52,\"週52時間超\",\"\"),\"\"))","v":""},null,null,{"$f":"IF(P21,IF(P21+7>DATE($AM12,$AN12+1,①初期設定!$H$23-1),0,(P21+7)),0)","v":"2021-05-23"},{"$f":"IF(Q21,IF(Q21+7>DATE($AM12,$AN12+1,①初期設定!$H$23-1),0,(Q21+7)),0)","v":"2021-05-24"},{"$f":"IF(R21,IF(R21+7>DATE($AM12,$AN12+1,①初期設定!$H$23-1),0,(R21+7)),0)","v":"2021-05-25"},{"$f":"IF(S21,IF(S21+7>DATE($AM12,$AN12+1,①初期設定!$H$23-1),0,(S21+7)),0)","v":"2021-05-26"},{"$f":"IF(T21,IF(T21+7>DATE($AM12,$AN12+1,①初期設定!$H$23-1),0,(T21+7)),0)","v":"2021-05-27"},{"$f":"IF(U21,IF(U21+7>DATE($AM12,$AN12+1,①初期設定!$H$23-1),0,(U21+7)),0)","v":"2021-05-28"},{"$f":"IF(V21,IF(V21+7>DATE($AM12,$AN12+1,①初期設定!$H$23-1),0,(V21+7)),0)","v":"2021-05-29"},55.999999999999993,"月所定労働時間",{"$f":"IF(①初期設定!$D$11=\"１カ月変形\",IF(X23>W15,\"総枠超え\",\"\"),IF(①初期設定!$D$11=\"１年変形\",IF(W22>52,\"週52時間超\",\"\"),\"\"))","v":""},null,null,{"$f":"IF(AB21,IF(AB21+7>DATE($AM13,$AN13+1,①初期設定!$H$23-1),0,(AB21+7)),0)","v":"2021-06-27"},{"$f":"IF(AC21,IF(AC21+7>DATE($AM13,$AN13+1,①初期設定!$H$23-1),0,(AC21+7)),0)","v":"2021-06-28"},{"$f":"IF(AD21,IF(AD21+7>DATE($AM13,$AN13+1,①初期設定!$H$23-1),0,(AD21+7)),0)","v":"2021-06-29"},{"$f":"IF(AE21,IF(AE21+7>DATE($AM13,$AN13+1,①初期設定!$H$23-1),0,(AE21+7)),0)","v":"2021-06-30"},{"$f":"IF(AF21,IF(AF21+7>DATE($AM13,$AN13+1,①初期設定!$H$23-1),0,(AF21+7)),0)","v":"00:00:00"},{"$f":"IF(AG21,IF(AG21+7>DATE($AM13,$AN13+1,①初期設定!$H$23-1),0,(AG21+7)),0)","v":"00:00:00"},{"$f":"IF(AH21,IF(AH21+7>DATE($AM13,$AN13+1,①初期設定!$H$23-1),0,(AH21+7)),0)","v":"00:00:00"},55.999999999999993,"月所定労働時間",{"$f":"IF(①初期設定!$D$11=\"１カ月変形\",IF(AJ23>AI15,\"総枠超え\",\"\"),IF(①初期設定!$D$11=\"１年変形\",IF(AI22>52,\"週52時間超\",\"\"),\"\"))","v":""},null,"月",2,"月",-3]
[null,null,null,{"$f":"IF(D22,IF(D22+7>DATE($AM11,$AN11+1,①初期設定!$H$23-1),0,(D22+7)),0)","v":"00:00:00"},{"$f":"IF(E22,IF(E22+7>DATE($AM11,$AN11+1,①初期設定!$H$23-1),0,(E22+7)),0)","v":"00:00:00"},{"$f":"IF(F22,IF(F22+7>DATE($AM11,$AN11+1,①初期設定!$H$23-1),0,(F22+7)),0)","v":"00:00:00"},{"$f":"IF(G22,IF(G22+7>DATE($AM11,$AN11+1,①初期設定!$H$23-1),0,(G22+7)),0)","v":"00:00:00"},{"$f":"IF(H22,IF(H22+7>DATE($AM11,$AN11+1,①初期設定!$H$23-1),0,(H22+7)),0)","v":"00:00:00"},{"$f":"IF(I22,IF(I22+7>DATE($AM11,$AN11+1,①初期設定!$H$23-1),0,(I22+7)),0)","v":"00:00:00"},{"$f":"IF(J22,IF(J22+7>DATE($AM11,$AN11+1,①初期設定!$H$23-1),0,(J22+7)),0)","v":"00:00:00"},{"$f":"(D103*D$17+E103*E$17+F103*F$17+G103*G$17+H103*H$17+I103*I$17+J103*J$17)*24","v":55.999999999999993},{"$f":"SUM(K18:K23)","v":335.99999999999994},{"$f":"IF(①初期設定!$D$11=\"１カ月変形\",IF(L23-K15>0,L23-K15,0),IF(①初期設定!$D$11=\"１年変形\",IF(K23>52,\"週52時間超\",\"\"),\"\"))","v":""},null,null,{"$f":"IF(P22,IF(P22+7>DATE($AM12,$AN12+1,①初期設定!$H$23-1),0,(P22+7)),0)","v":"2021-05-30"},{"$f":"IF(Q22,IF(Q22+7>DATE($AM12,$AN12+1,①初期設定!$H$23-1),0,(Q22+7)),0)","v":"2021-05-31"},{"$f":"IF(R22,IF(R22+7>DATE($AM12,$AN12+1,①初期設定!$H$23-1),0,(R22+7)),0)","v":"00:00:00"},{"$f":"IF(S22,IF(S22+7>DATE($AM12,$AN12+1,①初期設定!$H$23-1),0,(S22+7)),0)","v":"00:00:00"},{"$f":"IF(T22,IF(T22+7>DATE($AM12,$AN12+1,①初期設定!$H$23-1),0,(T22+7)),0)","v":"00:00:00"},{"$f":"IF(U22,IF(U22+7>DATE($AM12,$AN12+1,①初期設定!$H$23-1),0,(U22+7)),0)","v":"00:00:00"},{"$f":"IF(V22,IF(V22+7>DATE($AM12,$AN12+1,①初期設定!$H$23-1),0,(V22+7)),0)","v":"00:00:00"},55.999999999999993,{"$f":"SUM(W18:W23)","v":335.99999999999994},{"$f":"IF(①初期設定!$D$11=\"１カ月変形\",IF(X23-W15>0,X23-W15,0),IF(①初期設定!$D$11=\"１年変形\",IF(W23>52,\"週52時間超\",\"\"),\"\"))","v":""},null,null,{"$f":"IF(AB22,IF(AB22+7>DATE($AM13,$AN13+1,①初期設定!$H$23-1),0,(AB22+7)),0)","v":"00:00:00"},{"$f":"IF(AC22,IF(AC22+7>DATE($AM13,$AN13+1,①初期設定!$H$23-1),0,(AC22+7)),0)","v":"00:00:00"},{"$f":"IF(AD22,IF(AD22+7>DATE($AM13,$AN13+1,①初期設定!$H$23-1),0,(AD22+7)),0)","v":"00:00:00"},{"$f":"IF(AE22,IF(AE22+7>DATE($AM13,$AN13+1,①初期設定!$H$23-1),0,(AE22+7)),0)","v":"00:00:00"},{"$f":"IF(AF22,IF(AF22+7>DATE($AM13,$AN13+1,①初期設定!$H$23-1),0,(AF22+7)),0)","v":"00:00:00"},{"$f":"IF(AG22,IF(AG22+7>DATE($AM13,$AN13+1,①初期設定!$H$23-1),0,(AG22+7)),0)","v":"00:00:00"},{"$f":"IF(AH22,IF(AH22+7>DATE($AM13,$AN13+1,①初期設定!$H$23-1),0,(AH22+7)),0)","v":"00:00:00"},55.999999999999993,{"$f":"SUM(AI18:AI23)","v":335.99999999999994},{"$f":"IF(①初期設定!$D$11=\"１カ月変形\",IF(AJ23-AI15>0,AJ23-AI15,0),IF(①初期設定!$D$11=\"１年変形\",IF(AI23>52,\"週52時間超\",\"\"),\"\"))","v":""},null,"火",3,"火",-5]
[null,null,null,{"$f":"IF(①初期設定!$H$23=1,IF(AB15=12,1,AB15+1),AD15)","v":7},{"$f":"IF(F24=\"\",\"\",\"～\")","v":""},{"$f":"IF(①初期設定!$H$23=1,\"\",IF(D24=12,D24-11,D24+1))","v":""},null,null,null,null,{"$f":"IF(①初期設定!$D$11=\"１カ月変形\",IF(①初期設定!$D$4=\"一般\",ROUNDDOWN(40*L30/7,1),ROUNDDOWN(44*L30/7,1)),\"\")","v":""},null,null,null,null,{"$f":"IF(①初期設定!$H$23=1,IF(D24=12,1,D24+1),F24)","v":8},{"$f":"IF(R24=\"\",\"\",\"～\")","v":""},{"$f":"IF(①初期設定!$H$23=1,\"\",IF(P24=12,P24-11,P24+1))","v":""},null,null,null,null,{"$f":"IF(①初期設定!$D$11=\"１カ月変形\",IF(①初期設定!$D$4=\"一般\",ROUNDDOWN(40*X30/7,1),ROUNDDOWN(44*X30/7,1)),\"\")","v":""},null,null,null,null,{"$f":"IF(①初期設定!$H$23=1,IF(P24=12,1,P24+1),R24)","v":9},{"$f":"IF(AD24=\"\",\"\",\"～\")","v":""},{"$f":"IF(①初期設定!$H$23=1,\"\",IF(AB24=12,AB24-11,AB24+1))","v":""},null,null,null,null,{"$f":"IF(①初期設定!$D$11=\"１カ月変形\",IF(①初期設定!$D$4=\"一般\",ROUNDDOWN(40*AJ30/7,1),ROUNDDOWN(44*AJ30/7,1)),\"\")","v":""},null,null,null,"水",4,"水",-7]
[null,null,null,{"$f":"①初期設定!$D$29","v":"日"},{"$f":"①初期設定!$E$29","v":"月"},{"$f":"①初期設定!$F$29","v":"火"},{"$f":"①初期設定!$G$29","v":"水"},{"$f":"①初期設定!$H$29","v":"木"},{"$f":"①初期設定!$I$29","v":"金"},{"$f":"①初期設定!$J$29","v":"土"},"週所定","所定労働日数",null,null,null,{"$f":"①初期設定!$D$29","v":"日"},{"$f":"①初期設定!$E$29","v":"月"},{"$f":"①初期設定!$F$29","v":"火"},{"$f":"①初期設定!$G$29","v":"水"},{"$f":"①初期設定!$H$29","v":"木"},{"$f":"①初期設定!$I$29","v":"金"},{"$f":"①初期設定!$J$29","v":"土"},"週所定","所定労働日数",null,null,null,{"$f":"①初期設定!$D$29","v":"日"},{"$f":"①初期設定!$E$29","v":"月"},{"$f":"①初期設定!$F$29","v":"火"},{"$f":"①初期設定!$G$29","v":"水"},{"$f":"①初期設定!$H$29","v":"木"},{"$f":"①初期設定!$I$29","v":"金"},{"$f":"①初期設定!$J$29","v":"土"},"週所定","所定労働日数",null,null,"木",5,"木",-9]
[null,null,null,{"$f":"①初期設定!$D$30","v":0.33333333333333331},{"$f":"①初期設定!$E$30","v":0.33333333333333331},{"$f":"①初期設定!$F$30","v":0.33333333333333331},{"$f":"①初期設定!$G$30","v":0.33333333333333331},{"$f":"①初期設定!$H$30","v":0.33333333333333331},{"$f":"①初期設定!$I$30","v":0.33333333333333331},{"$f":"①初期設定!$J$30","v":0.33333333333333331},"労働Ｈ",{"$f":"COUNTIF(D107:J112,1)","v":42},{"$f":"IF(①初期設定!$D$11=\"１年変形\",IF(OR(D26*24>10,E26*24>10,F26*24>10,G26*24>10,H26*24>10,I26*24>10,J26*24>10),\"10時間超\",\"\"),IF(①初期設定!$D$11=\"適用なし\",IF(OR(D26*24>8,E26*24>8,F26*24>8,G26*24>8,H26*24>8,I26*24>8,J26*24>8),\"8時間超\",\"\"),\"\"))","v":""},null,null,{"$f":"①初期設定!$D$30","v":0.33333333333333331},{"$f":"①初期設定!$E$30","v":0.33333333333333331},{"$f":"①初期設定!$F$30","v":0.33333333333333331},{"$f":"①初期設定!$G$30","v":0.33333333333333331},{"$f":"①初期設定!$H$30","v":0.33333333333333331},{"$f":"①初期設定!$I$30","v":0.33333333333333331},{"$f":"①初期設定!$J$30","v":0.33333333333333331},"労働Ｈ",{"$f":"COUNTIF(P107:V112,1)","v":42},{"$f":"IF(①初期設定!$D$11=\"１年変形\",IF(OR(P26*24>10,Q26*24>10,R26*24>10,S26*24>10,T26*24>10,U26*24>10,V26*24>10),\"10時間超\",\"\"),IF(①初期設定!$D$11=\"適用なし\",IF(OR(P26*24>8,Q26*24>8,R26*24>8,S26*24>8,T26*24>8,U26*24>8,V26*24>8),\"8時間超\",\"\"),\"\"))","v":""},null,null,{"$f":"①初期設定!$D$30","v":0.33333333333333331},{"$f":"①初期設定!$E$30","v":0.33333333333333331},{"$f":"①初期設定!$F$30","v":0.33333333333333331},{"$f":"①初期設定!$G$30","v":0.33333333333333331},{"$f":"①初期設定!$H$30","v":0.33333333333333331},{"$f":"①初期設定!$I$30","v":0.33333333333333331},{"$f":"①初期設定!$J$30","v":0.33333333333333331},"労働Ｈ",{"$f":"COUNTIF(AB107:AH112,1)","v":42},{"$f":"IF(①初期設定!$D$11=\"１年変形\",IF(OR(AB26*24>10,AC26*24>10,AD26*24>10,AE26*24>10,AF26*24>10,AG26*24>10,AH26*24>10),\"10時間超\",\"\"),IF(①初期設定!$D$11=\"適用なし\",IF(OR(AB26*24>8,AC26*24>8,AD26*24>8,AE26*24>8,AF26*24>8,AG26*24>8,AH26*24>8),\"8時間超\",\"\"),\"\"))","v":""},null,"金",6,"金",-11]
[null,null,null,{"$f":"($J27-7+COLUMN(A27))*(COLUMN(B27)>WEEKDAY(DATE($AM14,$AN14,①初期設定!$H$23+(VLOOKUP(①初期設定!$J$23,$AM$21:$AN$27,2,FALSE)+VLOOKUP(①初期設定!$J$23,$AO$21:$AP$27,2,FALSE)))))","v":"00:00:00"},{"$f":"($J27-7+COLUMN(B27))*(COLUMN(C27)>WEEKDAY(DATE($AM14,$AN14,①初期設定!$H$23+(VLOOKUP(①初期設定!$J$23,$AM$21:$AN$27,2,FALSE)+VLOOKUP(①初期設定!$J$23,$AO$21:$AP$27,2,FALSE)))))","v":"00:00:00"},{"$f":"($J27-7+COLUMN(C27))*(COLUMN(D27)>WEEKDAY(DATE($AM14,$AN14,①初期設定!$H$23+(VLOOKUP(①初期設定!$J$23,$AM$21:$AN$27,2,FALSE)+VLOOKUP(①初期設定!$J$23,$AO$21:$AP$27,2,FALSE)))))","v":"00:00:00"},{"$f":"($J27-7+COLUMN(D27))*(COLUMN(E27)>WEEKDAY(DATE($AM14,$AN14,①初期設定!$H$23+(VLOOKUP(①初期設定!$J$23,$AM$21:$AN$27,2,FALSE)+VLOOKUP(①初期設定!$J$23,$AO$21:$AP$27,2,FALSE)))))","v":"00:00:00"},{"$f":"($J27-7+COLUMN(E27))*(COLUMN(F27)>WEEKDAY(DATE($AM14,$AN14,①初期設定!$H$23+(VLOOKUP(①初期設定!$J$23,$AM$21:$AN$27,2,FALSE)+VLOOKUP(①初期設定!$J$23,$AO$21:$AP$27,2,FALSE)))))","v":"2021-07-01"},{"$f":"($J27-7+COLUMN(F27))*(COLUMN(G27)>WEEKDAY(DATE($AM14,$AN14,①初期設定!$H$23+(VLOOKUP(①初期設定!$J$23,$AM$21:$AN$27,2,FALSE)+VLOOKUP(①初期設定!$J$23,$AO$21:$AP$27,2,FALSE)))))","v":"2021-07-02"},{"$f":"DATE($AM14,$AN14,①初期設定!$H$23+7-WEEKDAY(DATE($AM14,$AN14,①初期設定!$H$23+(VLOOKUP(①初期設定!$J$23,$AM$21:$AN$27,2,FALSE)+VLOOKUP(①初期設定!$J$23,$AO$21:$AP$27,2,FALSE)))))","v":"2021-07-03"},{"$f":"(D107*D$26+E107*E$26+F107*F$26+G107*G$26+H107*H$26+I107*I$26+J107*J$26)*24","v":55.999999999999993},"所定休日数",{"$f":"IF(①初期設定!$D$11=\"適用なし\",IF(①初期設定!$D$4=\"一般\",IF(K27+IF(AH22=0,AI22,AI23)>40,\"週40時間超\",\"\"),IF(K27+IF(AH22=0,AI22,AI23)>44,\"週44時間超\",\"\")),IF(①初期設定!$D$11=\"１年変形\",IF(K27>52,\"週52時間超\",\"\"),\"\"))","v":"週40時間超"},null,null,{"$f":"($V27-7+COLUMN(M27)-12)*(COLUMN(N27)-12>WEEKDAY(DATE($AM15,$AN15,①初期設定!$H$23+(VLOOKUP(①初期設定!$J$23,$AM$21:$AN$27,2,FALSE)+VLOOKUP(①初期設定!$J$23,$AO$21:$AP$27,2,FALSE)))))","v":"2021-08-01"},{"$f":"($V27-7+COLUMN(N27)-12)*(COLUMN(O27)-12>WEEKDAY(DATE($AM15,$AN15,①初期設定!$H$23+(VLOOKUP(①初期設定!$J$23,$AM$21:$AN$27,2,FALSE)+VLOOKUP(①初期設定!$J$23,$AO$21:$AP$27,2,FALSE)))))","v":"2021-08-02"},{"$f":"($V27-7+COLUMN(O27)-12)*(COLUMN(P27)-12>WEEKDAY(DATE($AM15,$AN15,①初期設定!$H$23+(VLOOKUP(①初期設定!$J$23,$AM$21:$AN$27,2,FALSE)+VLOOKUP(①初期設定!$J$23,$AO$21:$AP$27,2,FALSE)))))","v":"2021-08-03"},{"$f":"($V27-7+COLUMN(P27)-12)*(COLUMN(Q27)-12>WEEKDAY(DATE($AM15,$AN15,①初期設定!$H$23+(VLOOKUP(①初期設定!$J$23,$AM$21:$AN$27,2,FALSE)+VLOOKUP(①初期設定!$J$23,$AO$21:$AP$27,2,FALSE)))))","v":"2021-08-04"},{"$f":"($V27-7+COLUMN(Q27)-12)*(COLUMN(R27)-12>WEEKDAY(DATE($AM15,$AN15,①初期設定!$H$23+(VLOOKUP(①初期設定!$J$23,$AM$21:$AN$27,2,FALSE)+VLOOKUP(①初期設定!$J$23,$AO$21:$AP$27,2,FALSE)))))","v":"2021-08-05"},{"$f":"($V27-7+COLUMN(R27)-12)*(COLUMN(S27)-12>WEEKDAY(DATE($AM15,$AN15,①初期設定!$H$23+(VLOOKUP(①初期設定!$J$23,$AM$21:$AN$27,2,FALSE)+VLOOKUP(①初期設定!$J$23,$AO$21:$AP$27,2,FALSE)))))","v":"2021-08-06"},{"$f":"DATE($AM15,$AN15,①初期設定!$H$23+7-WEEKDAY(DATE($AM15,$AN15,①初期設定!$H$23+(VLOOKUP(①初期設定!$J$23,$AM$21:$AN$27,2,FALSE)+VLOOKUP(①初期設定!$J$23,$AO$21:$AP$27,2,FALSE)))))","v":"2021-08-07"},{"$f":"(P107*P$26+Q107*Q$26+R107*R$26+S107*S$26+T107*T$26+U107*U$26+V107*V$26)*24","v":55.999999999999993},"所定休日数",{"$f":"IF(①初期設定!$D$11=\"適用なし\",IF(①初期設定!$D$4=\"一般\",IF(W27+IF(J31=0,K31,K32)>40,\"週40時間超\",\"\"),IF(W27+IF(J31=0,K31,K32)>44,\"週44時間超\",\"\")),IF(①初期設定!$D$11=\"１年変形\",IF(W27>52,\"週52時間超\",\"\"),\"\"))","v":"週40時間超"},null,null,{"$f":"($AH27-7+COLUMN(Y27)-24)*(COLUMN(Z27)-24>WEEKDAY(DATE($AM16,$AN16,①初期設定!$H$23+(VLOOKUP(①初期設定!$J$23,$AM$21:$AN$27,2,FALSE)+VLOOKUP(①初期設定!$J$23,$AO$21:$AP$27,2,FALSE)))))","v":"00:00:00"},{"$f":"($AH27-7+COLUMN(Z27)-24)*(COLUMN(AA27)-24>WEEKDAY(DATE($AM16,$AN16,①初期設定!$H$23+(VLOOKUP(①初期設定!$J$23,$AM$21:$AN$27,2,FALSE)+VLOOKUP(①初期設定!$J$23,$AO$21:$AP$27,2,FALSE)))))","v":"00:00:00"},{"$f":"($AH27-7+COLUMN(AA27)-24)*(COLUMN(AB27)-24>WEEKDAY(DATE($AM16,$AN16,①初期設定!$H$23+(VLOOKUP(①初期設定!$J$23,$AM$21:$AN$27,2,FALSE)+VLOOKUP(①初期設定!$J$23,$AO$21:$AP$27,2,FALSE)))))","v":"00:00:00"},{"$f":"($AH27-7+COLUMN(AB27)-24)*(COLUMN(AC27)-24>WEEKDAY(DATE($AM16,$AN16,①初期設定!$H$23+(VLOOKUP(①初期設定!$J$23,$AM$21:$AN$27,2,FALSE)+VLOOKUP(①初期設定!$J$23,$AO$21:$AP$27,2,FALSE)))))","v":"2021-09-01"},{"$f":"($AH27-7+COLUMN(AC27)-24)*(COLUMN(AD27)-24>WEEKDAY(DATE($AM16,$AN16,①初期設定!$H$23+(VLOOKUP(①初期設定!$J$23,$AM$21:$AN$27,2,FALSE)+VLOOKUP(①初期設定!$J$23,$AO$21:$AP$27,2,FALSE)))))","v":"2021-09-02"},{"$f":"($AH27-7+COLUMN(AD27)-24)*(COLUMN(AE27)-24>WEEKDAY(DATE($AM16,$AN16,①初期設定!$H$23+(VLOOKUP(①初期設定!$J$23,$AM$21:$AN$27,2,FALSE)+VLOOKUP(①初期設定!$J$23,$AO$21:$AP$27,2,FALSE)))))","v":"2021-09-03"},{"$f":"DATE($AM16,$AN16,①初期設定!$H$23+7-WEEKDAY(DATE($AM16,$AN16,①初期設定!$H$23+(VLOOKUP(①初期設定!$J$23,$AM$21:$AN$27,2,FALSE)+VLOOKUP(①初期設定!$J$23,$AO$21:$AP$27,2,FALSE)))))","v":"2021-09-04"},{"$f":"(AB107*AB$26+AC107*AC$26+AD107*AD$26+AE107*AE$26+AF107*AF$26+AG107*AG$26+AH107*AH$26)*24","v":55.999999999999993},"所定休日数",{"$f":"IF(①初期設定!$D$11=\"適用なし\",IF(①初期設定!$D$4=\"一般\",IF(AI27+IF(V31=0,W31,W32)>40,\"週40時間超\",\"\"),IF(AI27+IF(V31=0,W31,W32)>44,\"週44時間超\",\"\")),IF(①初期設定!$D$11=\"１年変形\",IF(AI27>52,\"週52時間超\",\"\"),\"\"))","v":"週40時間超"},null,"土",7,"土",-13]
[null,null,null,{"$f":"J27+1","v":"2021-07-04"},{"$f":"D28+1","v":"2021-07-05"},{"$f":"E28+1","v":"2021-07-06"},{"$f":"F28+1","v":"2021-07-07"},{"$f":"G28+1","v":"2021-07-08"},{"$f":"H28+1","v":"2021-07-09"},{"$f":"I28+1","v":"2021-07-10"},{"$f":"(D108*D$26+E108*E$26+F108*F$26+G108*G$26+H108*H$26+I108*I$26+J108*J$26)*24","v":55.999999999999993},{"$f":"L30-L26","v":-11},{"$f":"IF(①初期設定!$D$11=\"１年変形\",IF(K28>52,\"週52時間超\",\"\"),\"\")","v":""},null,null,{"$f":"V27+1","v":"2021-08-08"},{"$f":"P28+1","v":"2021-08-09"},{"$f":"Q28+1","v":"2021-08-10"},{"$f":"R28+1","v":"2021-08-11"},{"$f":"S28+1","v":"2021-08-12"},{"$f":"T28+1","v":"2021-08-13"},{"$f":"U28+1","v":"2021-08-14"},{"$f":"(P108*P$26+Q108*Q$26+R108*R$26+S108*S$26+T108*T$26+U108*U$26+V108*V$26)*24","v":55.999999999999993},{"$f":"X30-X26","v":-11},{"$f":"IF(①初期設定!$D$11=\"１年変形\",IF(W28>52,\"週52時間超\",\"\"),\"\")","v":""},null,null,{"$f":"AH27+1","v":"2021-09-05"},{"$f":"AB28+1","v":"2021-09-06"},{"$f":"AC28+1","v":"2021-09-07"},{"$f":"AD28+1","v":"2021-09-08"},{"$f":"AE28+1","v":"2021-09-09"},{"$f":"AF28+1","v":"2021-09-10"},{"$f":"AG28+1","v":"2021-09-11"},{"$f":"(AB108*AB$26+AC108*AC$26+AD108*AD$26+AE108*AE$26+AF108*AF$26+AG108*AG$26+AH108*AH$26)*24","v":55.999999999999993},{"$f":"AJ30-AJ26","v":-12},{"$f":"IF(①初期設定!$D$11=\"１年変形\",IF(AI28>52,\"週52時間超\",\"\"),\"\")","v":""},null,null,8,"日"]
[null,null,null,{"$f":"IF(D28,IF(D28+7>DATE($AM14,$AN14+1,①初期設定!$H$23-1),0,(D28+7)),0)","v":"2021-07-11"},{"$f":"IF(E28,IF(E28+7>DATE($AM14,$AN14+1,①初期設定!$H$23-1),0,(E28+7)),0)","v":"2021-07-12"},{"$f":"IF(F28,IF(F28+7>DATE($AM14,$AN14+1,①初期設定!$H$23-1),0,(F28+7)),0)","v":"2021-07-13"},{"$f":"IF(G28,IF(G28+7>DATE($AM14,$AN14+1,①初期設定!$H$23-1),0,(G28+7)),0)","v":"2021-07-14"},{"$f":"IF(H28,IF(H28+7>DATE($AM14,$AN14+1,①初期設定!$H$23-1),0,(H28+7)),0)","v":"2021-07-15"},{"$f":"IF(I28,IF(I28+7>DATE($AM14,$AN14+1,①初期設定!$H$23-1),0,(I28+7)),0)","v":"2021-07-16"},{"$f":"IF(J28,IF(J28+7>DATE($AM14,$AN14+1,①初期設定!$H$23-1),0,(J28+7)),0)","v":"2021-07-17"},55.999999999999993,"暦日数",{"$f":"IF(①初期設定!$D$11=\"１年変形\",IF(K29>52,\"週52時間超\",\"\"),\"\")","v":""},null,null,{"$f":"IF(P28,IF(P28+7>DATE($AM15,$AN15+1,①初期設定!$H$23-1),0,(P28+7)),0)","v":"2021-08-15"},{"$f":"IF(Q28,IF(Q28+7>DATE($AM15,$AN15+1,①初期設定!$H$23-1),0,(Q28+7)),0)","v":"2021-08-16"},{"$f":"IF(R28,IF(R28+7>DATE($AM15,$AN15+1,①初期設定!$H$23-1),0,(R28+7)),0)","v":"2021-08-17"},{"$f":"IF(S28,IF(S28+7>DATE($AM15,$AN15+1,①初期設定!$H$23-1),0,(S28+7)),0)","v":"2021-08-18"},{"$f":"IF(T28,IF(T28+7>DATE($AM15,$AN15+1,①初期設定!$H$23-1),0,(T28+7)),0)","v":"2021-08-19"},{"$f":"IF(U28,IF(U28+7>DATE($AM15,$AN15+1,①初期設定!$H$23-1),0,(U28+7)),0)","v":"2021-08-20"},{"$f":"IF(V28,IF(V28+7>DATE($AM15,$AN15+1,①初期設定!$H$23-1),0,(V28+7)),0)","v":"2021-08-21"},55.999999999999993,"暦日数",{"$f":"IF(①初期設定!$D$11=\"１年変形\",IF(W29>52,\"週52時間超\",\"\"),\"\")","v":""},null,null,{"$f":"IF(AB28,IF(AB28+7>DATE($AM16,$AN16+1,①初期設定!$H$23-1),0,(AB28+7)),0)","v":"2021-09-12"},{"$f":"IF(AC28,IF(AC28+7>DATE($AM16,$AN16+1,①初期設定!$H$23-1),0,(AC28+7)),0)","v":"2021-09-13"},{"$f":"IF(AD28,IF(AD28+7>DATE($AM16,$AN16+1,①初期設定!$H$23-1),0,(AD28+7)),0)","v":"2021-09-14"},{"$f":"IF(AE28,IF(AE28+7>DATE($AM16,$AN16+1,①初期設定!$H$23-1),0,(AE28+7)),0)","v":"2021-09-15"},{"$f":"IF(AF28,IF(AF28+7>DATE($AM16,$AN16+1,①初期設定!$H$23-1),0,(AF28+7)),0)","v":"2021-09-16"},{"$f":"IF(AG28,IF(AG28+7>DATE($AM16,$AN16+1,①初期設定!$H$23-1),0,(AG28+7)),0)","v":"2021-09-17"},{"$f":"IF(AH28,IF(AH28+7>DATE($AM16,$AN16+1,①初期設定!$H$23-1),0,(AH28+7)),0)","v":"2021-09-18"},55.999999999999993,"暦日数",{"$f":"IF(①初期設定!$D$11=\"１年変形\",IF(AI29>52,\"週52時間超\",\"\"),\"\")","v":""},null,null,9,"月"]
[null,null,null,{"$f":"IF(D29,IF(D29+7>DATE($AM14,$AN14+1,①初期設定!$H$23-1),0,(D29+7)),0)","v":"2021-07-18"},{"$f":"IF(E29,IF(E29+7>DATE($AM14,$AN14+1,①初期設定!$H$23-1),0,(E29+7)),0)","v":"2021-07-19"},{"$f":"IF(F29,IF(F29+7>DATE($AM14,$AN14+1,①初期設定!$H$23-1),0,(F29+7)),0)","v":"2021-07-20"},{"$f":"IF(G29,IF(G29+7>DATE($AM14,$AN14+1,①初期設定!$H$23-1),0,(G29+7)),0)","v":"2021-07-21"},{"$f":"IF(H29,IF(H29+7>DATE($AM14,$AN14+1,①初期設定!$H$23-1),0,(H29+7)),0)","v":"2021-07-22"},{"$f":"IF(I29,IF(I29+7>DATE($AM14,$AN14+1,①初期設定!$H$23-1),0,(I29+7)),0)","v":"2021-07-23"},{"$f":"IF(J29,IF(J29+7>DATE($AM14,$AN14+1,①初期設定!$H$23-1),0,(J29+7)),0)","v":"2021-07-24"},55.999999999999993,{"$f":"COUNTIF(D27:J32,\"<>0\")","v":31},{"$f":"IF(①初期設定!$D$11=\"１年変形\",IF(K30>52,\"週52時間超\",\"\"),\"\")","v":""},null,null,{"$f":"IF(P29,IF(P29+7>DATE($AM15,$AN15+1,①初期設定!$H$23-1),0,(P29+7)),0)","v":"2021-08-22"},{"$f":"IF(Q29,IF(Q29+7>DATE($AM15,$AN15+1,①初期設定!$H$23-1),0,(Q29+7)),0)","v":"2021-08-23"},{"$f":"IF(R29,IF(R29+7>DATE($AM15,$AN15+1,①初期設定!$H$23-1),0,(R29+7)),0)","v":"2021-08-24"},{"$f":"IF(S29,IF(S29+7>DATE($AM15,$AN15+1,①初期設定!$H$23-1),0,(S29+7)),0)","v":"2021-08-25"},{"$f":"IF(T29,IF(T29+7>DATE($AM15,$AN15+1,①初期設定!$H$23-1),0,(T29+7)),0)","v":"2021-08-26"},{"$f":"IF(U29,IF(U29+7>DATE($AM15,$AN15+1,①初期設定!$H$23-1),0,(U29+7)),0)","v":"2021-08-27"},{"$f":"IF(V29,IF(V29+7>DATE($AM15,$AN15+1,①初期設定!$H$23-1),0,(V29+7)),0)","v":"2021-08-28"},55.999999999999993,{"$f":"COUNTIF(P27:V32,\"<>0\")","v":31},{"$f":"IF(①初期設定!$D$11=\"１年変形\",IF(W30>52,\"週52時間超\",\"\"),\"\")","v":""},null,null,{"$f":"IF(AB29,IF(AB29+7>DATE($AM16,$AN16+1,①初期設定!$H$23-1),0,(AB29+7)),0)","v":"2021-09-19"},{"$f":"IF(AC29,IF(AC29+7>DATE($AM16,$AN16+1,①初期設定!$H$23-1),0,(AC29+7)),0)","v":"2021-09-20"},{"$f":"IF(AD29,IF(AD29+7>DATE($AM16,$AN16+1,①初期設定!$H$23-1),0,(AD29+7)),0)","v":"2021-09-21"},{"$f":"IF(AE29,IF(AE29+7>DATE($AM16,$AN16+1,①初期設定!$H$23-1),0,(AE29+7)),0)","v":"2021-09-22"},{"$f":"IF(AF29,IF(AF29+7>DATE($AM16,$AN16+1,①初期設定!$H$23-1),0,(AF29+7)),0)","v":"2021-09-23"},{"$f":"IF(AG29,IF(AG29+7>DATE($AM16,$AN16+1,①初期設定!$H$23-1),0,(AG29+7)),0)","v":"2021-09-24"},{"$f":"IF(AH29,IF(AH29+7>DATE($AM16,$AN16+1,①初期設定!$H$23-1),0,(AH29+7)),0)","v":"2021-09-25"},55.999999999999993,{"$f":"COUNTIF(AB27:AH32,\"<>0\")","v":30},{"$f":"IF(①初期設定!$D$11=\"１年変形\",IF(AI30>52,\"週52時間超\",\"\"),\"\")","v":""},null,null,10,"火"]
[null,null,null,{"$f":"IF(D30,IF(D30+7>DATE($AM14,$AN14+1,①初期設定!$H$23-1),0,(D30+7)),0)","v":"2021-07-25"},{"$f":"IF(E30,IF(E30+7>DATE($AM14,$AN14+1,①初期設定!$H$23-1),0,(E30+7)),0)","v":"2021-07-26"},{"$f":"IF(F30,IF(F30+7>DATE($AM14,$AN14+1,①初期設定!$H$23-1),0,(F30+7)),0)","v":"2021-07-27"},{"$f":"IF(G30,IF(G30+7>DATE($AM14,$AN14+1,①初期設定!$H$23-1),0,(G30+7)),0)","v":"2021-07-28"},{"$f":"IF(H30,IF(H30+7>DATE($AM14,$AN14+1,①初期設定!$H$23-1),0,(H30+7)),0)","v":"2021-07-29"},{"$f":"IF(I30,IF(I30+7>DATE($AM14,$AN14+1,①初期設定!$H$23-1),0,(I30+7)),0)","v":"2021-07-30"},{"$f":"IF(J30,IF(J30+7>DATE($AM14,$AN14+1,①初期設定!$H$23-1),0,(J30+7)),0)","v":"2021-07-31"},55.999999999999993,"月所定労働時間",{"$f":"IF(①初期設定!$D$11=\"１カ月変形\",IF(L32>K24,\"総枠超え\",\"\"),IF(①初期設定!$D$11=\"１年変形\",IF(K31>52,\"週52時間超\",\"\"),\"\"))","v":""},null,null,{"$f":"IF(P30,IF(P30+7>DATE($AM15,$AN15+1,①初期設定!$H$23-1),0,(P30+7)),0)","v":"2021-08-29"},{"$f":"IF(Q30,IF(Q30+7>DATE($AM15,$AN15+1,①初期設定!$H$23-1),0,(Q30+7)),0)","v":"2021-08-30"},{"$f":"IF(R30,IF(R30+7>DATE($AM15,$AN15+1,①初期設定!$H$23-1),0,(R30+7)),0)","v":"2021-08-31"},{"$f":"IF(S30,IF(S30+7>DATE($AM15,$AN15+1,①初期設定!$H$23-1),0,(S30+7)),0)","v":"00:00:00"},{"$f":"IF(T30,IF(T30+7>DATE($AM15,$AN15+1,①初期設定!$H$23-1),0,(T30+7)),0)","v":"00:00:00"},{"$f":"IF(U30,IF(U30+7>DATE($AM15,$AN15+1,①初期設定!$H$23-1),0,(U30+7)),0)","v":"00:00:00"},{"$f":"IF(V30,IF(V30+7>DATE($AM15,$AN15+1,①初期設定!$H$23-1),0,(V30+7)),0)","v":"00:00:00"},55.999999999999993,"月所定労働時間",{"$f":"IF(①初期設定!$D$11=\"１カ月変形\",IF(X32>W24,\"総枠超え\",\"\"),IF(①初期設定!$D$11=\"１年変形\",IF(W31>52,\"週52時間超\",\"\"),\"\"))","v":""},null,null,{"$f":"IF(AB30,IF(AB30+7>DATE($AM16,$AN16+1,①初期設定!$H$23-1),0,(AB30+7)),0)","v":"2021-09-26"},{"$f":"IF(AC30,IF(AC30+7>DATE($AM16,$AN16+1,①初期設定!$H$23-1),0,(AC30+7)),0)","v":"2021-09-27"},{"$f":"IF(AD30,IF(AD30+7>DATE($AM16,$AN16+1,①初期設定!$H$23-1),0,(AD30+7)),0)","v":"2021-09-28"},{"$f":"IF(AE30,IF(AE30+7>DATE($AM16,$AN16+1,①初期設定!$H$23-1),0,(AE30+7)),0)","v":"2021-09-29"},{"$f":"IF(AF30,IF(AF30+7>DATE($AM16,$AN16+1,①初期設定!$H$23-1),0,(AF30+7)),0)","v":"2021-09-30"},{"$f":"IF(AG30,IF(AG30+7>DATE($AM16,$AN16+1,①初期設定!$H$23-1),0,(AG30+7)),0)","v":"00:00:00"},{"$f":"IF(AH30,IF(AH30+7>DATE($AM16,$AN16+1,①初期設定!$H$23-1),0,(AH30+7)),0)","v":"00:00:00"},55.999999999999993,"月所定労働時間",{"$f":"IF(①初期設定!$D$11=\"１カ月変形\",IF(AJ32>AI24,\"総枠超え\",\"\"),IF(①初期設定!$D$11=\"１年変形\",IF(AI31>52,\"週52時間超\",\"\"),\"\"))","v":""},null,null,11,"水"]
[null,null,null,{"$f":"IF(D31,IF(D31+7>DATE($AM14,$AN14+1,①初期設定!$H$23-1),0,(D31+7)),0)","v":"00:00:00"},{"$f":"IF(E31,IF(E31+7>DATE($AM14,$AN14+1,①初期設定!$H$23-1),0,(E31+7)),0)","v":"00:00:00"},{"$f":"IF(F31,IF(F31+7>DATE($AM14,$AN14+1,①初期設定!$H$23-1),0,(F31+7)),0)","v":"00:00:00"},{"$f":"IF(G31,IF(G31+7>DATE($AM14,$AN14+1,①初期設定!$H$23-1),0,(G31+7)),0)","v":"00:00:00"},{"$f":"IF(H31,IF(H31+7>DATE($AM14,$AN14+1,①初期設定!$H$23-1),0,(H31+7)),0)","v":"00:00:00"},{"$f":"IF(I31,IF(I31+7>DATE($AM14,$AN14+1,①初期設定!$H$23-1),0,(I31+7)),0)","v":"00:00:00"},{"$f":"IF(J31,IF(J31+7>DATE($AM14,$AN14+1,①初期設定!$H$23-1),0,(J31+7)),0)","v":"00:00:00"},55.999999999999993,{"$f":"SUM(K27:K32)","v":335.99999999999994},{"$f":"IF(①初期設定!$D$11=\"１カ月変形\",IF(L32-K24>0,L32-K24,0),IF(①初期設定!$D$11=\"１年変形\",IF(K32>52,\"週52時間超\",\"\"),\"\"))","v":""},null,null,{"$f":"IF(P31,IF(P31+7>DATE($AM15,$AN15+1,①初期設定!$H$23-1),0,(P31+7)),0)","v":"00:00:00"},{"$f":"IF(Q31,IF(Q31+7>DATE($AM15,$AN15+1,①初期設定!$H$23-1),0,(Q31+7)),0)","v":"00:00:00"},{"$f":"IF(R31,IF(R31+7>DATE($AM15,$AN15+1,①初期設定!$H$23-1),0,(R31+7)),0)","v":"00:00:00"},{"$f":"IF(S31,IF(S31+7>DATE($AM15,$AN15+1,①初期設定!$H$23-1),0,(S31+7)),0)","v":"00:00:00"},{"$f":"IF(T31,IF(T31+7>DATE($AM15,$AN15+1,①初期設定!$H$23-1),0,(T31+7)),0)","v":"00:00:00"},{"$f":"IF(U31,IF(U31+7>DATE($AM15,$AN15+1,①初期設定!$H$23-1),0,(U31+7)),0)","v":"00:00:00"},{"$f":"IF(V31,IF(V31+7>DATE($AM15,$AN15+1,①初期設定!$H$23-1),0,(V31+7)),0)","v":"00:00:00"},55.999999999999993,{"$f":"SUM(W27:W32)","v":335.99999999999994},{"$f":"IF(①初期設定!$D$11=\"１カ月変形\",IF(X32-W24>0,X32-W24,0),IF(①初期設定!$D$11=\"１年変形\",IF(W32>52,\"週52時間超\",\"\"),\"\"))","v":""},null,null,{"$f":"IF(AB31,IF(AB31+7>DATE($AM16,$AN16+1,①初期設定!$H$23-1),0,(AB31+7)),0)","v":"00:00:00"},{"$f":"IF(AC31,IF(AC31+7>DATE($AM16,$AN16+1,①初期設定!$H$23-1),0,(AC31+7)),0)","v":"00:00:00"},{"$f":"IF(AD31,IF(AD31+7>DATE($AM16,$AN16+1,①初期設定!$H$23-1),0,(AD31+7)),0)","v":"00:00:00"},{"$f":"IF(AE31,IF(AE31+7>DATE($AM16,$AN16+1,①初期設定!$H$23-1),0,(AE31+7)),0)","v":"00:00:00"},{"$f":"IF(AF31,IF(AF31+7>DATE($AM16,$AN16+1,①初期設定!$H$23-1),0,(AF31+7)),0)","v":"00:00:00"},{"$f":"IF(AG31,IF(AG31+7>DATE($AM16,$AN16+1,①初期設定!$H$23-1),0,(AG31+7)),0)","v":"00:00:00"},{"$f":"IF(AH31,IF(AH31+7>DATE($AM16,$AN16+1,①初期設定!$H$23-1),0,(AH31+7)),0)","v":"00:00:00"},55.999999999999993,{"$f":"SUM(AI27:AI32)","v":335.99999999999994},{"$f":"IF(①初期設定!$D$11=\"１カ月変形\",IF(AJ32-AI24>0,AJ32-AI24,0),IF(①初期設定!$D$11=\"１年変形\",IF(AI32>52,\"週52時間超\",\"\"),\"\"))","v":""},null,null,12,"木"]
[null,null,null,{"$f":"IF(①初期設定!$H$23=1,IF(AB24=12,1,AB24+1),AD24)","v":10},{"$f":"IF(F33=\"\",\"\",\"～\")","v":""},{"$f":"IF(①初期設定!$H$23=1,\"\",IF(D33=12,D33-11,D33+1))","v":""},null,null,null,null,{"$f":"IF(①初期設定!$D$11=\"１カ月変形\",IF(①初期設定!$D$4=\"一般\",ROUNDDOWN(40*L39/7,1),ROUNDDOWN(44*L39/7,1)),\"\")","v":""},null,null,null,null,{"$f":"IF(①初期設定!$H$23=1,IF(D33=12,1,D33+1),F33)","v":11},{"$f":"IF(R33=\"\",\"\",\"～\")","v":""},{"$f":"IF(①初期設定!$H$23=1,\"\",IF(P33=12,P33-11,P33+1))","v":""},null,null,null,null,{"$f":"IF(①初期設定!$D$11=\"１カ月変形\",IF(①初期設定!$D$4=\"一般\",ROUNDDOWN(40*X39/7,1),ROUNDDOWN(44*X39/7,1)),\"\")","v":""},null,null,null,null,{"$f":"IF(①初期設定!$H$23=1,IF(P33=12,1,P33+1),R33)","v":12},{"$f":"IF(AD33=\"\",\"\",\"～\")","v":""},{"$f":"IF(①初期設定!$H$23=1,\"\",IF(AB33=12,AB33-11,AB33+1))","v":""},null,null,null,null,{"$f":"IF(①初期設定!$D$11=\"１カ月変形\",IF(①初期設定!$D$4=\"一般\",ROUNDDOWN(40*AJ39/7,1),ROUNDDOWN(44*AJ39/7,1)),\"\")","v":""},null,null,null,null,13,"金"]
[null,null,null,{"$f":"①初期設定!$D$29","v":"日"},{"$f":"①初期設定!$E$29","v":"月"},{"$f":"①初期設定!$F$29","v":"火"},{"$f":"①初期設定!$G$29","v":"水"},{"$f":"①初期設定!$H$29","v":"木"},{"$f":"①初期設定!$I$29","v":"金"},{"$f":"①初期設定!$J$29","v":"土"},"週所定","所定労働日数",null,null,null,{"$f":"①初期設定!$D$29","v":"日"},{"$f":"①初期設定!$E$29","v":"月"},{"$f":"①初期設定!$F$29","v":"火"},{"$f":"①初期設定!$G$29","v":"水"},{"$f":"①初期設定!$H$29","v":"木"},{"$f":"①初期設定!$I$29","v":"金"},{"$f":"①初期設定!$J$29","v":"土"},"週所定","所定労働日数",null,null,null,{"$f":"①初期設定!$D$29","v":"日"},{"$f":"①初期設定!$E$29","v":"月"},{"$f":"①初期設定!$F$29","v":"火"},{"$f":"①初期設定!$G$29","v":"水"},{"$f":"①初期設定!$H$29","v":"木"},{"$f":"①初期設定!$I$29","v":"金"},{"$f":"①初期設定!$J$29","v":"土"},"週所定","所定労働日数",null,null,null,14,"土"]
[null,null,null,{"$f":"①初期設定!$D$30","v":0.33333333333333331},{"$f":"①初期設定!$E$30","v":0.33333333333333331},{"$f":"①初期設定!$F$30","v":0.33333333333333331},{"$f":"①初期設定!$G$30","v":0.33333333333333331},{"$f":"①初期設定!$H$30","v":0.33333333333333331},{"$f":"①初期設定!$I$30","v":0.33333333333333331},{"$f":"①初期設定!$J$30","v":0.33333333333333331},"労働Ｈ",{"$f":"COUNTIF(D116:J121,1)","v":42},{"$f":"IF(①初期設定!$D$11=\"１年変形\",IF(OR(D35*24>10,E35*24>10,F35*24>10,G35*24>10,H35*24>10,I35*24>10,J35*24>10),\"10時間超\",\"\"),IF(①初期設定!$D$11=\"適用なし\",IF(OR(D35*24>8,E35*24>8,F35*24>8,G35*24>8,H35*24>8,I35*24>8,J35*24>8),\"8時間超\",\"\"),\"\"))","v":""},null,null,{"$f":"①初期設定!$D$30","v":0.33333333333333331},{"$f":"①初期設定!$E$30","v":0.33333333333333331},{"$f":"①初期設定!$F$30","v":0.33333333333333331},{"$f":"①初期設定!$G$30","v":0.33333333333333331},{"$f":"①初期設定!$H$30","v":0.33333333333333331},{"$f":"①初期設定!$I$30","v":0.33333333333333331},{"$f":"①初期設定!$J$30","v":0.33333333333333331},"労働Ｈ",{"$f":"COUNTIF(P116:V121,1)","v":42},{"$f":"IF(①初期設定!$D$11=\"１年変形\",IF(OR(P35*24>10,Q35*24>10,R35*24>10,S35*24>10,T35*24>10,U35*24>10,V35*24>10),\"10時間超\",\"\"),IF(①初期設定!$D$11=\"適用なし\",IF(OR(P35*24>8,Q35*24>8,R35*24>8,S35*24>8,T35*24>8,U35*24>8,V35*24>8),\"8時間超\",\"\"),\"\"))","v":""},null,null,{"$f":"①初期設定!$D$30","v":0.33333333333333331},{"$f":"①初期設定!$E$30","v":0.33333333333333331},{"$f":"①初期設定!$F$30","v":0.33333333333333331},{"$f":"①初期設定!$G$30","v":0.33333333333333331},{"$f":"①初期設定!$H$30","v":0.33333333333333331},{"$f":"①初期設定!$I$30","v":0.33333333333333331},{"$f":"①初期設定!$J$30","v":0.33333333333333331},"労働Ｈ",{"$f":"COUNTIF(AB116:AH121,1)","v":42},{"$f":"IF(①初期設定!$D$11=\"１年変形\",IF(OR(AB35*24>10,AC35*24>10,AD35*24>10,AE35*24>10,AF35*24>10,AG35*24>10,AH35*24>10),\"10時間超\",\"\"),IF(①初期設定!$D$11=\"適用なし\",IF(OR(AB35*24>8,AC35*24>8,AD35*24>8,AE35*24>8,AF35*24>8,AG35*24>8,AH35*24>8),\"8時間超\",\"\"),\"\"))","v":""}]
[null,null,null,{"$f":"($J36-7+COLUMN(A36))*(COLUMN(B36)>WEEKDAY(DATE($AM17,$AN17,①初期設定!$H$23+(VLOOKUP(①初期設定!$J$23,$AM$21:$AN$27,2,FALSE)+VLOOKUP(①初期設定!$J$23,$AO$21:$AP$27,2,FALSE)))))","v":"00:00:00"},{"$f":"($J36-7+COLUMN(B36))*(COLUMN(C36)>WEEKDAY(DATE($AM17,$AN17,①初期設定!$H$23+(VLOOKUP(①初期設定!$J$23,$AM$21:$AN$27,2,FALSE)+VLOOKUP(①初期設定!$J$23,$AO$21:$AP$27,2,FALSE)))))","v":"00:00:00"},{"$f":"($J36-7+COLUMN(C36))*(COLUMN(D36)>WEEKDAY(DATE($AM17,$AN17,①初期設定!$H$23+(VLOOKUP(①初期設定!$J$23,$AM$21:$AN$27,2,FALSE)+VLOOKUP(①初期設定!$J$23,$AO$21:$AP$27,2,FALSE)))))","v":"00:00:00"},{"$f":"($J36-7+COLUMN(D36))*(COLUMN(E36)>WEEKDAY(DATE($AM17,$AN17,①初期設定!$H$23+(VLOOKUP(①初期設定!$J$23,$AM$21:$AN$27,2,FALSE)+VLOOKUP(①初期設定!$J$23,$AO$21:$AP$27,2,FALSE)))))","v":"00:00:00"},{"$f":"($J36-7+COLUMN(E36))*(COLUMN(F36)>WEEKDAY(DATE($AM17,$AN17,①初期設定!$H$23+(VLOOKUP(①初期設定!$J$23,$AM$21:$AN$27,2,FALSE)+VLOOKUP(①初期設定!$J$23,$AO$21:$AP$27,2,FALSE)))))","v":"00:00:00"},{"$f":"($J36-7+COLUMN(F36))*(COLUMN(G36)>WEEKDAY(DATE($AM17,$AN17,①初期設定!$H$23+(VLOOKUP(①初期設定!$J$23,$AM$21:$AN$27,2,FALSE)+VLOOKUP(①初期設定!$J$23,$AO$21:$AP$27,2,FALSE)))))","v":"2021-10-01"},{"$f":"DATE($AM17,$AN17,①初期設定!$H$23+7-WEEKDAY(DATE($AM17,$AN17,①初期設定!$H$23+(VLOOKUP(①初期設定!$J$23,$AM$21:$AN$27,2,FALSE)+VLOOKUP(①初期設定!$J$23,$AO$21:$AP$27,2,FALSE)))))","v":"2021-10-02"},{"$f":"(D116*D$35+E116*E$35+F116*F$35+G116*G$35+H116*H$35+I116*I$35+J116*J$35)*24","v":55.999999999999993},"所定休日数",{"$f":"IF(①初期設定!$D$11=\"適用なし\",IF(①初期設定!$D$4=\"一般\",IF(K36+IF(AH31=0,AI31,AI32)>40,\"週40時間超\",\"\"),IF(K36+IF(AH31=0,AI31,AI32)>44,\"週44時間超\",\"\")),IF(①初期設定!$D$11=\"１年変形\",IF(K36>52,\"週52時間超\",\"\"),\"\"))","v":"週40時間超"},null,null,{"$f":"($V36-7+COLUMN(M36)-12)*(COLUMN(N36)-12>WEEKDAY(DATE($AM18,$AN18,①初期設定!$H$23+(VLOOKUP(①初期設定!$J$23,$AM$21:$AN$27,2,FALSE)+VLOOKUP(①初期設定!$J$23,$AO$21:$AP$27,2,FALSE)))))","v":"00:00:00"},{"$f":"($V36-7+COLUMN(N36)-12)*(COLUMN(O36)-12>WEEKDAY(DATE($AM18,$AN18,①初期設定!$H$23+(VLOOKUP(①初期設定!$J$23,$AM$21:$AN$27,2,FALSE)+VLOOKUP(①初期設定!$J$23,$AO$21:$AP$27,2,FALSE)))))","v":"2021-11-01"},{"$f":"($V36-7+COLUMN(O36)-12)*(COLUMN(P36)-12>WEEKDAY(DATE($AM18,$AN18,①初期設定!$H$23+(VLOOKUP(①初期設定!$J$23,$AM$21:$AN$27,2,FALSE)+VLOOKUP(①初期設定!$J$23,$AO$21:$AP$27,2,FALSE)))))","v":"2021-11-02"},{"$f":"($V36-7+COLUMN(P36)-12)*(COLUMN(Q36)-12>WEEKDAY(DATE($AM18,$AN18,①初期設定!$H$23+(VLOOKUP(①初期設定!$J$23,$AM$21:$AN$27,2,FALSE)+VLOOKUP(①初期設定!$J$23,$AO$21:$AP$27,2,FALSE)))))","v":"2021-11-03"},{"$f":"($V36-7+COLUMN(Q36)-12)*(COLUMN(R36)-12>WEEKDAY(DATE($AM18,$AN18,①初期設定!$H$23+(VLOOKUP(①初期設定!$J$23,$AM$21:$AN$27,2,FALSE)+VLOOKUP(①初期設定!$J$23,$AO$21:$AP$27,2,FALSE)))))","v":"2021-11-04"},{"$f":"($V36-7+COLUMN(R36)-12)*(COLUMN(S36)-12>WEEKDAY(DATE($AM18,$AN18,①初期設定!$H$23+(VLOOKUP(①初期設定!$J$23,$AM$21:$AN$27,2,FALSE)+VLOOKUP(①初期設定!$J$23,$AO$21:$AP$27,2,FALSE)))))","v":"2021-11-05"},{"$f":"DATE($AM18,$AN18,①初期設定!$H$23+7-WEEKDAY(DATE($AM18,$AN18,①初期設定!$H$23+(VLOOKUP(①初期設定!$J$23,$AM$21:$AN$27,2,FALSE)+VLOOKUP(①初期設定!$J$23,$AO$21:$AP$27,2,FALSE)))))","v":"2021-11-06"},{"$f":"(P116*P$35+Q116*Q$35+R116*R$35+S116*S$35+T116*T$35+U116*U$35+V116*V$35)*24","v":55.999999999999993},"所定休日数",{"$f":"IF(①初期設定!$D$11=\"適用なし\",IF(①初期設定!$D$4=\"一般\",IF(W36+IF(J40=0,K40,K41)>40,\"週40時間超\",\"\"),IF(W36+IF(J40=0,K40,K41)>44,\"週44時間超\",\"\")),IF(①初期設定!$D$11=\"１年変形\",IF(W36>52,\"週52時間超\",\"\"),\"\"))","v":"週40時間超"},null,null,{"$f":"($AH36-7+COLUMN(Y36)-24)*(COLUMN(Z36)-24>WEEKDAY(DATE($AM19,$AN19,①初期設定!$H$23+(VLOOKUP(①初期設定!$J$23,$AM$21:$AN$27,2,FALSE)+VLOOKUP(①初期設定!$J$23,$AO$21:$AP$27,2,FALSE)))))","v":"00:00:00"},{"$f":"($AH36-7+COLUMN(Z36)-24)*(COLUMN(AA36)-24>WEEKDAY(DATE($AM19,$AN19,①初期設定!$H$23+(VLOOKUP(①初期設定!$J$23,$AM$21:$AN$27,2,FALSE)+VLOOKUP(①初期設定!$J$23,$AO$21:$AP$27,2,FALSE)))))","v":"00:00:00"},{"$f":"($AH36-7+COLUMN(AA36)-24)*(COLUMN(AB36)-24>WEEKDAY(DATE($AM19,$AN19,①初期設定!$H$23+(VLOOKUP(①初期設定!$J$23,$AM$21:$AN$27,2,FALSE)+VLOOKUP(①初期設定!$J$23,$AO$21:$AP$27,2,FALSE)))))","v":"00:00:00"},{"$f":"($AH36-7+COLUMN(AB36)-24)*(COLUMN(AC36)-24>WEEKDAY(DATE($AM19,$AN19,①初期設定!$H$23+(VLOOKUP(①初期設定!$J$23,$AM$21:$AN$27,2,FALSE)+VLOOKUP(①初期設定!$J$23,$AO$21:$AP$27,2,FALSE)))))","v":"2021-12-01"},{"$f":"($AH36-7+COLUMN(AC36)-24)*(COLUMN(AD36)-24>WEEKDAY(DATE($AM19,$AN19,①初期設定!$H$23+(VLOOKUP(①初期設定!$J$23,$AM$21:$AN$27,2,FALSE)+VLOOKUP(①初期設定!$J$23,$AO$21:$AP$27,2,FALSE)))))","v":"2021-12-02"},{"$f":"($AH36-7+COLUMN(AD36)-24)*(COLUMN(AE36)-24>WEEKDAY(DATE($AM19,$AN19,①初期設定!$H$23+(VLOOKUP(①初期設定!$J$23,$AM$21:$AN$27,2,FALSE)+VLOOKUP(①初期設定!$J$23,$AO$21:$AP$27,2,FALSE)))))","v":"2021-12-03"},{"$f":"DATE($AM19,$AN19,①初期設定!$H$23+7-WEEKDAY(DATE($AM19,$AN19,①初期設定!$H$23+(VLOOKUP(①初期設定!$J$23,$AM$21:$AN$27,2,FALSE)+VLOOKUP(①初期設定!$J$23,$AO$21:$AP$27,2,FALSE)))))","v":"2021-12-04"},{"$f":"(AB116*AB$35+AC116*AC$35+AD116*AD$35+AE116*AE$35+AF116*AF$35+AG116*AG$35+AH116*AH$35)*24","v":55.999999999999993},"所定休日数",{"$f":"IF(①初期設定!$D$11=\"適用なし\",IF(①初期設定!$D$4=\"一般\",IF(AI36+IF(V40=0,W40,W41)>40,\"週40時間超\",\"\"),IF(AI36+IF(V40=0,W40,W41)>44,\"週44時間超\",\"\")),IF(①初期設定!$D$11=\"１年変形\",IF(AI36>52,\"週52時間超\",\"\"),\"\"))","v":"週40時間超"}]
[null,null,null,{"$f":"J36+1","v":"2021-10-03"},{"$f":"D37+1","v":"2021-10-04"},{"$f":"E37+1","v":"2021-10-05"},{"$f":"F37+1","v":"2021-10-06"},{"$f":"G37+1","v":"2021-10-07"},{"$f":"H37+1","v":"2021-10-08"},{"$f":"I37+1","v":"2021-10-09"},{"$f":"(D117*D$35+E117*E$35+F117*F$35+G117*G$35+H117*H$35+I117*I$35+J117*J$35)*24","v":55.999999999999993},{"$f":"L39-L35","v":-11},{"$f":"IF(①初期設定!$D$11=\"１年変形\",IF(K37>52,\"週52時間超\",\"\"),\"\")","v":""},null,null,{"$f":"V36+1","v":"2021-11-07"},{"$f":"P37+1","v":"2021-11-08"},{"$f":"Q37+1","v":"2021-11-09"},{"$f":"R37+1","v":"2021-11-10"},{"$f":"S37+1","v":"2021-11-11"},{"$f":"T37+1","v":"2021-11-12"},{"$f":"U37+1","v":"2021-11-13"},{"$f":"(P117*P$35+Q117*Q$35+R117*R$35+S117*S$35+T117*T$35+U117*U$35+V117*V$35)*24","v":55.999999999999993},{"$f":"X39-X35","v":-12},{"$f":"IF(①初期設定!$D$11=\"１年変形\",IF(W37>52,\"週52時間超\",\"\"),\"\")","v":""},null,null,{"$f":"AH36+1","v":"2021-12-05"},{"$f":"AB37+1","v":"2021-12-06"},{"$f":"AC37+1","v":"2021-12-07"},{"$f":"AD37+1","v":"2021-12-08"},{"$f":"AE37+1","v":"2021-12-09"},{"$f":"AF37+1","v":"2021-12-10"},{"$f":"AG37+1","v":"2021-12-11"},{"$f":"(AB117*AB$35+AC117*AC$35+AD117*AD$35+AE117*AE$35+AF117*AF$35+AG117*AG$35+AH117*AH$35)*24","v":55.999999999999993},{"$f":"AJ39-AJ35","v":-11},{"$f":"IF(①初期設定!$D$11=\"１年変形\",IF(AI37>52,\"週52時間超\",\"\"),\"\")","v":""}]
[null,null,null,{"$f":"IF(D37,IF(D37+7>DATE($AM17,$AN17+1,①初期設定!$H$23-1),0,(D37+7)),0)","v":"2021-10-10"},{"$f":"IF(E37,IF(E37+7>DATE($AM17,$AN17+1,①初期設定!$H$23-1),0,(E37+7)),0)","v":"2021-10-11"},{"$f":"IF(F37,IF(F37+7>DATE($AM17,$AN17+1,①初期設定!$H$23-1),0,(F37+7)),0)","v":"2021-10-12"},{"$f":"IF(G37,IF(G37+7>DATE($AM17,$AN17+1,①初期設定!$H$23-1),0,(G37+7)),0)","v":"2021-10-13"},{"$f":"IF(H37,IF(H37+7>DATE($AM17,$AN17+1,①初期設定!$H$23-1),0,(H37+7)),0)","v":"2021-10-14"},{"$f":"IF(I37,IF(I37+7>DATE($AM17,$AN17+1,①初期設定!$H$23-1),0,(I37+7)),0)","v":"2021-10-15"},{"$f":"IF(J37,IF(J37+7>DATE($AM17,$AN17+1,①初期設定!$H$23-1),0,(J37+7)),0)","v":"2021-10-16"},55.999999999999993,"暦日数",{"$f":"IF(①初期設定!$D$11=\"１年変形\",IF(K38>52,\"週52時間超\",\"\"),\"\")","v":""},null,null,{"$f":"IF(P37,IF(P37+7>DATE($AM18,$AN18+1,①初期設定!$H$23-1),0,(P37+7)),0)","v":"2021-11-14"},{"$f":"IF(Q37,IF(Q37+7>DATE($AM18,$AN18+1,①初期設定!$H$23-1),0,(Q37+7)),0)","v":"2021-11-15"},{"$f":"IF(R37,IF(R37+7>DATE($AM18,$AN18+1,①初期設定!$H$23-1),0,(R37+7)),0)","v":"2021-11-16"},{"$f":"IF(S37,IF(S37+7>DATE($AM18,$AN18+1,①初期設定!$H$23-1),0,(S37+7)),0)","v":"2021-11-17"},{"$f":"IF(T37,IF(T37+7>DATE($AM18,$AN18+1,①初期設定!$H$23-1),0,(T37+7)),0)","v":"2021-11-18"},{"$f":"IF(U37,IF(U37+7>DATE($AM18,$AN18+1,①初期設定!$H$23-1),0,(U37+7)),0)","v":"2021-11-19"},{"$f":"IF(V37,IF(V37+7>DATE($AM18,$AN18+1,①初期設定!$H$23-1),0,(V37+7)),0)","v":"2021-11-20"},55.999999999999993,"暦日数",{"$f":"IF(①初期設定!$D$11=\"１年変形\",IF(W38>52,\"週52時間超\",\"\"),\"\")","v":""},null,null,{"$f":"IF(AB37,IF(AB37+7>DATE($AM19,$AN19+1,①初期設定!$H$23-1),0,(AB37+7)),0)","v":"2021-12-12"},{"$f":"IF(AC37,IF(AC37+7>DATE($AM19,$AN19+1,①初期設定!$H$23-1),0,(AC37+7)),0)","v":"2021-12-13"},{"$f":"IF(AD37,IF(AD37+7>DATE($AM19,$AN19+1,①初期設定!$H$23-1),0,(AD37+7)),0)","v":"2021-12-14"},{"$f":"IF(AE37,IF(AE37+7>DATE($AM19,$AN19+1,①初期設定!$H$23-1),0,(AE37+7)),0)","v":"2021-12-15"},{"$f":"IF(AF37,IF(AF37+7>DATE($AM19,$AN19+1,①初期設定!$H$23-1),0,(AF37+7)),0)","v":"2021-12-16"},{"$f":"IF(AG37,IF(AG37+7>DATE($AM19,$AN19+1,①初期設定!$H$23-1),0,(AG37+7)),0)","v":"2021-12-17"},{"$f":"IF(AH37,IF(AH37+7>DATE($AM19,$AN19+1,①初期設定!$H$23-1),0,(AH37+7)),0)","v":"2021-12-18"},55.999999999999993,"暦日数",{"$f":"IF(①初期設定!$D$11=\"１年変形\",IF(AI38>52,\"週52時間超\",\"\"),\"\")","v":""}]
[null,null,null,{"$f":"IF(D38,IF(D38+7>DATE($AM17,$AN17+1,①初期設定!$H$23-1),0,(D38+7)),0)","v":"2021-10-17"},{"$f":"IF(E38,IF(E38+7>DATE($AM17,$AN17+1,①初期設定!$H$23-1),0,(E38+7)),0)","v":"2021-10-18"},{"$f":"IF(F38,IF(F38+7>DATE($AM17,$AN17+1,①初期設定!$H$23-1),0,(F38+7)),0)","v":"2021-10-19"},{"$f":"IF(G38,IF(G38+7>DATE($AM17,$AN17+1,①初期設定!$H$23-1),0,(G38+7)),0)","v":"2021-10-20"},{"$f":"IF(H38,IF(H38+7>DATE($AM17,$AN17+1,①初期設定!$H$23-1),0,(H38+7)),0)","v":"2021-10-21"},{"$f":"IF(I38,IF(I38+7>DATE($AM17,$AN17+1,①初期設定!$H$23-1),0,(I38+7)),0)","v":"2021-10-22"},{"$f":"IF(J38,IF(J38+7>DATE($AM17,$AN17+1,①初期設定!$H$23-1),0,(J38+7)),0)","v":"2021-10-23"},55.999999999999993,{"$f":"COUNTIF(D36:J41,\"<>0\")","v":31},{"$f":"IF(①初期設定!$D$11=\"１年変形\",IF(K39>52,\"週52時間超\",\"\"),\"\")","v":""},null,null,{"$f":"IF(P38,IF(P38+7>DATE($AM18,$AN18+1,①初期設定!$H$23-1),0,(P38+7)),0)","v":"2021-11-21"},{"$f":"IF(Q38,IF(Q38+7>DATE($AM18,$AN18+1,①初期設定!$H$23-1),0,(Q38+7)),0)","v":"2021-11-22"},{"$f":"IF(R38,IF(R38+7>DATE($AM18,$AN18+1,①初期設定!$H$23-1),0,(R38+7)),0)","v":"2021-11-23"},{"$f":"IF(S38,IF(S38+7>DATE($AM18,$AN18+1,①初期設定!$H$23-1),0,(S38+7)),0)","v":"2021-11-24"},{"$f":"IF(T38,IF(T38+7>DATE($AM18,$AN18+1,①初期設定!$H$23-1),0,(T38+7)),0)","v":"2021-11-25"},{"$f":"IF(U38,IF(U38+7>DATE($AM18,$AN18+1,①初期設定!$H$23-1),0,(U38+7)),0)","v":"2021-11-26"},{"$f":"IF(V38,IF(V38+7>DATE($AM18,$AN18+1,①初期設定!$H$23-1),0,(V38+7)),0)","v":"2021-11-27"},55.999999999999993,{"$f":"COUNTIF(P36:V41,\"<>0\")","v":30},{"$f":"IF(①初期設定!$D$11=\"１年変形\",IF(W39>52,\"週52時間超\",\"\"),\"\")","v":""},null,null,{"$f":"IF(AB38,IF(AB38+7>DATE($AM19,$AN19+1,①初期設定!$H$23-1),0,(AB38+7)),0)","v":"2021-12-19"},{"$f":"IF(AC38,IF(AC38+7>DATE($AM19,$AN19+1,①初期設定!$H$23-1),0,(AC38+7)),0)","v":"2021-12-20"},{"$f":"IF(AD38,IF(AD38+7>DATE($AM19,$AN19+1,①初期設定!$H$23-1),0,(AD38+7)),0)","v":"2021-12-21"},{"$f":"IF(AE38,IF(AE38+7>DATE($AM19,$AN19+1,①初期設定!$H$23-1),0,(AE38+7)),0)","v":"2021-12-22"},{"$f":"IF(AF38,IF(AF38+7>DATE($AM19,$AN19+1,①初期設定!$H$23-1),0,(AF38+7)),0)","v":"2021-12-23"},{"$f":"IF(AG38,IF(AG38+7>DATE($AM19,$AN19+1,①初期設定!$H$23-1),0,(AG38+7)),0)","v":"2021-12-24"},{"$f":"IF(AH38,IF(AH38+7>DATE($AM19,$AN19+1,①初期設定!$H$23-1),0,(AH38+7)),0)","v":"2021-12-25"},55.999999999999993,{"$f":"COUNTIF(AB36:AH41,\"<>0\")","v":31},{"$f":"IF(①初期設定!$D$11=\"１年変形\",IF(AI39>52,\"週52時間超\",\"\"),\"\")","v":""}]
[null,null,null,{"$f":"IF(D39,IF(D39+7>DATE($AM17,$AN17+1,①初期設定!$H$23-1),0,(D39+7)),0)","v":"2021-10-24"},{"$f":"IF(E39,IF(E39+7>DATE($AM17,$AN17+1,①初期設定!$H$23-1),0,(E39+7)),0)","v":"2021-10-25"},{"$f":"IF(F39,IF(F39+7>DATE($AM17,$AN17+1,①初期設定!$H$23-1),0,(F39+7)),0)","v":"2021-10-26"},{"$f":"IF(G39,IF(G39+7>DATE($AM17,$AN17+1,①初期設定!$H$23-1),0,(G39+7)),0)","v":"2021-10-27"},{"$f":"IF(H39,IF(H39+7>DATE($AM17,$AN17+1,①初期設定!$H$23-1),0,(H39+7)),0)","v":"2021-10-28"},{"$f":"IF(I39,IF(I39+7>DATE($AM17,$AN17+1,①初期設定!$H$23-1),0,(I39+7)),0)","v":"2021-10-29"},{"$f":"IF(J39,IF(J39+7>DATE($AM17,$AN17+1,①初期設定!$H$23-1),0,(J39+7)),0)","v":"2021-10-30"},55.999999999999993,"月所定労働時間",{"$f":"IF(①初期設定!$D$11=\"１カ月変形\",IF(L41>K33,\"総枠超え\",\"\"),IF(①初期設定!$D$11=\"１年変形\",IF(K40>52,\"週52時間超\",\"\"),\"\"))","v":""},null,null,{"$f":"IF(P39,IF(P39+7>DATE($AM18,$AN18+1,①初期設定!$H$23-1),0,(P39+7)),0)","v":"2021-11-28"},{"$f":"IF(Q39,IF(Q39+7>DATE($AM18,$AN18+1,①初期設定!$H$23-1),0,(Q39+7)),0)","v":"2021-11-29"},{"$f":"IF(R39,IF(R39+7>DATE($AM18,$AN18+1,①初期設定!$H$23-1),0,(R39+7)),0)","v":"2021-11-30"},{"$f":"IF(S39,IF(S39+7>DATE($AM18,$AN18+1,①初期設定!$H$23-1),0,(S39+7)),0)","v":"00:00:00"},{"$f":"IF(T39,IF(T39+7>DATE($AM18,$AN18+1,①初期設定!$H$23-1),0,(T39+7)),0)","v":"00:00:00"},{"$f":"IF(U39,IF(U39+7>DATE($AM18,$AN18+1,①初期設定!$H$23-1),0,(U39+7)),0)","v":"00:00:00"},{"$f":"IF(V39,IF(V39+7>DATE($AM18,$AN18+1,①初期設定!$H$23-1),0,(V39+7)),0)","v":"00:00:00"},55.999999999999993,"月所定労働時間",{"$f":"IF(①初期設定!$D$11=\"１カ月変形\",IF(X41>W33,\"総枠超え\",\"\"),IF(①初期設定!$D$11=\"１年変形\",IF(W40>52,\"週52時間超\",\"\"),\"\"))","v":""},null,null,{"$f":"IF(AB39,IF(AB39+7>DATE($AM19,$AN19+1,①初期設定!$H$23-1),0,(AB39+7)),0)","v":"2021-12-26"},{"$f":"IF(AC39,IF(AC39+7>DATE($AM19,$AN19+1,①初期設定!$H$23-1),0,(AC39+7)),0)","v":"2021-12-27"},{"$f":"IF(AD39,IF(AD39+7>DATE($AM19,$AN19+1,①初期設定!$H$23-1),0,(AD39+7)),0)","v":"2021-12-28"},{"$f":"IF(AE39,IF(AE39+7>DATE($AM19,$AN19+1,①初期設定!$H$23-1),0,(AE39+7)),0)","v":"2021-12-29"},{"$f":"IF(AF39,IF(AF39+7>DATE($AM19,$AN19+1,①初期設定!$H$23-1),0,(AF39+7)),0)","v":"2021-12-30"},{"$f":"IF(AG39,IF(AG39+7>DATE($AM19,$AN19+1,①初期設定!$H$23-1),0,(AG39+7)),0)","v":"2021-12-31"},{"$f":"IF(AH39,IF(AH39+7>DATE($AM19,$AN19+1,①初期設定!$H$23-1),0,(AH39+7)),0)","v":"00:00:00"},55.999999999999993,"月所定労働時間",{"$f":"IF(①初期設定!$D$11=\"１カ月変形\",IF(AJ41>AI33,\"総枠超え\",\"\"),IF(①初期設定!$D$11=\"１年変形\",IF(AI40>52,\"週52時間超\",\"\"),\"\"))","v":""}]
[null,null,null,{"$f":"IF(D40,IF(D40+7>DATE($AM17,$AN17+1,①初期設定!$H$23-1),0,(D40+7)),0)","v":"2021-10-31"},{"$f":"IF(E40,IF(E40+7>DATE($AM17,$AN17+1,①初期設定!$H$23-1),0,(E40+7)),0)","v":"00:00:00"},{"$f":"IF(F40,IF(F40+7>DATE($AM17,$AN17+1,①初期設定!$H$23-1),0,(F40+7)),0)","v":"00:00:00"},{"$f":"IF(G40,IF(G40+7>DATE($AM17,$AN17+1,①初期設定!$H$23-1),0,(G40+7)),0)","v":"00:00:00"},{"$f":"IF(H40,IF(H40+7>DATE($AM17,$AN17+1,①初期設定!$H$23-1),0,(H40+7)),0)","v":"00:00:00"},{"$f":"IF(I40,IF(I40+7>DATE($AM17,$AN17+1,①初期設定!$H$23-1),0,(I40+7)),0)","v":"00:00:00"},{"$f":"IF(J40,IF(J40+7>DATE($AM17,$AN17+1,①初期設定!$H$23-1),0,(J40+7)),0)","v":"00:00:00"},55.999999999999993,{"$f":"SUM(K36:K41)","v":335.99999999999994},{"$f":"IF(①初期設定!$D$11=\"１カ月変形\",IF(L41-K33>0,L41-K33,0),IF(①初期設定!$D$11=\"１年変形\",IF(K41>52,\"週52時間超\",\"\"),\"\"))","v":""},null,null,{"$f":"IF(P40,IF(P40+7>DATE($AM18,$AN18+1,①初期設定!$H$23-1),0,(P40+7)),0)","v":"00:00:00"},{"$f":"IF(Q40,IF(Q40+7>DATE($AM18,$AN18+1,①初期設定!$H$23-1),0,(Q40+7)),0)","v":"00:00:00"},{"$f":"IF(R40,IF(R40+7>DATE($AM18,$AN18+1,①初期設定!$H$23-1),0,(R40+7)),0)","v":"00:00:00"},{"$f":"IF(S40,IF(S40+7>DATE($AM18,$AN18+1,①初期設定!$H$23-1),0,(S40+7)),0)","v":"00:00:00"},{"$f":"IF(T40,IF(T40+7>DATE($AM18,$AN18+1,①初期設定!$H$23-1),0,(T40+7)),0)","v":"00:00:00"},{"$f":"IF(U40,IF(U40+7>DATE($AM18,$AN18+1,①初期設定!$H$23-1),0,(U40+7)),0)","v":"00:00:00"},{"$f":"IF(V40,IF(V40+7>DATE($AM18,$AN18+1,①初期設定!$H$23-1),0,(V40+7)),0)","v":"00:00:00"},55.999999999999993,{"$f":"SUM(W36:W41)","v":335.99999999999994},{"$f":"IF(①初期設定!$D$11=\"１カ月変形\",IF(X41-W33>0,X41-W33,0),IF(①初期設定!$D$11=\"１年変形\",IF(W41>52,\"週52時間超\",\"\"),\"\"))","v":""},null,null,{"$f":"IF(AB40,IF(AB40+7>DATE($AM19,$AN19+1,①初期設定!$H$23-1),0,(AB40+7)),0)","v":"00:00:00"},{"$f":"IF(AC40,IF(AC40+7>DATE($AM19,$AN19+1,①初期設定!$H$23-1),0,(AC40+7)),0)","v":"00:00:00"},{"$f":"IF(AD40,IF(AD40+7>DATE($AM19,$AN19+1,①初期設定!$H$23-1),0,(AD40+7)),0)","v":"00:00:00"},{"$f":"IF(AE40,IF(AE40+7>DATE($AM19,$AN19+1,①初期設定!$H$23-1),0,(AE40+7)),0)","v":"00:00:00"},{"$f":"IF(AF40,IF(AF40+7>DATE($AM19,$AN19+1,①初期設定!$H$23-1),0,(AF40+7)),0)","v":"00:00:00"},{"$f":"IF(AG40,IF(AG40+7>DATE($AM19,$AN19+1,①初期設定!$H$23-1),0,(AG40+7)),0)","v":"00:00:00"},{"$f":"IF(AH40,IF(AH40+7>DATE($AM19,$AN19+1,①初期設定!$H$23-1),0,(AH40+7)),0)","v":"00:00:00"},55.999999999999993,{"$f":"SUM(AI36:AI41)","v":335.99999999999994},{"$f":"IF(①初期設定!$D$11=\"１カ月変形\",IF(AJ41-AI33>0,AJ41-AI33,0),IF(①初期設定!$D$11=\"１年変形\",IF(AI41>52,\"週52時間超\",\"\"),\"\"))","v":""}]
[]
[null,null,null,"年間所定労働日数等",null,null,null,null,null,null,null,null,null,null,null,"年所定労働時間数",null,null,null,null,null,{"$f":"IF(①初期設定!$D$11=\"１年変形\",\"所定労働時間の総枠の上限\",\"\")","v":""},null,null,null,null,null,null,null,null,null,null,null,"１カ月平均所定労働時間数"]
[null,null,null,null,"年間所定労働日数",null,null,null,{"$f":"SUM(L8,X8,AJ8,L17,X17,AJ17,L26,X26,AJ26,L35,X35,AJ35)","v":504},null,{"$f":"IF(①初期設定!$D$11=\"１年変形\",IF(I44>280,\"280日超\",\"\"),\"\")","v":""},null,null,null,null,null,{"$f":"IF(K6>L14,L14,K6)+IF(W6>X14,X14,W6)+IF(AI6>AJ14,AJ14,AI6)+IF(K15>L23,L23,K15)+IF(W15>X23,X23,W15)+IF(AI15>AJ23,AJ23,AI15)+IF(K24>L32,L32,K24)+IF(W24>X32,X32,W24)+IF(AI24>AJ32,AJ32,AI24)+IF(K33>L41,L41,K33)+IF(W33>X41,X41,W33)+IF(AI33>AJ41,AJ41,AI33)","v":4031.9999999999995},null,null,null,{"$f":"IF(①初期設定!$D$11=\"１年変形\",IF($Q$44>$W$44,\"上限超\",\"\"),\"\")","v":""},null,{"$f":"IF(①初期設定!$D$11=\"１年変形\",$I$46*40/7,\"\")","v":""},null,null,null,null,null,null,null,null,null,null,null,{"$f":"Q44/12","v":335.99999999999994}]
[null,null,null,null,"年間所定休日数",null,null,null,{"$f":"SUM(L10,X10,AJ10,L19,X19,AJ19,L28,X28,AJ28,L37,X37,AJ37)","v":-139},null,null,null,null,null,null,null,{"$f":"Q44/24","v":167.99999999999997},null,null,null,null,null,{"$f":"IFERROR(W44/24,\"\")","v":""},null,null,null,null,null,null,null,null,null,null,null,{"$f":"AI44/24","v":13.999999999999998},null,null,null,{"$f":"L14+X14+AJ14+L23+X23+AJ23+L32+X32+AJ32+L41+X41+AJ41","v":4031.9999999999995}]
[null,null,null,null,"年間合計日数",null,null,null,{"$f":"SUM(I44:J45)","v":365}]
[]
[]
[null,null,null,{"$f":"D6","v":1},null,null,null,null,null,null,null,null,null,null,null,{"$f":"P6","v":2},null,null,null,null,null,null,null,null,null,null,null,{"$f":"AB6","v":3}]
[null,null,null,{"$f":"D7","v":"日"},{"$f":"E7","v":"月"},"火","水","木","金","土",null,null,null,null,null,{"$f":"P7","v":"日"},{"$f":"Q7","v":"月"},"火","水","木","金","土",null,null,null,null,null,{"$f":"AB7","v":"日"},{"$f":"AC7","v":"月"},"火","水","木","金","土"]
[null,null,null,1,1,1,1,1,1,1,null,null,null,null,null,1,1,1,1,1,1,1,null,null,null,null,null,1,1,1,1,1,1,1]
[null,null,null,1,1,1,1,1,1,1,null,null,null,null,null,1,1,1,1,1,1,1,null,null,null,null,null,1,1,1,1,1,1,1]
[null,null,null,1,1,1,1,1,1,1,null,null,null,null,null,1,1,1,1,1,1,1,null,null,null,null,null,1,1,1,1,1,1,1]
[null,null,null,1,1,1,1,1,1,1,null,null,null,null,null,1,1,1,1,1,1,1,null,null,null,null,null,1,1,1,1,1,1,1]
[null,null,null,1,1,1,1,1,1,1,null,null,null,null,null,1,1,1,1,1,1,1,null,null,null,null,null,1,1,1,1,1,1,1]
[null,null,null,1,1,1,1,1,1,1,null,null,null,null,null,1,1,1,1,1,1,1,null,null,null,null,null,1,1,1,1,1,1,1]
[]
[null,null,null,{"$f":"D15","v":4},null,null,null,null,null,null,null,null,null,null,null,{"$f":"P15","v":5},null,null,null,null,null,null,null,null,null,null,null,{"$f":"AB15","v":6}]
[null,null,null,{"$f":"D16","v":"日"},{"$f":"E16","v":"月"},"火","水","木","金","土",null,null,null,null,null,{"$f":"P16","v":"日"},{"$f":"Q16","v":"月"},"火","水","木","金","土",null,null,null,null,null,{"$f":"AB16","v":"日"},{"$f":"AC16","v":"月"},"火","水","木","金","土"]
[null,null,null,1,1,1,1,1,1,1,null,null,null,null,null,1,1,1,1,1,1,1,null,null,null,null,null,1,1,1,1,1,1,1]
[null,null,null,1,1,1,1,1,1,1,null,null,null,null,null,1,1,1,1,1,1,1,null,null,null,null,null,1,1,1,1,1,1,1]
[null,null,null,1,1,1,1,1,1,1,null,null,null,null,null,1,1,1,1,1,1,1,null,null,null,null,null,1,1,1,1,1,1,1]
[null,null,null,1,1,1,1,1,1,1,null,null,null,null,null,1,1,1,1,1,1,1,null,null,null,null,null,1,1,1,1,1,1,1]
[null,null,null,1,1,1,1,1,1,1,null,null,null,null,null,1,1,1,1,1,1,1,null,null,null,null,null,1,1,1,1,1,1,1]
[null,null,null,1,1,1,1,1,1,1,null,null,null,null,null,1,1,1,1,1,1,1,null,null,null,null,null,1,1,1,1,1,1,1]
[]
[null,null,null,{"$f":"D24","v":7},null,null,null,null,null,null,null,null,null,null,null,{"$f":"P24","v":8},null,null,null,null,null,null,null,null,null,null,null,{"$f":"AB24","v":9}]
[null,null,null,{"$f":"D25","v":"日"},{"$f":"E25","v":"月"},"火","水","木","金","土",null,null,null,null,null,{"$f":"P25","v":"日"},{"$f":"Q25","v":"月"},"火","水","木","金","土",null,null,null,null,null,{"$f":"AB25","v":"日"},{"$f":"AC25","v":"月"},"火","水","木","金","土"]
[null,null,null,1,1,1,1,1,1,1,null,null,null,null,null,1,1,1,1,1,1,1,null,null,null,null,null,1,1,1,1,1,1,1]
[null,null,null,1,1,1,1,1,1,1,null,null,null,null,null,1,1,1,1,1,1,1,null,null,null,null,null,1,1,1,1,1,1,1]
[null,null,null,1,1,1,1,1,1,1,null,null,null,null,null,1,1,1,1,1,1,1,null,null,null,null,null,1,1,1,1,1,1,1]
[null,null,null,1,1,1,1,1,1,1,null,null,null,null,null,1,1,1,1,1,1,1,null,null,null,null,null,1,1,1,1,1,1,1]
[null,null,null,1,1,1,1,1,1,1,null,null,null,null,null,1,1,1,1,1,1,1,null,null,null,null,null,1,1,1,1,1,1,1]
[null,null,null,1,1,1,1,1,1,1,null,null,null,null,null,1,1,1,1,1,1,1,null,null,null,null,null,1,1,1,1,1,1,1]
[]
[null,null,null,{"$f":"D33","v":10},null,null,null,null,null,null,null,null,null,null,null,{"$f":"P33","v":11},null,null,null,null,null,null,null,null,null,null,null,{"$f":"AB33","v":12}]
[null,null,null,{"$f":"D34","v":"日"},{"$f":"E34","v":"月"},"火","水","木","金","土",null,null,null,null,null,{"$f":"P34","v":"日"},{"$f":"Q34","v":"月"},"火","水","木","金","土",null,null,null,null,null,{"$f":"AB34","v":"日"},{"$f":"AC34","v":"月"},"火","水","木","金","土"]
[null,null,null,1,1,1,1,1,1,1,null,null,null,null,null,1,1,1,1,1,1,1,null,null,null,null,null,1,1,1,1,1,1,1]
[null,null,null,1,1,1,1,1,1,1,null,null,null,null,null,1,1,1,1,1,1,1,null,null,null,null,null,1,1,1,1,1,1,1]
[null,null,null,1,1,1,1,1,1,1,null,null,null,null,null,1,1,1,1,1,1,1,null,null,null,null,null,1,1,1,1,1,1,1]
[null,null,null,1,1,1,1,1,1,1,null,null,null,null,null,1,1,1,1,1,1,1,null,null,null,null,null,1,1,1,1,1,1,1]
[null,null,null,1,1,1,1,1,1,1,null,null,null,null,null,1,1,1,1,1,1,1,null,null,null,null,null,1,1,1,1,1,1,1]
[null,null,null,1,1,1,1,1,1,1,null,null,null,null,null,1,1,1,1,1,1,1,null,null,null,null,null,1,1,1,1,1,1,1]
[]
[]
[]
[null,null,null,{"$f":"D6","v":1},null,null,null,null,null,null,null,null,null,null,null,{"$f":"P6","v":2},null,null,null,null,null,null,null,null,null,null,null,{"$f":"AB6","v":3}]
[null,null,null,{"$f":"D50","v":"日"},{"$f":"E50","v":"月"},"火","水","木","金","土",null,null,null,null,null,{"$f":"P50","v":"日"},{"$f":"Q50","v":"月"},"火","水","木","金","土",null,null,null,null,null,{"$f":"AB50","v":"日"},{"$f":"AC50","v":"月"},"火","水","木","金","土"]
[null,null,null,{"$f":"IF(D9=\"\",\"\",D51)","v":1},1,1,1,1,1,1,null,null,null,null,null,{"$f":"IF(P9=\"\",\"\",P51)","v":1},1,1,1,1,1,1,null,null,null,null,null,{"$f":"IF(AB9=\"\",\"\",AB51)","v":1},1,1,1,1,1,1]
[null,null,null,1,1,1,1,1,1,1,null,null,null,null,null,1,1,1,1,1,1,1,null,null,null,null,null,1,1,1,1,1,1,1]
[null,null,null,1,1,1,1,1,1,1,null,null,null,null,null,1,1,1,1,1,1,1,null,null,null,null,null,1,1,1,1,1,1,1]
[null,null,null,1,1,1,1,1,1,1,null,null,null,null,null,1,1,1,1,1,1,1,null,null,null,null,null,1,1,1,1,1,1,1]
[null,null,null,1,1,1,1,1,1,1,null,null,null,null,null,1,1,1,1,1,1,1,null,null,null,null,null,1,1,1,1,1,1,1]
[null,null,null,1,1,1,1,1,1,1,null,null,null,null,null,1,1,1,1,1,1,1,null,null,null,null,null,1,1,1,1,1,1,1]
[]
[null,null,null,{"$f":"D15","v":4},null,null,null,null,null,null,null,null,null,null,null,{"$f":"P15","v":5},null,null,null,null,null,null,null,null,null,null,null,{"$f":"AB15","v":6}]
[null,null,null,{"$f":"D59","v":"日"},{"$f":"E59","v":"月"},"火","水","木","金","土",null,null,null,null,null,{"$f":"P59","v":"日"},{"$f":"Q59","v":"月"},"火","水","木","金","土",null,null,null,null,null,{"$f":"AB59","v":"日"},{"$f":"AC59","v":"月"},"火","水","木","金","土"]
[null,null,null,{"$f":"IF(D18=\"\",\"\",D60)","v":1},1,1,1,1,1,1,null,null,null,null,null,{"$f":"IF(P18=\"\",\"\",P60)","v":1},1,1,1,1,1,1,null,null,null,null,null,{"$f":"IF(AB18=\"\",\"\",AB60)","v":1},1,1,1,1,1,1]
[null,null,null,1,1,1,1,1,1,1,null,null,null,null,null,1,1,1,1,1,1,1,null,null,null,null,null,1,1,1,1,1,1,1]
[null,null,null,1,1,1,1,1,1,1,null,null,null,null,null,1,1,1,1,1,1,1,null,null,null,null,null,1,1,1,1,1,1,1]
[null,null,null,1,1,1,1,1,1,1,null,null,null,null,null,1,1,1,1,1,1,1,null,null,null,null,null,1,1,1,1,1,1,1]
[null,null,null,1,1,1,1,1,1,1,null,null,null,null,null,1,1,1,1,1,1,1,null,null,null,null,null,1,1,1,1,1,1,1]
[null,null,null,1,1,1,1,1,1,1,null,null,null,null,null,1,1,1,1,1,1,1,null,null,null,null,null,1,1,1,1,1,1,1]
[]
[null,null,null,{"$f":"D24","v":7},null,null,null,null,null,null,null,null,null,null,null,{"$f":"P24","v":8},null,null,null,null,null,null,null,null,null,null,null,{"$f":"AB24","v":9}]
[null,null,null,{"$f":"D68","v":"日"},{"$f":"E68","v":"月"},"火","水","木","金","土",null,null,null,null,null,{"$f":"P68","v":"日"},{"$f":"Q68","v":"月"},"火","水","木","金","土",null,null,null,null,null,{"$f":"AB68","v":"日"},{"$f":"AC68","v":"月"},"火","水","木","金","土"]
[null,null,null,{"$f":"IF(D27=\"\",\"\",D69)","v":1},1,1,1,1,1,1,null,null,null,null,null,{"$f":"IF(P27=\"\",\"\",P69)","v":1},1,1,1,1,1,1,null,null,null,null,null,{"$f":"IF(AB27=\"\",\"\",AB69)","v":1},1,1,1,1,1,1]
[null,null,null,1,1,1,1,1,1,1,null,null,null,null,null,1,1,1,1,1,1,1,null,null,null,null,null,1,1,1,1,1,1,1]
[null,null,null,1,1,1,1,1,1,1,null,null,null,null,null,1,1,1,1,1,1,1,null,null,null,null,null,1,1,1,1,1,1,1]
[null,null,null,1,1,1,1,1,1,1,null,null,null,null,null,1,1,1,1,1,1,1,null,null,null,null,null,1,1,1,1,1,1,1]
[null,null,null,1,1,1,1,1,1,1,null,null,null,null,null,1,1,1,1,1,1,1,null,null,null,null,null,1,1,1,1,1,1,1]
[null,null,null,1,1,1,1,1,1,1,null,null,null,null,null,1,1,1,1,1,1,1,null,null,null,null,null,1,1,1,1,1,1,1]
[]
[null,null,null,{"$f":"D33","v":10},null,null,null,null,null,null,null,null,null,null,null,{"$f":"P33","v":11},null,null,null,null,null,null,null,null,null,null,null,{"$f":"AB33","v":12}]
[null,null,null,{"$f":"D77","v":"日"},{"$f":"E77","v":"月"},"火","水","木","金","土",null,null,null,null,null,{"$f":"P77","v":"日"},{"$f":"Q77","v":"月"},"火","水","木","金","土",null,null,null,null,null,{"$f":"AB77","v":"日"},{"$f":"AC77","v":"月"},"火","水","木","金","土"]
[null,null,null,{"$f":"IF(D36=\"\",\"\",D78)","v":1},1,1,1,1,1,1,null,null,null,null,null,{"$f":"IF(P36=\"\",\"\",P78)","v":1},1,1,1,1,1,1,null,null,null,null,null,{"$f":"IF(AB36=\"\",\"\",AB78)","v":1},1,1,1,1,1,1]
[null,null,null,1,1,1,1,1,1,1,null,null,null,null,null,1,1,1,1,1,1,1,null,null,null,null,null,1,1,1,1,1,1,1]
[null,null,null,1,1,1,1,1,1,1,null,null,null,null,null,1,1,1,1,1,1,1,null,null,null,null,null,1,1,1,1,1,1,1]
[null,null,null,1,1,1,1,1,1,1,null,null,null,null,null,1,1,1,1,1,1,1,null,null,null,null,null,1,1,1,1,1,1,1]
[null,null,null,1,1,1,1,1,1,1,null,null,null,null,null,1,1,1,1,1,1,1,null,null,null,null,null,1,1,1,1,1,1,1]
[null,null,null,1,1,1,1,1,1,1,null,null,null,null,null,1,1,1,1,1,1,1,null,null,null,null,null,1,1,1,1,1,1,1]
[]
[]
[]
[]
[]
[]
[]
[]
[]
[]
[]
[]
[]
[]
[]
[]
[]
[]
[]
[]
[]
[]
[]
[]
[]
[]
[]
[]
[]
[]
[]
[]
[]
[]
[]
[]
[]
[]
[]
[]
[]
[]
[]
[]
[]
[]
[]
[]
[]
[]
[]
[]
[]
[]
[]
[]
[]
[]
[]
[]
[]
[]
[]
[]
[]
[]
[]
[]
[]
[]
[]
[]
[]
[]
[]
[]
[]
[]
[]
[]
[]
[]
[]
[]
[]
[]
[]
[]
[]
[]
[]
[]
[]
[]
[]
[]
[]
[]
[]
[]
[]
[]
[]
[]
[]
[]
[]
[]
[]
[]
[]
[]
[]
[]
[]
[]
[]
[]
[]
[]
[]
[]
[]
[]
[]
[]
[]
[]
[]
[]
[]
[]
[]
[]
[]
[]
[]
[]
[]
[]
[]
[]
[]
[]
[]
[]
[]
[]
[]
[]
[]
[]
[]
[]
[]
[]
[]
[]
[]
[]
[]
[]
[]
[]
[]
[]
[]
[]
[]
[]
[]
[]
[]
[]
[]
[]
[]
[]
[]
[]
[]
[]
[]
[]
[]
[]
[]
[]
[]
[]
[]
[]
[]
[]
[]
[]
[]
[]
[]
[]
[]
[]
[]
[]
[]
[]
[]
[]
[]
[]
[]
[]
[]
[]
[]
[]
[]
[]
[]
[]
[]
[]
[]
[]
[]
[]
[]
[]
[]
[]
[]
[]
[]
[]
[]
[]
[]
[]
[]
[]
[]
[]
[]
[]
[]
[]
[]
[]
[]
[]
[]
[]
[]
[]
[]
[]
[]
[]
[]
[]
[]
[]
[]
[]
[]
[]
[]
[]
[]
[]
[]
[]
[]
[]
[]
[]
[]
[]
[]
[]
[]
[]
[]
[]
[]
[]
[]
[]
[]
[]
[]
[]
[]
[]
[]
[]
[]
[]
[]
[]
[]
[]
[]
[]
[]
[]
[]
[]
[]
[]
[]
[]
[]
[]
[]
[]
[]
[]
[]
[]
[]
[]
[]
[]
[]
[]
[]
[]
[]
[]
[]
[]
[]
[]
[]
[]
[]
[]
[]
[]
[]
[]
[]
[]
[]
[]
[]
[]
[]
[]
[]
[]
[]
[]
[]
[]
[]
[]
[]
[]
[]
[]
[]
[]
[]
[]
[]
[]
[]
[]
[]
[]
[]
[]
[]
[]
[]
[]
[]
[]
[]
[]
[]
[]
[]
[]
[]
[]
[]
[]
[]
[]
[]
[]
[]
[]
[]
[]
[]
[]
[]
[]
[]
[]
[]
[]
[]
[]
[]
[]
[]
[]
[]
[]
[]
[]
[]
[]
[]
[]
[]
[]
[]
[]
[]
[]
[]
[]
[]
[]
[]
[]
[]
[]
[]
[]
[]
[]
[]
[]
[]
[]
[]
[]
[]
[]
[]
[]
[]
[]
[]
[]
[]
[]
[]
[]
[]
[]
[]
[]
[]
[]
[]
[]
[]
[]
[]
[]
[]
[]
[]
[]
[]
[]
[]
[]
[]
[]
[]
[]
[]
[]
[]
[]
[]
[]
[]
[]
[]
[]
[]
[]
[]
[]
[]
[]
[]
[]
[]
[]
[]
[]
[]
[]
[]
[]
[]
[]
[]
[]
[]
[]
[]
[]
[]
[]
[]
[]
[]
[]
[]
[]
[]
[]
[]
[]
[]
[]
[]
[]
[]
[]
[]
[]
[]
[]
[]
[]
[]
[]
[]
[]
[]
[]
[]
[]
[]
[]
[]
[]
[]
[]
[]
[]
[]
[]
[]
[]
[]
[]
[]
[]
[]
[]
[]
[]
[]
[]
[]
[]
[]
[]
[]
[]
[]
[]
[]
[]
[]
[]
[]
[]
[]
[]
[]
[]
[]
[]
[]
[]
[]
[]
[]
[]
[]
[]
[]
[]
[]
[]
[]
[]
[]
[]
[]
[]
[]
[]
[]
[]
[]
[]
[]
[]
[]
[]
[]
[]
[]
[]
[]
[]
[]
[]
[]
[]
[]
[]
[]
[]
[]
[]
[]
[]
[]
[]
[]
[]
[]
[]
[]
[]
[]
[]
[]
[]
[]
[]
[]
[]
[]
[]
[]
[]
[]
[]
[]
[]
[]
[]
[]
[]
[]
[]
[]
[]
[]
[]
[]
[]
[]
[]
[]
[]
[]
[]
[]
[]
[]
[]
[]
[]
[]
[]
[]
[]
[]
[]
[]
[]
[]
[]
[]
[]
[]
[]
[]
[]
[]
[]
[]
[]
[]
[]
[]
[]
[]
[]
[]
[]
[]
[]
[]
[]
[]
[]
[]
[]
[]
[]
[]
[]
[]
[]
[]
[]
[]
[]
[]
[]
[]
[]
[]
[]
[]
[]
[]
[]
[]
[]
[]
[]
[]
[]
[]
[]
[]
[]
[]
[]
[]
[]
[]
[]
[]
[]
[]
[]
[]
[]
[]
[]
[]
[]
[]
[]
[]
[]
[]
[]
[]
[]
[]
[]
[]
[]
[]
[]
[]
[]
[]
[]
[]
[]
[]
[]
[]
[]
[]
[]
[]
[]
[]
[]
[]
[]
[]
[]
[]
[]
[]
[]
[]
[]
[]
[]
[]
[]
[]
[]
[]
[]
[]
[]
[]
[]
[]
[]
[]
[]
[]
[]
[]
[]
[]
[]
[]
[]
[]
[]
[]
[]
[]
[]
[]
[]
[]
[]
[]
[]
[]
[]
[]
[]
[]
[]
[]
[]
[]
[]
[]
[]
[]
[]
[]
[]
[]
[]
[]
[]
[]
[]
[]
[]
[]
[]
[]
[]
[]
[]
[]
[]
[]
[]
[]
[]
[]
[]
[]
[]
[]
[]
[]
[]
[]
[]
[]
[]
[]
[]
[]
[]
[]
[]
[]
[]
[]
[]
[]
[]
[]
[]
[]
[]
[]
[]
[]
[]
[]
[]
[]
[]
[]
[]
[]
[]
[]
[]
[]
[]
[]
[]
[]
[]
[]
[]
[]
[]
[]
[]
[]
[]
[]
[]
[]
[]
[]
[]
[]
[]
[]
[]
[]
[]
[]
[]
[]
[]
[]
[]
[]
[]
[]
[]
[]
[]
[]
[]
[]
[]
[]
[]
[]
[]
[]
[]
[]
[]
[]
[]
[]
[]
[]
[]
[]
[]
[]
[]
[]
[]
[]
[]
[]
[]
[]
[]
[]
[]
[]
[]
[]
[]
[]
[]
[]
[]
[]
[]
[]
[]
[]
[]
[]
[]
[]
[]
[]
[]
[]
[]
[]
[]
[]
[]
[]
[]
[]
[]
[]
[]
[]
[]
[]
[]
[]
[]
[]
[]
[]
[]
[]
[]
[]
[]
[]
[]
[]
[]
[]
[]
[]
[]
[]
[]
[]
[]
[]
[]
[]
[]
[]
[]
[]
[]
[]
[]
[]
[]
[]
[]
[]
[]
[]
[]
[]
[]
[]
[]
[]
[]
[]
[]
[]
[]
[]
[]
[]
[]
[]
[]
[]
[]
[]
[]
[]
[]
[]
[]
[]
[]
[]
[]
[]
[]
[]
[]
[]
[]
[]
[]
[]
[]
[]
[]
[]
[]
[]
[]
[]
[]
[]
[]
[]
[]
[]
[]
[]
[]
[]
[]
[]
[]
[]
[]
[]
[]
[]
[]
[]
[]
[]
[]
[]
[]
[]
[]
[]
[]
[]
[]
[]
[]
[]
[]
[]
[]
[]
[]
[]
[]
[]
[]
[]
[]
[]
[]
[]
[]
[]
[]
[]
[]
[]
[]
[]
[]
[]
[]
[]
[]
[]
[]
[]
[]
[]
[]
[]
[]
[]
[]
[]
[]
[]
[]
[]
[]
[]
[]
[]
[]
[]
[]
[]
[]
[]
[]
[]
[]
[]
[]
[]
[]
[]
[]
[]
[]
[]
[]
[]
[]
[]
[]
[]
[]
[]
[]
[]
[]
[]
[]
[]
[]
[]
[]
[]
[]
[]
[]
[]
[]
[]
[]
[]
[]
[]
[]
[]
[]
[]
[]
[]
[]
[]
[]
[]
[]
[]
[]
[]
[]
[]
[]
[]
[]
[]
[]
[]
[]
[]
[]
[]
[]
[]
[]
[]
[]
[]
[]
[]
[]
[]
[]
[]
[]
[]
[]
[]
[]
[]
[]
[]
[]
[]
[]
[]
[]
[]
[]
[]
[]
[]
[]
[]
[]
[]
[]
[]
[]
[]
[]
[]
[]
[]
[]
[]
[]
[]
[]
[]
[]
[]
[]
[]
[]
[]
[]
[]
[]
[]
[]
[]
[]
[]
[]
[]
[]
[]
[]
[]
[]
[]
[]
[]
[]
[]
[]
[]
[]
[]
[]
[]
[]
[]
[]
[]
[]
[]
[]
[]
[]
[]
[]
[]
[]
[]
[]
[]
[]
[]
[]
[]
[]
[]
[]
[]
[]
[]
[]
[]
[]
[]
[]
[]
[]
[]
[]
[]
[]
[]
[]
[]
[]
[]
[]
[]
[]
[]
[]
[]
[]
[]
[]
[]
[]
[]
[]
[]
[]
[]
[]
[]
[]
[]
[]
[]
[]
[]
[]
[]
[]
[]
[]
[]
[]
[]
[]
[]
[]
[]
[]
[]
[]
[]
[]
[]
[]
[]
[]
[]
[]
[]
[]
[]
[]
[]
[]
[]
[]
[]
[]
[]
[]
[]
[]
[]
[]
[]
[]
[]
[]
[]
[]
[]
[]
[]
[]
[]
[]
[]
[]
[]
[]
[]
[]
[]
[]
[]
[]
[]
[]
[]
[]
[]
[]
[]
[]
[]
[]
[]
[]
[]
[]
[]
[]
[]
[]
[]
[]
[]
[]
[]
[]
[]
[]
[]
[]
[]
[]
[]
[]
[]
[]
[]
[]
[]
[]
[]
[]
[]
[]
[]
[]
[]
[]
[]
[]
[]
[]
[]
[]
[]
[]
[]
[]
[]
[]
[]
[]
[]
[]
[]
[]
[]
[]
[]
[]
[]
[]
[]
[]
[]
[]
[]
[]
[]
[]
[]
[]
[]
[]
[]
[]
[]
[]
[]
[]
[]
[]
[]
[]
[]
[]
[]
[]
[]
[]
[]
[]
[]
[]
[]
[]
[]
[]
[]
[]
[]
[]
[]
[]
[]
[]
[]
[]
[]
[]
[]
[]
[]
[]
[]
[]
[]
[]
[]
[]
[]
[]
[]
[]
[]
[]
[]
[]
[]
[]
[]
[]
[]
[]
[]
[]
[]
[]
[]
[]
[]
[]
[]
[]
[]
[]
[]
[]
[]
[]
[]
[]
[]
[]
[]
[]
[]
[]
[]
[]
[]
[]
[]
[]
[]
[]
[]
[]
[]
[]
[]
[]
[]
[]
[]
[]
[]
[]
[]
[]
[]
[]
[]
[]
[]
[]
[]
[]
[]
[]
[]
[]
[]
[]
[]
[]
[]
[]
[]
[]
[]
[]
[]
[]
[]
[]
[]
[]
[]
[]
[]
[]
[]
[]
[]
[]
[]
[]
[]
[]
[]
[]
[]
[]
[]
[]
[]
[]
[]
[]
[]
[]
[]
[]
[]
[]
[]
[]
[]
[]
[]
[]
[]
[]
[]
[]
[]
[]
[]
[]
[]
[]
[]
[]
[]
[]
[]
[]
[]
[]
[]
[]
[]
[]
[]
[]
[]
[]
[]
[]
[]
[]
[]
[]
[]
[]
[]
[]
[]
[]
[]
[]
[]
[]
[]
[]
[]
[]
[]
[]
[]
[]
[]
[]
[]
[]
[]
[]
[]
[]
[]
[]
[]
[]
[]
[]
[]
[]
[]
[]
[]
[]
[]
[]
[]
[]
[]
[]
[]
[]
[]
[]
[]
[]
[]
[]
[]
[]
[]
[]
[]
[]
[]
[]
[]
[]
[]
[]
[]
[]
[]
[]
[]
[]
[]
[]
[]
[]
[]
[]
[]
[]
[]
[]
[]
[]
[]
[]
[]
[]
[]
[]
[]
[]
[]
[]
[]
[]
[]
[]
[]
[]
[]
[]
[]
[]
[]
[]
[]
[]
[]
[]
[]
[]
[]
[]
[]
[]
[]
[]
[]
[]
[]
[]
[]
[]
[]
[]
[]
[]
[]
[]
[]
[]
[]
[]
[]
[]
[]
[]
[]
[]
[]
[]
[]
[]
[]
[]
[]
[]
[]
[]
[]
[]
[]
[]
[]
[]
[]
[]
[]
[]
[]
[]
[]
[]
[]
[]
[]
[]
[]
[]
[]
[]
[]
[]
[]
[]
[]
[]
[]
[]
[]
[]
[]
[]
[]
[]
[]
[]
[]
[]
[]
[]
[]
[]
[]
[]
[]
[]
[]
[]
[]
[]
[]
[]
[]
[]
[]
[]
[]
[]
[]
[]
[]
[]
[]
[]
[]
[]
[]
[]
[]
[]
[]
[]
[]
[]
[]
[]
[]
[]
[]
[]
[]
[]
[]
[]
[]
[]
[]
[]
[]
[]
[]
[]
[]
[]
[]
[]
[]
[]
[]
[]
[]
[]
[]
[]
[]
[]
[]
[]
[]
[]
[]
[]
[]
[]
[]
[]
[]
[]
[]
[]
[]
[]
[]
[]
[]
[]
[]
[]
[]
[]
[]
[]
[]
[]
[]
[]
[]
[]
[]
[]
[]
[]
[]
[]
[]
[]
[]
[]
[]
[]
[]
[]
[]
[]
[]
[]
[]
[]
[]
[]
[]
[]
[]
[]
[]
[]
[]
[]
[]
[]
[]
[]
[]
[]
[]
[]
[]
[]
[]
[]
[]
[]
[]
[]
[]
[]
[]
[]
[]
[]
[]
[]
[]
[]
[]
[]
[]
[]
[]
[]
[]
[]
[]
[]
[]
[]
[]
[]
[]
[]
[]
[]
[]
[]
[]
[]
[]
[]
[]
[]
[]
[]
[]
[]
[]
[]
[]
[]
[]
[]
[]
[]
[]
[]
[]
[]
[]
[]
[]
[]
[]
[]
[]
[]
[]
[]
[]
[]
[]
[]
[]
[]
[]
[]
[]
[]
[]
[]
[]
[]
[]
[]
[]
[]
[]
[]
[]
[]
[]
[]
[]
[]
[]
[]
[]
[]
[]
[]
[]
[]
[]
[]
[]
[]
[]
[]
[]
[]
[]
[]
[]
[]
[]
[]
[]
[]
[]
[]
[]
[]
[]
[]
[]
[]
[]
[]
[]
[]
[]
[]
[]
[]
[]
[]
[]
[]
[]
[]
[]
[]
[]
[]
[]
[]
[]
[]
[]
[]
[]
[]
[]
[]
[]
[]
[]
[]
[]
[]
[]
[]
[]
[]
[]
[]
[]
[]
[]
[]
[]
[]
[]
[]
[]
[]
[]
[]
[]
[]
[]
[]
[]
[]
[]
[]
[]
[]
[]
[]
[]
[]
[]
[]
[]
[]
[]
[]
[]
[]
[]
[]
[]
[]
[]
[]
[]
[]
[]
[]
[]
[]
[]
[]
[]
[]
[]
[]
[]
[]
[]
[]
[]
[]
[]
[]
[]
[]
[]
[]
[]
[]
[]
[]
[]
[]
[]
[]
[]
[]
[]
[]
[]
[]
[]
[]
[]
[]
[]
[]
[]
[]
[]
[]
[]
[]
[]
[]
[]
[]
[]
[]
[]
[]
[]
[]
[]
[]
[]
[]
[]
[]
[]
[]
[]
[]
[]
[]
[]
[]
[]
[]
[]
[]
[]
[]
[]
[]
[]
[]
[]
[]
[]
[]
[]
[]
[]
[]
[]
[]
[]
[]
[]
[]
[]
[]
[]
[]
[]
[]
[]
[]
[]
[]
[]
[]
[]
[]
[]
[]
[]
[]
[]
[]
[]
[]
[]
[]
[]
[]
[]
[]
[]
[]
[]
[]
[]
[]
[]
[]
[]
[]
[]
[]
[]
[]
[]
[]
[]
[]
[]
[]
[]
[]
[]
[]
[]
[]
[]
[]
[]
[]
[]
[]
[]
[]
[]
[]
[]
[]
[]
[]
[]
[]
[]
[]
[]
[]
[]
[]
[]
[]
[]
[]
[]
[]
[]
[]
[]
[]
[]
[]
[]
[]
[]
[]
[]
[]
[]
[]
[]
[]
[]
[]
[]
[]
[]
[]
[]
[]
[]
[]
[]
[]
[]
[]
[]
[]
[]
[]
[]
[]
[]
[]
[]
[]
[]
[]
[]
[]
[]
[]
[]
[]
[]
[]
[]
[]
[]
[]
[]
[]
[]
[]
[]
[]
[]
[]
[]
[]
[]
[]
[]
[]
[]
[]
[]
[]
[]
[]
[]
[]
[]
[]
[]
[]
[]
[]
[]
[]
[]
[]
[]
[]
[]
[]
[]
[]
[]
[]
[]
[]
[]
[]
[]
[]
[]
[]
[]
[]
[]
[]
[]
[]
[]
[]
[]
[]
[]
[]
[]
[]
[]
[]
[]
[]
[]
[]
[]
[]
[]
[]
[]
[]
[]
[]
[]
[]
[]
[]
[]
[]
[]
[]
[]
[]
[]
[]
[]
[]
[]
[]
[]
[]
[]
[]
[]
[]
[]
[]
[]
[]
[]
[]
[]
[]
[]
[]
[]
[]
[]
[]
[]
[]
[]
[]
[]
[]
[]
[]
[]
[]
[]
[]
[]
[]
[]
[]
[]
[]
[]
[]
[]
[]
[]
[]
[]
[]
[]
[]
[]
[]
[]
[]
[]
[]
[]
[]
[]
[]
[]
[]
[]
[]
[]
[]
[]
[]
[]
[]
[]
[]
[]
[]
[]
[]
[]
[]
[]
[]
[]
[]
[]
[]
[]
[]
[]
[]
[]
[]
[]
[]
[]
[]
[]
[]
[]
[]
[]
[]
[]
[]
[]
[]
[]
[]
[]
[]
[]
[]
[]
[]
[]
[]
[]
[]
[]
[]
[]
[]
[]
[]
[]
[]
[]
[]
[]
[]
[]
[]
[]
[]
[]
[]
[]
[]
[]
[]
[]
[]
[]
[]
[]
[]
[]
[]
[]
[]
[]
[]
[]
[]
[]
[]
[]
[]
[]
[]
[]
[]
[]
[]
[]
[]
[]
[]
[]
[]
[]
[]
[]
[]
[]
[]
[]
[]
[]
[]
[]
[]
[]
[]
[]
[]
[]
[]
[]
[]
[]
[]
[]
[]
[]
[]
[]
[]
[]
[]
[]
[]
[]
[]
[]
[]
[]
[]
[]
[]
[]
[]
[]
[]
[]
[]
[]
[]
[]
[]
[]
[]
[]
[]
[]
[]
[]
[]
[]
[]
[]
[]
[]
[]
[]
[]
[]
[]
[]
[]
[]
[]
[]
[]
[]
[]
[]
[]
[]
[]
[]
[]
[]
[]
[]
[]
[]
[]
[]
[]
[]
[]
[]
[]
[]
[]
[]
[]
[]
[]
[]
[]
[]
[]
[]
[]
[]
[]
[]
[]
[]
[]
[]
[]
[]
[]
[]
[]
[]
[]
[]
[]
[]
[]
[]
[]
[]
[]
[]
[]
[]
[]
[]
[]
[]
[]
[]
[]
[]
[]
[]
[]
[]
[]
[]
[]
[]
[]
[]
[]
[]
[]
[]
[]
[]
[]
[]
[]
[]
[]
[]
[]
[]
[]
[]
[]
[]
[]
[]
[]
[]
[]
[]
[]
[]
[]
[]
[]
[]
[]
[]
[]
[]
[]
[]
[]
[]
[]
[]
[]
[]
[]
[]
[]
[]
[]
[]
[]
[]
[]
[]
[]
[]
[]
[]
[]
[]
[]
[]
[]
[]
[]
[]
[]
[]
[]
[]
[]
[]
[]
[]
[]
[]
[]
[]
[]
[]
[]
[]
[]
[]
[]
[]
[]
[]
[]
[]
[]
[]
[]
[]
[]
[]
[]
[]
[]
[]
[]
[]
[]
[]
[]
[]
[]
[]
[]
[]
[]
[]
[]
[]
[]
[]
[]
[]
[]
[]
[]
[]
[]
[]
[]
[]
[]
[]
[]
[]
[]
[]
[]
[]
[]
[]
[]
[]
[]
[]
[]
[]
[]
[]
[]
[]
[]
[]
[]
[]
[]
[]
[]
[]
[]
[]
[]
[]
[]
[]
[]
[]
[]
[]
[]
[]
[]
[]
[]
[]
[]
[]
[]
[]
[]
[]
[]
[]
[]
[]
[]
[]
[]
[]
[]
[]
[]
[]
[]
[]
[]
[]
[]
[]
[]
[]
[]
[]
[]
[]
[]
[]
[]
[]
[]
[]
[]
[]
[]
[]
[]
[]
[]
[]
[]
[]
[]
[]
[]
[]
[]
[]
[]
[]
[]
[]
[]
[]
[]
[]
[]
[]
[]
[]
[]
[]
[]
[]
[]
[]
[]
[]
[]
[]
[]
[]
[]
[]
[]
[]
[]
[]
[]
[]
[]
[]
[]
[]
[]
[]
[]
[]
[]
[]
[]
[]
[]
[]
[]
[]
[]
[]
[]
[]
[]
[]
[]
[]
[]
[]
[]
[]
[]
[]
[]
[]
[]
[]
[]
[]
[]
[]
[]
[]
[]
[]
[]
[]
[]
[]
[]
[]
[]
[]
[]
[]
[]
[]
[]
[]
[]
[]
[]
[]
[]
[]
[]
[]
[]
[]
[]
[]
[]
[]
[]
[]
[]
[]
[]
[]
[]
[]
[]
[]
[]
[]
[]
[]
[]
[]
[]
[]
[]
[]
[]
[]
[]
[]
[]
[]
[]
[]
[]
[]
[]
[]
[]
[]
[]
[]
[]
[]
[]
[]
[]
[]
[]
[]
[]
[]
[]
[]
[]
[]
[]
[]
[]
[]
[]
[]
[]
[]
[]
[]
[]
[]
[]
[]
[]
[]
[]
[]
[]
[]
[]
[]
[]
[]
[]
[]
[]
[]
[]
[]
[]
[]
[]
[]
[]
[]
[]
[]
[]
[]
[]
[]
[]
[]
[]
[]
[]
[]
[]
[]
[]
[]
[]
[]
[]
[]
[]
[]
[]
[]
[]
[]
[]
[]
[]
[]
[]
[]
[]
[]
[]
[]
[]
[]
[]
[]
[]
[]
[]
[]
[]
[]
[]
[]
[]
[]
[]
[]
[]
[]
[]
[]
[]
[]
[]
[]
[]
[]
[]
[]
[]
[]
[]
[]
[]
[]
[]
[]
[]
[]
[]
[]
[]
[]
[]
[]
[]
[]
[]
[]
[]
[]
[]
[]
[]
[]
[]
[]
[]
[]
[]
[]
[]
[]
[]
[]
[]
[]
[]
[]
[]
[]
[]
[]
[]
[]
[]
[]
[]
[]
[]
[]
[]
[]
[]
[]
[]
[]
[]
[]
[]
[]
[]
[]
[]
[]
[]
[]
[]
[]
[]
[]
[]
[]
[]
[]
[]
[]
[]
[]
[]
[]
[]
[]
[]
[]
[]
[]
[]
[]
[]
[]
[]
[]
[]
[]
[]
[]
[]
[]
[]
[]
[]
[]
[]
[]
[]
[]
[]
[]
[]
[]
[]
[]
[]
[]
[]
[]
[]
[]
[]
[]
[]
[]
[]
[]
[]
[]
[]
[]
[]
[]
[]
[]
[]
[]
[]
[]
[]
[]
[]
[]
[]
[]
[]
[]
[]
[]
[]
[]
[]
[]
[]
[]
[]
[]
[]
[]
[]
[]
[]
[]
[]
[]
[]
[]
[]
[]
[]
[]
[]
[]
[]
[]
[]
[]
[]
[]
[]
[]
[]
[]
[]
[]
[]
[]
[]
[]
[]
[]
[]
[]
[]
[]
[]
[]
[]
[]
[]
[]
[]
[]
[]
[]
[]
[]
[]
[]
[]
[]
[]
[]
[]
[]
[]
[]
[]
[]
[]
[]
[]
[]
[]
[]
[]
[]
[]
[]
[]
[]
[]
[]
[]
[]
[]
[]
[]
[]
[]
[]
[]
[]
[]
[]
[]
[]
[]
[]
[]
[]
[]
[]
[]
[]
[]
[]
[]
[]
[]
[]
[]
[]
[]
[]
[]
[]
[]
[]
[]
[]
[]
[]
[]
[]
[]
[]
[]
[]
[]
[]
[]
[]
[]
[]
[]
[]
[]
[]
[]
[]
[]
[]
[]
[]
[]
[]
[]
[]
[]
[]
[]
[]
[]
[]
[]
[]
[]
[]
[]
[]
[]
[]
[]
[]
[]
[]
[]
[]
[]
[]
[]
[]
[]
[]
[]
[]
[]
[]
[]
[]
[]
[]
[]
[]
[]
[]
[]
[]
[]
[]
[]
[]
[]
[]
[]
[]
[]
[]
[]
[]
[]
[]
[]
[]
[]
[]
[]
[]
[]
[]
[]
[]
[]
[]
[]
[]
[]
[]
[]
[]
[]
[]
[]
[]
[]
[]
[]
[]
[]
[]
[]
[]
[]
[]
[]
[]
[]
[]
[]
[]
[]
[]
[]
[]
[]
[]
[]
[]
[]
[]
[]
[]
[]
[]
[]
[]
[]
[]
[]
[]
[]
[]
[]
[]
[]
[]
[]
[]
[]
[]
[]
[]
[]
[]
[]
[]
[]
[]
[]
[]
[]
[]
[]
[]
[]
[]
[]
[]
[]
[]
[]
[]
[]
[]
[]
[]
[]
[]
[]
[]
[]
[]
[]
[]
[]
[]
[]
[]
[]
[]
[]
[]
[]
[]
[]
[]
[]
[]
[]
[]
[]
[]
[]
[]
[]
[]
[]
[]
[]
[]
[]
[]
[]
[]
[]
[]
[]
[]
[]
[]
[]
[]
[]
[]
[]
[]
[]
[]
[]
[]
[]
[]
[]
[]
[]
[]
[]
[]
[]
[]
[]
[]
[]
[]
[]
[]
[]
[]
[]
[]
[]
[]
[]
[]
[]
[]
[]
[]
[]
[]
[]
[]
[]
[]
[]
[]
[]
[]
[]
[]
[]
[]
[]
[]
[]
[]
[]
[]
[]
[]
[]
[]
[]
[]
[]
[]
[]
[]
[]
[]
[]
[]
[]
[]
[]
[]
[]
[]
[]
[]
[]
[]
[]
[]
[]
[]
[]
[]
[]
[]
[]
[]
[]
[]
[]
[]
[]
[]
[]
[]
[]
[]
[]
[]
[]
[]
[]
[]
[]
[]
[]
[]
[]
[]
[]
[]
[]
[]
[]
[]
[]
[]
[]
[]
[]
[]
[]
[]
[]
[]
[]
[]
[]
[]
[]
[]
[]
[]
[]
[]
[]
[]
[]
[]
[]
[]
[]
[]
[]
[]
[]
[]
[]
[]
[]
[]
[]
[]
[]
[]
[]
[]
[]
[]
[]
[]
[]
[]
[]
[]
[]
[]
[]
[]
[]
[]
[]
[]
[]
[]
[]
[]
[]
[]
[]
[]
[]
[]
[]
[]
[]
[]
[]
[]
[]
[]
[]
[]
[]
[]
[]
[]
[]
[]
[]
[]
[]
[]
[]
[]
[]
[]
[]
[]
[]
[]
[]
[]
[]
[]
[]
[]
[]
[]
[]
[]
[]
[]
[]
[]
[]
[]
[]
[]
[]
[]
[]
[]
[]
[]
[]
[]
[]
[]
[]
[]
[]
[]
[]
[]
[]
[]
[]
[]
[]
[]
[]
[]
[]
[]
[]
[]
[]
[]
[]
[]
[]
[]
[]
[]
[]
[]
[]
[]
[]
[]
[]
[]
[]
[]
[]
[]
[]
[]
[]
[]
[]
[]
[]
[]
[]
[]
[]
[]
[]
[]
[]
[]
[]
[]
[]
[]
[]
[]
[]
[]
[]
[]
[]
[]
[]
[]
[]
[]
[]
[]
[]
[]
[]
[]
[]
[]
[]
[]
[]
[]
[]
[]
[]
[]
[]
[]
[]
[]
[]
[]
[]
[]
[]
[]
[]
[]
[]
[]
[]
[]
[]
[]
[]
[]
[]
[]
[]
[]
[]
[]
[]
[]
[]
[]
[]
[]
[]
[]
[]
[]
[]
[]
[]
[]
[]
[]
[]
[]
[]
[]
[]
[]
[]
[]
[]
[]
[]
[]
[]
[]
[]
[]
[]
[]
[]
[]
[]
[]
[]
[]
[]
[]
[]
[]
[]
[]
[]
[]
[]
[]
[]
[]
[]
[]
[]
[]
[]
[]
[]
[]
[]
[]
[]
[]
[]
[]
[]
[]
[]
[]
[]
[]
[]
[]
[]
[]
[]
[]
[]
[]
[]
[]
[]
[]
[]
[]
[]
[]
[]
[]
[]
[]
[]
[]
[]
[]
[]
[]
[]
[]
[]
[]
[]
[]
[]
[]
[]
[]
[]
[]
[]
[]
[]
[]
[]
[]
[]
[]
[]
[]
[]
[]
[]
[]
[]
[]
[]
[]
[]
[]
[]
[]
[]
[]
[]
["synergis","synergis","synergis","synergis","synergis","synergis","synergis","synergis","synergis","synergis","synergis","synergis","synergis","synergis","synergis","synergis","synergis","synergis","synergis","synergis","synergis","synergis","synergis","synergis","synergis","synergis","synergis","synergis","synergis","synergis","synergis","synergis","synergis","synergis","synergis","synergis","synergis","synergis"]

{"sheet":"③固定残業代試算","index":2,"n_rows":31,"n_cols":14,"rows_kept":31,"cut":false,"hidden":false,"merged":[[30,12,30,21],[13,12,19,17],[6,12,10,18],[3,12,3,22],[11,13,11,21],[20,13,20,21],[24,12,24,21],[28,12,28,21]]}
[]
[null,null,null,null,null,null,null,null,null,null,"【参考】"]
[null,"ａ．最低賃金",964,null,null,null,null,null,null,null,null,"最低賃金"]
[null,null,null,null,null,null,null,null,null,null,null,null,"https://www.mhlw.go.jp/stf/seisakunitsuite/bunya/koyou_roudou/roudoukijun/minimumichiran/"]
[null,"ｂ．１カ月平均所定労働時間数",{"$f":"②年間カレンダー!AI44","v":335.99999999999994},null,"←②年間カレンダーシートより"]
[null,null,null,null,null,null,null,null,null,null,null,"手当"]
[null,"ｃ．基本給",270000,null,null,null,null,null,null,null,null,null,"※最低賃金の対象とならない賃金\n　　➀臨時に支払われる賃金（結婚手当など）\n　　➁1ヶ月を超える期間ごとに支払われる賃金（賞与など）\n　　➂時間外労働、休日労働、深夜労働に対して支払われる賃金\n　　➃精皆勤手当、通勤手当、家族手当"]
[null,"ｄ．手当（最賃対象・割増対象）",20000,null,"←住宅手当（一律支給）・役職手当"]
[null,"ｅ．手当（最賃対象外+割増対象）",10000,null,"←家族手当（一律支給）・無事故手当・精皆勤手当"]
[null,"ｆ．手当（最賃対象+割増対象外）",0,null,"←住宅手当（一律支給でない）・別居手当・子女教育手当"]
[null,"ｇ．手当（最賃対象外+割増対象外）",5000,null,"←家族手当（一律支給でない）・通勤手当・臨時・1ヶ月超"]
[null,"ｈ．合計　c＋d＋e＋f＋g",{"$f":"IFERROR(SUM(C7:C11),\"\")","v":305000},null,null,null,null,null,null,null,null,null,null,"https://www.mhlw.go.jp/www2/topics/seido/kijunkyoku/minimum/minimum-12.htm"]
[]
[null,"ｉ．最低賃金チェック　(c＋d＋f)/b",{"$f":"ROUNDDOWN((C7+C8+C10)/$C$5,0)","v":863},null,null,null,null,null,null,null,null,null,"※「割増賃金の基礎となる賃金」から除外できるもの\n　　➀家族手当\n　　➁通勤手当\n　　➂別居手当\n　　➃子女教育手当\n　　➄住宅手当\n　　➅臨時に支払われた賃金\n　　➆1か月を超える期間ごとに支払われる賃金"]
[null,"ｊ．1時間当たりの賃金額　(c＋d＋e)/b",{"$f":"ROUNDUP((C7+C8+C9)/$C$5,0)","v":893}]
[]
[null,"ｋ．固定残業代の対象とする時間",20,"時間分"]
[null,"ｌ．固定残業代",{"$f":"C15*C17*1.25","v":22325}]
[null,"ｍ．割増賃金率",{"$f":"IFERROR(C18/(C17*C15),\"\")","v":1.25}]
[]
[null,"ｎ．ｈ＋ｌ",{"$f":"IFERROR(C12+C18,\"\")","v":327325},null,null,null,null,null,null,null,null,null,null,"https://www.mhlw.go.jp/new-info/kobetu/roudou/gyousei/kantoku/040324-5.html"]
[]
[null,null,null,null,null,null,null,null,null,null,"【留意事項】"]
[null,null,null,null,null,null,null,null,null,null,null,"※ 適法に固定残業手当を導入するためには、就業規則等で手当の金額及び何時間分相当かを明確に定めてあることが必要です。"]
[null,null,null,null,null,null,null,null,null,null,null,null,"https://www.hataraku.metro.tokyo.lg.jp/koyo/hiseiki/290301_rodoyouken.pdf"]
[null,null,null,null,null,null,null,null,null,null,null,"※ 休日日数や所定労働時間数が毎年変動する場合、固定残業代も変わる恐れがあります。"]
[null,null,null,null,null,null,null,null,null,null,null,"※ 最低賃金が変わった場合、法律を満たさない場合があります。"]
[null,null,null,null,null,null,null,null,null,null,null,"※ 時間外労働をさせる場合には、36協定の締結・届け出が必要です。"]
[null,null,null,null,null,null,null,null,null,null,null,null,"https://www.startup-roudou.mhlw.go.jp/36_pact.html"]
[null,null,null,null,null,null,null,null,null,null,null,"※ 月60時間を超える時間外労働は5割以上の割増賃金が必要です（2023年4月まで中小企業については猶予中）。"]
[null,null,null,null,null,null,null,null,null,null,null,null,"https://www.mhlw.go.jp/new-info/kobetu/roudou/gyousei/kantoku/dl/091214-1_03.pdf"]

{"sheet":"注意事項","index":3,"n_rows":888888,"n_cols":26,"rows_kept":4500,"cut":true,"hidden":false,"merged":[[28,1,28,4],[27,1,27,4]],"bounds":{"rows_first":2000,"rows_last":500,"rows_between":2000,"halvings":0}}
[]
[null,"注意事項"]
[null,"・このエクセルファイルの利用は自己責任でお願いいたします。利用することで発生した損害について、弊社はいかなる責任も負いません。"]
[null,"・不具合等ございましたら、ask@synergistic.co.jpまでご連絡いただけると助かります。"]
[null,"・このエクセルファイルの著作権は株式会社シナジスに帰属します。改変、再配布等は禁止します。"]
[]
[null,"・週所定労働時間は、前月をまたぐ場合、合算しています。"]
[null,"・月所定労働時間は、その月のみとしているため、週所定労働時間の合計と合わない場合があります。"]
[]
[null,"2021年の国民の祝日"]
[null,"元日","2021-01-01",{"$f":"TEXT(C11,\"aaa\")","v":"金"}]
[null,"成人の日","2021-01-11",{"$f":"TEXT(C12,\"aaa\")","v":"月"}]
[null,"建国記念の日","2021-02-11","木"]
[null,"天皇誕生日","2021-02-23","火"]
[null,"春分の日","2021-03-20","土"]
[null,"昭和の日","2021-04-29","木"]
[null,"憲法記念日","2021-05-03","月"]
[null,"みどりの日","2021-05-04","火"]
[null,"こどもの日","2021-05-05","水"]
[null,"海の日","2021-07-22","木","7/19から変更"]
[null,"スポーツの日","2021-07-23","金","10/11から変更"]
[null,"山の日","2021-08-08","日","8/11から変更"]
[null,"休日","2021-08-09","月","祝日法第3条第2項による休日（振替休日）"]
[null,"敬老の日","2021-09-20","月"]
[null,"秋分の日","2021-09-23","木"]
[null,"文化の日","2021-11-03","水"]
[null,"勤労感謝の日","2021-11-23","火"]
[null,"https://www8.cao.go.jp/chosei/shukujitsu/gaiyou.html"]
[null,"http://www.synergistic.co.jp/国民の祝日/"]
[]
[]
[]
[]
[]
[]
[]
[]
[]
[]
[]
[]
[]
[]
[]
[]
[]
[]
[]
[]
[]
[]
[]
[]
[]
[]
[]
[]
[]
[]
[]
[]
[]
[]
[]
[]
[]
[]
[]
[]
[]
[]
[]
[]
[]
[]
[]
[]
[]
[]
[]
[]
[]
[]
[]
[]
[]
[]
[]
[]
[]
[]
[]
[]
[]
[]
[]
[]
[]
[]
[]
[]
[]
[]
[]
[]
[]
[]
[]
[]
[]
[]
[]
[]
[]
[]
[]
[]
[]
[]
[]
[]
[]
[]
[]
[]
[]
[]
[]
[]
[]
[]
[]
[]
[]
[]
[]
[]
[]
[]
[]
[]
[]
[]
[]
[]
[]
[]
[]
[]
[]
[]
[]
[]
[]
[]
[]
[]
[]
[]
[]
[]
[]
[]
[]
[]
[]
[]
[]
[]
[]
[]
[]
[]
[]
[]
[]
[]
[]
[]
[]
[]
[]
[]
[]
[]
[]
[]
[]
[]
[]
[]
[]
[]
[]
[]
[]
[]
[]
[]
[]
[]
[]
[]
[]
[]
[]
[]
[]
[]
[]
[]
[]
[]
[]
[]
[]
[]
[]
[]
[]
[]
[]
[]
[]
[]
[]
[]
[]
[]
[]
[]
[]
[]
[]
[]
[]
[]
[]
[]
[]
[]
[]
[]
[]
[]
[]
[]
[]
[]
[]
[]
[]
[]
[]
[]
[]
[]
[]
[]
[]
[]
[]
[]
[]
[]
[]
[]
[]
[]
[]
[]
[]
[]
[]
[]
[]
[]
[]
[]
[]
[]
[]
[]
[]
[]
[]
[]
[]
[]
[]
[]
[]
[]
[]
[]
[]
[]
[]
[]
[]
[]
[]
[]
[]
[]
[]
[]
[]
[]
[]
[]
[]
[]
[]
[]
[]
[]
[]
[]
[]
[]
[]
[]
[]
[]
[]
[]
[]
[]
[]
[]
[]
[]
[]
[]
[]
[]
[]
[]
[]
[]
[]
[]
[]
[]
[]
[]
[]
[]
[]
[]
[]
[]
[]
[]
[]
[]
[]
[]
[]
[]
[]
[]
[]
[]
[]
[]
[]
[]
[]
[]
[]
[]
[]
[]
[]
[]
[]
[]
[]
[]
[]
[]
[]
[]
[]
[]
[]
[]
[]
[]
[]
[]
[]
[]
[]
[]
[]
[]
[]
[]
[]
[]
[]
[]
[]
[]
[]
[]
[]
[]
[]
[]
[]
[]
[]
[]
[]
[]
[]
[]
[]
[]
[]
[]
[]
[]
[]
[]
[]
[]
[]
[]
[]
[]
[]
[]
[]
[]
[]
[]
[]
[]
[]
[]
[]
[]
[]
[]
[]
[]
[]
[]
[]
[]
[]
[]
[]
[]
[]
[]
[]
[]
[]
[]
[]
[]
[]
[]
[]
[]
[]
[]
[]
[]
[]
[]
[]
[]
[]
[]
[]
[]
[]
[]
[]
[]
[]
[]
[]
[]
[]
[]
[]
[]
[]
[]
[]
[]
[]
[]
[]
[]
[]
[]
[]
[]
[]
[]
[]
[]
[]
[]
[]
[]
[]
[]
[]
[]
[]
[]
[]
[]
[]
[]
[]
[]
[]
[]
[]
[]
[]
[]
[]
[]
[]
[]
[]
[]
[]
[]
[]
[]
[]
[]
[]
[]
[]
[]
[]
[]
[]
[]
[]
[]
[]
[]
[]
[]
[]
[]
[]
[]
[]
[]
[]
[]
[]
[]
[]
[]
[]
[]
[]
[]
[]
[]
[]
[]
[]
[]
[]
[]
[]
[]
[]
[]
[]
[]
[]
[]
[]
[]
[]
[]
[]
[]
[]
[]
[]
[]
[]
[]
[]
[]
[]
[]
[]
[]
[]
[]
[]
[]
[]
[]
[]
[]
[]
[]
[]
[]
[]
[]
[]
[]
[]
[]
[]
[]
[]
[]
[]
[]
[]
[]
[]
[]
[]
[]
[]
[]
[]
[]
[]
[]
[]
[]
[]
[]
[]
[]
[]
[]
[]
[]
[]
[]
[]
[]
[]
[]
[]
[]
[]
[]
[]
[]
[]
[]
[]
[]
[]
[]
[]
[]
[]
[]
[]
[]
[]
[]
[]
[]
[]
[]
[]
[]
[]
[]
[]
[]
[]
[]
[]
[]
[]
[]
[]
[]
[]
[]
[]
[]
[]
[]
[]
[]
[]
[]
[]
[]
[]
[]
[]
[]
[]
[]
[]
[]
[]
[]
[]
[]
[]
[]
[]
[]
[]
[]
[]
[]
[]
[]
[]
[]
[]
[]
[]
[]
[]
[]
[]
[]
[]
[]
[]
[]
[]
[]
[]
[]
[]
[]
[]
[]
[]
[]
[]
[]
[]
[]
[]
[]
[]
[]
[]
[]
[]
[]
[]
[]
[]
[]
[]
[]
[]
[]
[]
[]
[]
[]
[]
[]
[]
[]
[]
[]
[]
[]
[]
[]
[]
[]
[]
[]
[]
[]
[]
[]
[]
[]
[]
[]
[]
[]
[]
[]
[]
[]
[]
[]
[]
[]
[]
[]
[]
[]
[]
[]
[]
[]
[]
[]
[]
[]
[]
[]
[]
[]
[]
[]
[]
[]
[]
[]
[]
[]
[]
[]
[]
[]
[]
[]
[]
[]
[]
[]
[]
[]
[]
[]
[]
[]
[]
[]
[]
[]
[]
[]
[]
[]
[]
[]
[]
[]
[]
[]
[]
[]
[]
[]
[]
[]
[]
[]
[]
[]
[]
[]
[]
[]
[]
[]
[]
[]
[]
[]
[]
[]
[]
[]
[]
[]
[]
[]
[]
[]
[]
[]
[]
[]
[]
[]
[]
[]
[]
[]
[]
[]
[]
[]
[]
[]
[]
[]
[]
[]
[]
[]
[]
[]
[]
[]
[]
[]
[]
[]
[]
[]
[]
[]
[]
[]
[]
[]
[]
[]
[]
[]
[]
[]
[]
[]
[]
[]
[]
[]
[]
[]
[]
[]
[]
[]
[]
[]
[]
[]
[]
[]
[]
[]
[]
[]
[]
[]
[]
[]
[]
[]
[]
[]
[]
[]
[]
[]
[]
[]
[]
[]
[]
[]
[]
[]
[]
[]
[]
[]
[]
[]
[]
[]
[]
[]
[]
[]
[]
[]
[]
[]
[]
[]
[]
[]
[]
[]
[]
[]
[]
[]
[]
[]
[]
[]
[]
[]
[]
[]
[]
[]
[]
[]
[]
[]
[]
[]
[]
[]
[]
[]
[]
[]
[]
[]
[]
[]
[]
[]
[]
[]
[]
[]
[]
[]
[]
[]
[]
[]
[]
[]
[]
[]
[]
[]
[]
[]
[]
[]
[]
[]
[]
[]
[]
[]
[]
[]
[]
[]
[]
[]
[]
[]
[]
[]
[]
[]
[]
[]
[]
[]
[]
[]
[]
[]
[]
[]
[]
[]
[]
[]
[]
[]
[]
[]
[]
[]
[]
[]
[]
[]
[]
[]
[]
[]
[]
[]
[]
[]
[]
[]
[]
[]
[]
[]
[]
[]
[]
[]
[]
[]
[]
[]
[]
[]
[]
[]
[]
[]
[]
[]
[]
[]
[]
[]
[]
[]
[]
[]
[]
[]
[]
[]
[]
[]
[]
[]
[]
[]
[]
[]
[]
[]
[]
[]
[]
[]
[]
[]
[]
[]
[]
[]
[]
[]
[]
[]
[]
[]
[]
[]
[]
[]
[]
[]
[]
[]
[]
[]
[]
[]
[]
[]
[]
[]
[]
[]
[]
[]
[]
[]
[]
[]
[]
[]
[]
[]
[]
[]
[]
[]
[]
[]
[]
[]
[]
[]
[]
[]
[]
[]
[]
[]
[]
[]
[]
[]
[]
[]
[]
[]
[]
[]
[]
[]
[]
[]
[]
[]
[]
[]
[]
[]
[]
[]
[]
[]
[]
[]
[]
[]
[]
[]
[]
[]
[]
[]
[]
[]
[]
[]
[]
[]
[]
[]
[]
[]
[]
[]
[]
[]
[]
[]
[]
[]
[]
[]
[]
[]
[]
[]
[]
[]
[]
[]
[]
[]
[]
[]
[]
[]
[]
[]
[]
[]
[]
[]
[]
[]
[]
[]
[]
[]
[]
[]
[]
[]
[]
[]
[]
[]
[]
[]
[]
[]
[]
[]
[]
[]
[]
[]
[]
[]
[]
[]
[]
[]
[]
[]
[]
[]
[]
[]
[]
[]
[]
[]
[]
[]
[]
[]
[]
[]
[]
[]
[]
[]
[]
[]
[]
[]
[]
[]
[]
[]
[]
[]
[]
[]
[]
[]
[]
[]
[]
[]
[]
[]
[]
[]
[]
[]
[]
[]
[]
[]
[]
[]
[]
[]
[]
[]
[]
[]
[]
[]
[]
[]
[]
[]
[]
[]
[]
[]
[]
[]
[]
[]
[]
[]
[]
[]
[]
[]
[]
[]
[]
[]
[]
[]
[]
[]
[]
[]
[]
[]
[]
[]
[]
[]
[]
[]
[]
[]
[]
[]
[]
[]
[]
[]
[]
[]
[]
[]
[]
[]
[]
[]
[]
[]
[]
[]
[]
[]
[]
[]
[]
[]
[]
[]
[]
[]
[]
[]
[]
[]
[]
[]
[]
[]
[]
[]
[]
[]
[]
[]
[]
[]
[]
[]
[]
[]
[]
[]
[]
[]
[]
[]
[]
[]
[]
[]
[]
[]
[]
[]
[]
[]
[]
[]
[]
[]
[]
[]
[]
[]
[]
[]
[]
[]
[]
[]
[]
[]
[]
[]
[]
[]
[]
[]
[]
[]
[]
[]
[]
[]
[]
[]
[]
[]
[]
[]
[]
[]
[]
[]
[]
[]
[]
[]
[]
[]
[]
[]
[]
[]
[]
[]
[]
[]
[]
[]
[]
[]
[]
[]
[]
[]
[]
[]
[]
[]
[]
[]
[]
[]
[]
[]
[]
[]
[]
[]
[]
[]
[]
[]
[]
[]
[]
[]
[]
[]
[]
[]
[]
[]
[]
[]
[]
[]
[]
[]
[]
[]
[]
[]
[]
[]
[]
[]
[]
[]
[]
[]
[]
[]
[]
[]
[]
[]
[]
[]
[]
[]
[]
[]
[]
[]
[]
[]
[]
[]
[]
[]
[]
[]
[]
[]
[]
[]
[]
[]
[]
[]
[]
[]
[]
[]
[]
[]
[]
[]
[]
[]
[]
[]
[]
[]
[]
[]
[]
[]
[]
[]
[]
[]
[]
[]
[]
[]
[]
[]
[]
[]
[]
[]
[]
[]
[]
[]
[]
[]
[]
[]
[]
[]
[]
[]
[]
[]
[]
[]
[]
[]
[]
[]
[]
[]
[]
[]
[]
[]
[]
[]
[]
[]
[]
[]
[]
[]
[]
[]
[]
[]
[]
[]
[]
[]
[]
[]
[]
[]
[]
[]
[]
[]
[]
[]
[]
[]
[]
[]
[]
[]
[]
[]
[]
[]
[]
[]
[]
[]
[]
[]
[]
[]
[]
[]
[]
[]
[]
[]
[]
[]
[]
[]
[]
[]
[]
[]
[]
[]
[]
[]
[]
[]
[]
[]
[]
[]
[]
[]
[]
[]
[]
[]
[]
[]
[]
[]
[]
[]
[]
[]
[]
[]
[]
[]
[]
[]
[]
[]
[]
[]
[]
[]
[]
[]
[]
[]
[]
[]
[]
[]
[]
[]
[]
[]
[]
[]
[]
[]
[]
[]
[]
[]
[]
[]
[]
[]
[]
[]
[]
[]
[]
[]
[]
[]
[]
[]
[]
[]
[]
[]
[]
[]
[]
[]
[]
[]
[]
[]
[]
[]
[]
[]
[]
[]
[]
[]
[]
[]
[]
[]
[]
[]
[]
[]
[]
[]
[]
[]
[]
[]
[]
[]
[]
[]
[]
[]
[]
[]
[]
[]
[]
[]
[]
[]
[]
[]
[]
[]
[]
[]
[]
[]
[]
[]
[]
[]
[]
[]
[]
[]
[]
[]
[]
[]
[]
[]
[]
[]
[]
[]
[]
[]
[]
[]
[]
[]
[]
[]
[]
[]
[]
[]
[]
[]
[]
[]
[]
[]
[]
[]
[]
[]
[]
[]
[]
[]
[]
[]
[]
[]
[]
[]
[]
[]
[]
[]
[]
[]
[]
[]
[]
[]
[]
[]
[]
[]
[]
[]
[]
[]
[]
[]
[]
[]
[]
[]
[]
[]
[]
[]
[]
[]
[]
[]
[]
[]
[]
[]
[]
[]
[]
[]
[]
[]
[]
[]
[]
[]
[]
[]
[]
[]
[]
[]
[]
[]
[]
[]
[]
[]
[]
[]
[]
[]
[]
[]
[]
[]
[]
[]
[]
[]
[]
[]
[]
[]
[]
[]
[]
[]
[]
[]
[]
[]
[]
[]
[]
[]
[]
[]
[]
[]
[]
[]
[]
[]
[]
[]
[]
[]
[]
[]
[]
[]
[]
[]
[]
[]
[]
[]
[]
[]
[]
[]
[]
[]
[]
[]
[]
[]
[]
[]
[]
[]
[]
[]
[]
[]
[]
[]
[]
[]
[]
[]
[]
[]
[]
[]
[]
[]
[]
[]
[]
[]
[]
[]
[]
[]
[]
[]
[]
[]
[]
[]
[]
[]
[]
[]
[]
[]
[]
[]
[]
[]
[]
[]
[]
[]
[]
[]
[]
[]
[]
[]
[]
[]
[]
[]
[]
[]
[]
[]
[]
[]
[]
[]
[]
[]
[]
[]
[]
[]
[]
[]
[]
[]
[]
[]
[]
[]
[]
[]
[]
[]
[]
[]
[]
[]
[]
[]
[]
[]
[]
[]
[]
[]
[]
[]
[]
[]
[]
[]
[]
[]
[]
[]
[]
[]
[]
[]
[]
[]
[]
[]
[]
[]
[]
[]
[]
[]
[]
[]
[]
[]
[]
[]
[]
[]
[]
[]
[]
[]
[]
[]
[]
[]
[]
[]
[]
[]
[]
[]
[]
[]
[]
[]
[]
[]
[]
[]
[]
[]
[]
[]
[]
[]
[]
[]
[]
[]
[]
[]
[]
[]
[]
[]
[]
[]
[]
[]
[]
[]
[]
[]
[]
[]
[]
[]
[]
[]
[]
[]
[]
[]
[]
[]
[]
[]
[]
[]
[]
[]
[]
[]
[]
[]
[]
[]
[]
[]
[]
[]
[]
[]
[]
[]
[]
[]
[]
[]
[]
[]
[]
[]
[]
[]
[]
[]
[]
[]
[]
[]
[]
[]
[]
[]
[]
[]
[]
[]
[]
[]
[]
[]
[]
[]
[]
[]
[]
[]
[]
[]
[]
[]
[]
[]
[]
[]
[]
[]
[]
[]
[]
[]
[]
[]
[]
[]
[]
[]
[]
[]
[]
[]
[]
[]
[]
[]
[]
[]
[]
[]
[]
[]
[]
[]
[]
[]
[]
[]
[]
[]
[]
[]
[]
[]
[]
[]
[]
[]
[]
[]
[]
[]
[]
[]
[]
[]
[]
[]
[]
[]
[]
[]
[]
[]
[]
[]
[]
[]
[]
[]
[]
[]
[]
[]
[]
[]
[]
[]
[]
[]
[]
[]
[]
[]
[]
[]
[]
[]
[]
[]
[]
[]
[]
[]
[]
[]
[]
[]
[]
[]
[]
[]
[]
[]
[]
[]
[]
[]
[]
[]
[]
[]
[]
[]
[]
[]
[]
[]
[]
[]
[]
[]
[]
[]
[]
[]
[]
[]
[]
[]
[]
[]
[]
[]
[]
[]
[]
[]
[]
[]
[]
[]
[]
[]
[]
[]
[]
[]
[]
[]
[]
[]
[]
[]
[]
[]
[]
[]
[]
[]
[]
[]
[]
[]
[]
[]
[]
[]
[]
[]
[]
[]
[]
[]
[]
[]
[]
[]
[]
[]
[]
[]
[]
[]
[]
[]
[]
[]
[]
[]
[]
[]
[]
[]
[]
[]
[]
[]
[]
[]
[]
[]
[]
[]
[]
[]
[]
[]
[]
[]
[]
[]
[]
[]
[]
[]
[]
[]
[]
[]
[]
[]
[]
[]
[]
[]
[]
[]
[]
[]
[]
[]
[]
[]
[]
[]
[]
[]
[]
[]
[]
[]
[]
[]
[]
[]
[]
[]
[]
[]
[]
[]
[]
[]
[]
[]
[]
[]
[]
[]
[]
[]
[]
[]
[]
[]
[]
[]
[]
[]
[]
[]
[]
[]
[]
[]
[]
[]
[]
[]
[]
[]
[]
[]
[]
[]
[]
[]
[]
[]
[]
[]
[]
[]
[]
[]
[]
[]
[]
[]
[]
[]
[]
[]
[]
[]
[]
[]
[]
[]
[]
[]
[]
[]
[]
[]
[]
[]
[]
[]
[]
[]
[]
[]
[]
[]
[]
[]
[]
[]
[]
[]
[]
[]
[]
[]
[]
[]
[]
[]
[]
[]
[]
[]
[]
[]
[]
[]
[]
[]
[]
[]
[]
[]
[]
[]
[]
[]
[]
[]
[]
[]
[]
[]
[]
[]
[]
[]
[]
[]
[]
[]
[]
[]
[]
[]
[]
[]
[]
[]
[]
[]
[]
[]
[]
[]
[]
[]
[]
[]
[]
[]
[]
[]
[]
[]
[]
[]
[]
[]
[]
[]
[]
[]
[]
[]
[]
[]
[]
[]
[]
[]
[]
[]
[]
[]
[]
[]
[]
[]
[]
[]
[]
[]
[]
[]
[]
[]
[]
[]
[]
[]
[]
[]
[]
[]
[]
[]
[]
[]
[]
[]
[]
[]
[]
[]
[]
[]
[]
[]
[]
[]
[]
[]
[]
[]
[]
[]
[]
[]
[]
[]
[]
[]
[]
[]
[]
[]
[]
[]
[]
[]
[]
[]
[]
[]
[]
[]
[]
[]
[]
[]
[]
[]
[]
[]
[]
[]
[]
[]
[]
[]
[]
[]
[]
[]
[]
[]
[]
[]
[]
[]
[]
[]
[]
[]
[]
[]
[]
[]
[]
[]
[]
[]
[]
[]
[]
[]
[]
[]
[]
[]
[]
[]
[]
[]
[]
[]
[]
[]
[]
[]
[]
[]
[]
[]
[]
[]
[]
[]
[]
[]
[]
[]
[]
[]
[]
[]
[]
[]
[]
[]
[]
[]
[]
[]
[]
[]
[]
[]
[]
[]
[]
[]
[]
[]
[]
[]
[]
[]
[]
[]
[]
[]
[]
[]
[]
[]
[]
[]
[]
[]
[]
[]
[]
[]
[]
[]
[]
[]
[]
[]
[]
[]
[]
[]
[]
[]
[]
[]
[]
[]
[]
[]
[]
[]
[]
[]
[]
[]
[]
[]
[]
[]
[]
[]
[]
[]
[]
[]
[]
[]
[]
[]
[]
[]
[]
[]
[]
[]
[]
[]
[]
[]
[]
[]
[]
[]
[]
[]
[]
[]
[]
[]
[]
[]
[]
[]
[]
[]
[]
[]
[]
[]
[]
[]
[]
[]
[]
[]
[]
[]
[]
[]
[]
[]
[]
[]
[]
[]
[]
[]
[]
[]
[]
[]
[]
[]
[]
[]
[]
[]
[]
[]
[]
[]
[]
[]
[]
[]
[]
[]
[]
[]
[]
[]
[]
[]
[]
[]
[]
[]
[]
[]
[]
[]
[]
[]
[]
[]
[]
[]
[]
[]
[]
[]
[]
[]
[]
[]
[]
[]
[]
[]
[]
[]
[]
[]
[]
[]
[]
[]
[]
[]
[]
[]
[]
[]
[]
[]
[]
[]
[]
[]
[]
[]
[]
[]
[]
[]
[]
[]
[]
[]
[]
[]
[]
[]
[]
[]
[]
[]
[]
[]
[]
[]
[]
[]
[]
[]
[]
[]
[]
[]
[]
[]
[]
[]
[]
[]
[]
[]
[]
[]
[]
[]
[]
[]
[]
[]
[]
[]
[]
[]
[]
[]
[]
[]
[]
[]
[]
[]
[]
[]
[]
[]
[]
[]
[]
[]
[]
[]
[]
[]
[]
[]
[]
[]
[]
[]
[]
[]
[]
[]
[]
[]
[]
[]
[]
[]
[]
[]
[]
[]
[]
[]
[]
[]
[]
[]
[]
[]
[]
[]
[]
[]
[]
[]
[]
[]
[]
[]
[]
[]
[]
[]
[]
[]
[]
[]
[]
[]
[]
[]
[]
[]
[]
[]
[]
[]
[]
[]
[]
[]
[]
[]
[]
[]
[]
[]
[]
[]
[]
[]
[]
[]
[]
[]
[]
[]
[]
[]
[]
[]
[]
[]
[]
[]
[]
[]
[]
[]
[]
[]
[]
[]
[]
[]
[]
[]
[]
[]
[]
[]
[]
[]
[]
[]
[]
[]
[]
[]
[]
[]
[]
[]
[]
[]
[]
[]
[]
[]
[]
[]
[]
[]
[]
[]
[]
[]
[]
[]
[]
[]
[]
[]
[]
[]
[]
[]
[]
[]
[]
[]
[]
[]
[]
[]
[]
[]
[]
[]
[]
[]
[]
[]
[]
[]
[]
[]
[]
[]
[]
[]
[]
[]
[]
[]
[]
[]
[]
[]
[]
[]
[]
[]
[]
[]
[]
[]
[]
[]
[]
[]
[]
[]
[]
[]
[]
[]
[]
[]
[]
[]
[]
[]
[]
[]
[]
[]
[]
[]
[]
[]
[]
[]
[]
[]
[]
[]
[]
[]
[]
[]
[]
[]
[]
[]
[]
[]
[]
[]
[]
[]
[]
[]
[]
[]
[]
[]
[]
[]
[]
[]
[]
[]
[]
[]
[]
[]
[]
[]
[]
[]
[]
[]
[]
[]
[]
[]
[]
[]
[]
[]
[]
[]
[]
[]
[]
[]
[]
[]
[]
[]
[]
[]
[]
[]
[]
[]
[]
[]
[]
[]
[]
[]
[]
[]
[]
[]
[]
[]
[]
[]
[]
[]
[]
[]
[]
[]
[]
[]
[]
[]
[]
[]
[]
[]
[]
[]
[]
[]
[]
[]
[]
[]
[]
[]
[]
[]
[]
[]
[]
[]
[]
[]
[]
[]
[]
[]
[]
[]
[]
[]
[]
[]
[]
[]
[]
[]
[]
[]
[]
[]
[]
[]
[]
[]
[]
[]
[]
[]
[]
[]
[]
[]
[]
[]
[]
[]
[]
[]
[]
[]
[]
[]
[]
[]
[]
[]
[]
[]
[]
[]
[]
[]
[]
[]
[]
[]
[]
[]
[]
[]
[]
[]
[]
[]
[]
[]
[]
[]
[]
[]
[]
[]
[]
[]
[]
[]
[]
[]
[]
[]
[]
[]
[]
[]
[]
[]
[]
[]
[]
[]
[]
[]
[]
[]
[]
[]
[]
[]
[]
[]
[]
[]
[]
[]
[]
[]
[]
[]
[]
[]
[]
[]
[]
[]
[]
[]
[]
[]
[]
[]
[]
[]
[]
[]
[]
[]
[]
[]
[]
[]
[]
[]
[]
[]
[]
[]
[]
[]
[]
[]
[]
[]
[]
[]
[]
[]
[]
[]
[]
[]
[]
[]
[]
[]
[]
[]
[]
[]
[]
[]
[]
[]
[]
[]
[]
[]
[]
[]
[]
[]
[]
[]
[]
[]
[]
[]
[]
[]
[]
[]
[]
[]
[]
[]
[]
[]
[]
[]
[]
[]
[]
[]
[]
[]
[]
[]
[]
[]
[]
[]
[]
[]
[]
[]
[]
[]
[]
[]
[]
[]
[]
[]
[]
[]
[]
[]
[]
[]
[]
[]
[]
[]
[]
[]
[]
[]
[]
[]
[]
[]
[]
[]
[]
[]
[]
[]
[]
[]
[]
[]
[]
[]
[]
[]
[]
[]
[]
[]
[]
[]
[]
[]
[]
[]
[]
[]
[]
[]
[]
[]
[]
[]
[]
[]
[]
[]
[]
[]
[]
[]
[]
[]
[]
[]
[]
[]
[]
[]
[]
[]
[]
[]
[]
[]
[]
[]
[]
[]
[]
[]
[]
[]
[]
[]
[]
[]
[]
[]
[]
[]
[]
[]
[]
[]
[]
[]
[]
[]
[]
[]
[]
[]
[]
[]
[]
[]
[]
[]
[]
[]
[]
[]
[]
[]
[]
[]
[]
[]
[]
[]
[]
[]
[]
[]
[]
[]
[]
[]
[]
[]
[]
[]
[]
[]
[]
[]
[]
[]
[]
[]
[]
[]
[]
[]
[]
[]
[]
[]
[]
[]
[]
[]
[]
[]
[]
[]
[]
[]
[]
[]
[]
[]
[]
[]
[]
[]
[]
[]
[]
[]
[]
[]
[]
[]
[]
[]
[]
[]
[]
[]
[]
[]
[]
[]
[]
[]
[]
[]
[]
[]
[]
[]
[]
[]
[]
[]
[]
[]
[]
[]
[]
[]
[]
[]
[]
[]
[]
[]
[]
[]
[]
[]
[]
[]
[]
[]
[]
[]
[]
[]
[]
[]
[]
[]
[]
[]
[]
[]
[]
[]
[]
[]
[]
[]
[]
[]
[]
[]
[]
[]
[]
[]
[]
[]
[]
[]
[]
[]
[]
[]
[]
[]
[]
[]
[]
[]
[]
[]
[]
[]
[]
[]
[]
[]
[]
[]
[]
[]
[]
[]
[]
[]
[]
[]
[]
[]
[]
[]
[]
[]
[]
[]
[]
[]
[]
[]
[]
[]
[]
[]
[]
[]
[]
[]
[]
[]
[]
[]
[]
[]
[]
[]
[]
[]
[]
[]
[]
[]
[]
[]
[]
[]
[]
[]
[]
[]
[]
[]
[]
[]
[]
[]
[]
[]
[]
[]
[]
[]
[]
[]
[]
[]
[]
[]
[]
[]
[]
[]
[]
[]
[]
[]
[]
[]
[]
[]
[]
[]
[]
[]
[]
[]
[]
[]
[]
[]
[]
[]
[]
[]
[]
[]
[]
[]
[]
[]
[]
[]
[]
[]
[]
[]
[]
[]
[]
[]
[]
[]
[]
[]
[]
[]
[]
[]
[]
[]
[]
[]
[]
[]
[]
[]
[]
[]
[]
[]
[]
[]
[]
[]
[]
[]
[]
[]
[]
[]
[]
[]
[]
[]
[]
[]
[]
[]
[]
[]
[]
[]
[]
[]
[]
[]
[]
[]
[]
[]
[]
[]
[]
[]
[]
[]
[]
[]
[]
[]
[]
[]
[]
[]
[]
[]
[]
[]
[]
[]
[]
[]
[]
[]
[]
[]
[]
[]
[]
[]
[]
[]
[]
[]
[]
[]
[]
[]
[]
[]
[]
[]
[]
[]
[]
[]
[]
[]
[]
[]
[]
[]
[]
[]
[]
[]
[]
[]
[]
[]
[]
[]
[]
[]
[]
[]
[]
[]
[]
[]
[]
[]
[]
[]
[]
[]
[]
[]
[]
[]
[]
[]
[]
[]
[]
[]
[]
[]
[]
[]
[]
[]
[]
[]
[]
[]
[]
[]
[]
[]
[]
[]
[]
[]
[]
[]
[]
[]
[]
[]
[]
[]
[]
[]
[]
[]
[]
[]
[]
[]
[]
[]
[]
[]
[]
[]
[]
[]
[]
[]
[]
[]
[]
[]
[]
[]
[]
[]
[]
[]
[]
[]
[]
[]
[]
[]
[]
[]
[]
[]
[]
[]
[]
[]
[]
[]
[]
[]
[]
[]
[]
[]
[]
[]
[]
[]
[]
[]
[]
[]
[]
[]
[]
[]
[]
[]
[]
[]
[]
[]
[]
[]
[]
[]
[]
[]
[]
[]
[]
[]
[]
[]
[]
[]
[]
[]
[]
[]
[]
[]
[]
[]
[]
[]
[]
[]
[]
[]
[]
[]
[]
[]
[]
[]
[]
[]
[]
[]
[]
[]
[]
[]
[]
[]
[]
[]
[]
[]
[]
[]
[]
[]
[]
[]
[]
[]
[]
[]
[]
[]
[]
[]
[]
[]
[]
[]
[]
[]
[]
[]
[]
[]
[]
[]
[]
[]
[]
[]
[]
[]
[]
[]
[]
[]
[]
[]
[]
[]
[]
[]
[]
[]
[]
[]
[]
[]
[]
[]
[]
[]
[]
[]
[]
[]
[]
[]
[]
[]
[]
[]
[]
[]
[]
[]
[]
[]
[]
[]
[]
[]
[]
[]
[]
[]
[]
[]
[]
[]
[]
[]
[]
[]
[]
[]
[]
[]
[]
[]
[]
[]
[]
[]
[]
[]
[]
[]
[]
[]
[]
[]
[]
[]
[]
[]
[]
[]
[]
[]
[]
[]
[]
[]
[]
[]
[]
[]
[]
[]
[]
[]
[]
[]
[]
[]
[]
[]
[]
[]
[]
[]
[]
[]
[]
[]
[]
[]
[]
[]
[]
[]
[]
[]
[]
[]
[]
[]
[]
[]
[]
[]
[]
[]
[]
[]
[]
[]
[]
[]
[]
[]
[]
[]
[]
[]
[]
[]
[]
[]
[]
[]
[]
[]
[]
[]
[]
[]
[]
[]
[]
[]
[]
[]
[]
[]
[]
[]
[]
[]
[]
[]
[]
[]
[]
[]
[]
[]
[]
[]
[]
[]
[]
[]
[]
[]
[]
[]
[]
[]
[]
[]
[]
[]
[]
[]
[]
[]
[]
[]
[]
[]
[]
[]
[]
[]
[]
[]
[]
[]
[]
[]
[]
[]
[]
[]
[]
[]
[]
[]
[]
[]
[]
[]
[]
[]
[]
[]
["synergis","synergis","synergis","synergis","synergis","synergis","synergis","synergis","synergis","synergis","synergis","synergis","synergis","synergis","synergis","synergis","synergis","synergis","synergis","synergis","synergis","synergis","synergis","synergis","synergis","synergis"]

{"sheet":"マスター","index":4,"n_rows":33,"n_cols":16,"rows_kept":33,"cut":false,"hidden":true,"merged":[]}
[]
[]
[null,"一般","適用なし",2019,1,1,"日",null,null,{"$f":"①初期設定!$D$30","v":0.33333333333333331},{"$f":"①初期設定!$E$30","v":0.33333333333333331},{"$f":"①初期設定!$F$30","v":0.33333333333333331},{"$f":"①初期設定!$G$30","v":0.33333333333333331},{"$f":"①初期設定!$H$30","v":0.33333333333333331},{"$f":"①初期設定!$I$30","v":0.33333333333333331},{"$f":"①初期設定!$J$30","v":0.33333333333333331}]
[null,"特例措置対象事業場","１カ月変形",2020,2,2,"月"]
[null,null,"１年変形",2021,3,3,"火"]
[null,null,null,null,4,4,"水"]
[null,null,null,null,5,5,"木"]
[null,null,null,null,6,6,"金"]
[null,null,null,null,7,7,"土"]
[null,null,null,null,8,8]
[null,null,null,null,9,9]
[null,null,null,null,10,10]
[null,null,null,null,11,11]
[null,null,null,null,12,12]
[null,null,null,null,null,13]
[null,null,null,null,null,14]
[null,null,null,null,null,15]
[null,null,null,null,null,16]
[null,null,null,null,null,17]
[null,null,null,null,null,18]
[null,null,null,null,null,19]
[null,null,null,null,null,20]
[null,null,null,null,null,21]
[null,null,null,null,null,22]
[null,null,null,null,null,23]
[null,null,null,null,null,24]
[null,null,null,null,null,25]
[null,null,null,null,null,26]
[null,null,null,null,null,27]
[null,null,null,null,null,28]
[null,null,null,null,null,29]
[null,null,null,null,null,30]
[null,null,null,null,null,31]